BEGIN:VCALENDAR
VERSION:2.0
PRODID:-//American Young Coder - ECPv6.10.1.1//NONSGML v1.0//EN
CALSCALE:GREGORIAN
METHOD:PUBLISH
X-WR-CALNAME:American Young Coder
X-ORIGINAL-URL:https://www.ayclogic.com
X-WR-CALDESC:Events for American Young Coder
REFRESH-INTERVAL;VALUE=DURATION:PT1H
X-Robots-Tag:noindex
X-PUBLISHED-TTL:PT1H
BEGIN:VTIMEZONE
TZID:America/Los_Angeles
BEGIN:DAYLIGHT
TZOFFSETFROM:-0800
TZOFFSETTO:-0700
TZNAME:PDT
DTSTART:20230312T100000
END:DAYLIGHT
BEGIN:STANDARD
TZOFFSETFROM:-0700
TZOFFSETTO:-0800
TZNAME:PST
DTSTART:20231105T090000
END:STANDARD
END:VTIMEZONE
BEGIN:VEVENT
DTSTART;TZID=America/Los_Angeles:20230321T170000
DTEND;TZID=America/Los_Angeles:20230321T180000
DTSTAMP:20260423T063513
CREATED:20230322T022539Z
LAST-MODIFIED:20230322T022539Z
UID:18591-1679418000-1679421600@www.ayclogic.com
SUMMARY:5 PM – Intro To Python – Shawn
DESCRIPTION:What we did\n\nQuiz review\nIntro to functions\n\nHomework\n\nName your file Mar19_FunctionNoReturnValueHomework.py\nCopy codes from page 130 to 133 in the textbook\nhttps://www.ayclogic.com/list-inputs-if-and-else-loops-and-function/ number 4 to 6.\n\nIf you have any questions\, don’t hesitate to email me at szhuang@ayclogic.com.
URL:https://www.ayclogic.com/event/5-pm-intro-to-python-shawn-15/
END:VEVENT
BEGIN:VEVENT
DTSTART;TZID=America/Los_Angeles:20230321T180000
DTEND;TZID=America/Los_Angeles:20230321T190000
DTSTAMP:20260423T063513
CREATED:20230322T021300Z
LAST-MODIFIED:20230322T021300Z
UID:18593-1679421600-1679425200@www.ayclogic.com
SUMMARY:6:00 PM – Scratch 2 – Yitong
DESCRIPTION:Today we:\n\nAdded the Player and Apple sprite collision.\nMade the Players’ health go up once they touch the Apple sprite.\nAdded code to make the Star sprite show up randomly and disappear when it touches the Left Player sprite.\nAdded the Left Player Ultimate variable.\nMade the Left Player sprite change colors when it receives a message from the Star sprite.\n\nHomework:\n\nMake a Right Player Ultimate variable.\nWhen the Star sprite touches the Right Player sprite\, it broadcasts a message to tell the Right Player to start changing colors and makes the Right Player Ultimate variable go up by 1.\nWhen the Right Player sprite receives the message from the Star sprite\, it will repeatedly change colors until the Right Player Ultimate variable is 0. When the Right Player Ultimate variable is 0\, clear all the colors from the Right Player sprite.\nWhen the V key is pressed\, if the Left Player Ultimate variable is 1 then create a clone of the Left Player Ultimate sprite and set the Left Player Ultimate variable to 0.\nWhen the N key is pressed\, if the Right Player Ultimate variable is 1 then create a clone of the Right Player Ultimate sprite and set the Right Player Ultimate variable to 0.\n\nTurn in your homework here: yitong@ayclogic.com
URL:https://www.ayclogic.com/event/600-pm-scratch-2-yitong-6/
CATEGORIES:Scratch Class,Scratch Class Level 2
END:VEVENT
BEGIN:VEVENT
DTSTART;TZID=America/Los_Angeles:20230321T180000
DTEND;TZID=America/Los_Angeles:20230321T190000
DTSTAMP:20260423T063513
CREATED:20230322T022543Z
LAST-MODIFIED:20230322T022543Z
UID:18592-1679421600-1679425200@www.ayclogic.com
SUMMARY:6 PM – Intro To Python – Shawn
DESCRIPTION:What we did\n\nHomework review\nIf else/Input from shell review\n\nHomework\n\nCreate a file named Mar21_InputHomework2.py\nOn page 117\, do the TRY IT YOURSELF: 7-1\, 7-2\nTell Me Your Age homework ONLY number 1\n\nIf you have any questions\, don’t hesitate to email me at szhuang@ayclogic.com.
URL:https://www.ayclogic.com/event/6-pm-intro-to-python-shawn-6/
END:VEVENT
BEGIN:VEVENT
DTSTART;TZID=America/Los_Angeles:20230321T180000
DTEND;TZID=America/Los_Angeles:20230321T190000
DTSTAMP:20260423T063513
CREATED:20230324T003935Z
LAST-MODIFIED:20230324T003935Z
UID:18629-1679421600-1679425200@www.ayclogic.com
SUMMARY:6 PM - Scratch 1 - Abigail
DESCRIPTION:What we did today\n\nWe worked on the Animal Race project.\n\nHomework\n\nDo page 55 on you pink Scratch book.\n\n \nIf you need help\, email me at abigail@ayclogic.com.
URL:https://www.ayclogic.com/event/6-pm-scratch-1-abigail-3/
CATEGORIES:Scratch Class,Scratch Class Level 1
END:VEVENT
BEGIN:VEVENT
DTSTART;TZID=America/Los_Angeles:20230321T183000
DTEND;TZID=America/Los_Angeles:20230321T193000
DTSTAMP:20260423T063513
CREATED:20230322T075735Z
LAST-MODIFIED:20230322T075735Z
UID:18612-1679423400-1679427000@www.ayclogic.com
SUMMARY:6:30 PM – Scratch 1 – Allison
DESCRIPTION:Today we:\n\nCoded the Pow sprite to go to random spots\nCoded the Boxing Glove sprite to forever follow the mouse\nCoded the Face and Eye sprite to move back and forth if the mouse touches the Eye sprite\nFinished the Punch Dummy Project\nStarted the Virtual Snow project\nCoded the Snowflake sprite to forever create clones\nCoded the Snowflake clones to have a random size and forever move down\n\nImportant Reminders:\n\nAfter you finish your homework in Scratch\, send an email to allison@ayclogic.com by Monday at 8 PM. In that email\, write down your name and a link to your shared Scratch project homework. Make sure to share your Scratch project.\n\nHomework:\n\nCode the Snowflake sprite to hide\nRead and do the codes in the Scratch Book Pg. 148\nContact us if you have any questions or need any help
URL:https://www.ayclogic.com/event/630-pm-scratch-1-allison-3/
CATEGORIES:Scratch Class,Scratch Class Level 1
END:VEVENT
BEGIN:VEVENT
DTSTART;TZID=America/Los_Angeles:20230321T183000
DTEND;TZID=America/Los_Angeles:20230321T193000
DTSTAMP:20260423T063513
CREATED:20230323T023049Z
LAST-MODIFIED:20230323T023049Z
UID:18617-1679423400-1679427000@www.ayclogic.com
SUMMARY:6:30 PM – Python Object Oriented Programming – Sebastian
DESCRIPTION:Today We Did\n\nContinued creating the SchoolApplication program\nAdded Staff class and functions to add\, list\, and find new staff members\nIn case you need anything\, feel free to email me at sebastian@ayclogic.com\n\nHomework\n\nName your homework MAR21_schoolapp_hw\, please submit by next Monday.\nHomework: Create the following functions in the SchoolApplication class we made during class\, and make them work the way their other version does:\na) find_staff(): make it work the way our find_staff_using_dictionary function worked\, but with a list \nb) list_all_staff_using_dictionary(): make it work the way out list_all_staff_using_list function worked\, but with a dictionary
URL:https://www.ayclogic.com/event/630-pm-python-object-oriented-programming-sebastian-10/
CATEGORIES:OOP Python,Python Class
END:VEVENT
END:VCALENDAR