BEGIN:VCALENDAR
VERSION:2.0
PRODID:-//American Young Coder - ECPv6.10.1.1//NONSGML v1.0//EN
CALSCALE:GREGORIAN
METHOD:PUBLISH
X-ORIGINAL-URL:https://www.ayclogic.com
X-WR-CALDESC:Events for American Young Coder
REFRESH-INTERVAL;VALUE=DURATION:PT1H
X-Robots-Tag:noindex
X-PUBLISHED-TTL:PT1H
BEGIN:VTIMEZONE
TZID:America/Los_Angeles
BEGIN:DAYLIGHT
TZOFFSETFROM:-0800
TZOFFSETTO:-0700
TZNAME:PDT
DTSTART:20230312T100000
END:DAYLIGHT
BEGIN:STANDARD
TZOFFSETFROM:-0700
TZOFFSETTO:-0800
TZNAME:PST
DTSTART:20231105T090000
END:STANDARD
END:VTIMEZONE
BEGIN:VEVENT
DTSTART;TZID=America/Los_Angeles:20230324T170000
DTEND;TZID=America/Los_Angeles:20230324T180000
DTSTAMP:20260423T063950
CREATED:20230324T234312Z
LAST-MODIFIED:20230324T234312Z
UID:18644-1679677200-1679680800@www.ayclogic.com
SUMMARY:5 PM – Intro To Python – Shawn
DESCRIPTION:What we did\n\nHomework review\nIf else/Input from shell review\n\nHomework\n\nCreate a file named Mar21_InputHomework2.py\nOn page 117\, do the TRY IT YOURSELF: 7-1\, 7-2\nTell Me Your Age homework ONLY number 1\n\nIf you have any questions\, don’t hesitate to email me at szhuang@ayclogic.com.
URL:https://www.ayclogic.com/event/5-pm-intro-to-python-shawn-16/
END:VEVENT
BEGIN:VEVENT
DTSTART;TZID=America/Los_Angeles:20230324T170000
DTEND;TZID=America/Los_Angeles:20230324T180000
DTSTAMP:20260423T063950
CREATED:20230325T005112Z
LAST-MODIFIED:20230325T005112Z
UID:18646-1679677200-1679680800@www.ayclogic.com
SUMMARY:5 PM - Intro To Java - Alex Lee
DESCRIPTION:Today We Did:\n\nWent over the Magic8BallUsingMethods code\nStated the school application project\nCreated the school system and learned about classes.\n\nFor Homework:\n\nCreate another option for adding in the teacher.\nYou should create a teacher list and also the teacher class.\nFollow the similar steps to what we did today in class.
URL:https://www.ayclogic.com/event/5-pm-intro-to-java-alex-lee-5/
CATEGORIES:Introduction To Java,Java
END:VEVENT
BEGIN:VEVENT
DTSTART;TZID=America/Los_Angeles:20230324T173000
DTEND;TZID=America/Los_Angeles:20230324T183000
DTSTAMP:20260423T063950
CREATED:20230325T020852Z
LAST-MODIFIED:20230325T020852Z
UID:18648-1679679000-1679682600@www.ayclogic.com
SUMMARY:5:30 PM - Python Game Development - Bill
DESCRIPTION:Your HW:\n\nContinue to work on your projects\nAdjust your weekly goals
URL:https://www.ayclogic.com/event/530-pm-python-game-development-bill-20/
END:VEVENT
END:VCALENDAR