BEGIN:VCALENDAR
VERSION:2.0
PRODID:-//American Young Coder - ECPv6.10.1.1//NONSGML v1.0//EN
CALSCALE:GREGORIAN
METHOD:PUBLISH
X-ORIGINAL-URL:https://www.ayclogic.com
X-WR-CALDESC:Events for American Young Coder
REFRESH-INTERVAL;VALUE=DURATION:PT1H
X-Robots-Tag:noindex
X-PUBLISHED-TTL:PT1H
BEGIN:VTIMEZONE
TZID:America/Los_Angeles
BEGIN:DAYLIGHT
TZOFFSETFROM:-0800
TZOFFSETTO:-0700
TZNAME:PDT
DTSTART:20230312T100000
END:DAYLIGHT
BEGIN:STANDARD
TZOFFSETFROM:-0700
TZOFFSETTO:-0800
TZNAME:PST
DTSTART:20231105T090000
END:STANDARD
END:VTIMEZONE
BEGIN:VEVENT
DTSTART;TZID=America/Los_Angeles:20230328T170000
DTEND;TZID=America/Los_Angeles:20230328T180000
DTSTAMP:20260423T052137
CREATED:20230329T024138Z
LAST-MODIFIED:20230329T024138Z
UID:18708-1680022800-1680026400@www.ayclogic.com
SUMMARY:5 PM - Python OOP - Gamas
DESCRIPTION:Today We Did\n\nWe setup Pycharm\nWe started learning dictionary.\n\nHomework\n\nCreate March28_DictionaryHW.py\nCopy codes from page 92 to 95.\nDo Try It Yourself page 99.
URL:https://www.ayclogic.com/event/5-pm-python-oop-gamas-2/
CATEGORIES:OOP Python,Python Class
END:VEVENT
BEGIN:VEVENT
DTSTART;TZID=America/Los_Angeles:20230328T180000
DTEND;TZID=America/Los_Angeles:20230328T190000
DTSTAMP:20260423T052137
CREATED:20230329T004856Z
LAST-MODIFIED:20230329T004856Z
UID:18698-1680026400-1680030000@www.ayclogic.com
SUMMARY:6 PM – Intro To Python – Shawn
DESCRIPTION:What we did\n\nHomework review\nList intro\n\nHomework\n\nCreate a file named Mar28_ListHomework.py\nCopy pages 38 to 41 from the textbook\n\nIf you have any questions\, don’t hesitate to email me at szhuang@ayclogic.com.
URL:https://www.ayclogic.com/event/6-pm-intro-to-python-shawn-7/
END:VEVENT
BEGIN:VEVENT
DTSTART;TZID=America/Los_Angeles:20230328T180000
DTEND;TZID=America/Los_Angeles:20230328T190000
DTSTAMP:20260423T052137
CREATED:20230329T021607Z
LAST-MODIFIED:20230329T021607Z
UID:18702-1680026400-1680030000@www.ayclogic.com
SUMMARY:6 PM - Scratch 1 - Abigail
DESCRIPTION:What we did today\n\nWe finished working on the Animal Race project.\n\nHomework\n\nMake the “Bat Win Banner” sprite appear after the Bat touches the finish line. (Look at your Dog sprite and “Dog Win Banner” for reference.)\nOptional: Customize your banners by changing their colors\, fonts\, designs\, etc.
URL:https://www.ayclogic.com/event/6-pm-scratch-1-abigail-4/
CATEGORIES:Scratch Class,Scratch Class Level 1
END:VEVENT
BEGIN:VEVENT
DTSTART;TZID=America/Los_Angeles:20230328T180000
DTEND;TZID=America/Los_Angeles:20230328T190000
DTSTAMP:20260423T052137
CREATED:20230329T022646Z
LAST-MODIFIED:20230329T022714Z
UID:18700-1680026400-1680030000@www.ayclogic.com
SUMMARY:6:00 PM – Scratch 2 – Yitong
DESCRIPTION:Today we:\n\nAdded code to check for the Left Player’s health.\nMade the Win Banner sprite.\n\nHomework:\n\nIn the GameLoop sprite\, check if the Right Player’s health is 0 or below. If it is\, then broadcast the message “Left Player Wins” and stop the script.\nIn the Win Banner sprite\, when the game starts the sprite needs to hide. When it receives the “Left Player Wins” message\, you need to switch to the “Left Player Wins” costume and make the sprite show up. When it receives the “Right Player Wins” message\, you need to switch to the “Right Player Wins” costume and make the sprite show up.\n\nTurn in your homework here: yitong@ayclogic.com
URL:https://www.ayclogic.com/event/600-pm-scratch-2-yitong-7/
CATEGORIES:Scratch Class,Scratch Class Level 2
END:VEVENT
BEGIN:VEVENT
DTSTART;TZID=America/Los_Angeles:20230328T183000
DTEND;TZID=America/Los_Angeles:20230328T193000
DTSTAMP:20260423T052137
CREATED:20230329T023647Z
LAST-MODIFIED:20230329T023647Z
UID:18706-1680028200-1680031800@www.ayclogic.com
SUMMARY:6:30 PM – Python Object Oriented Programming – Sebastian
DESCRIPTION:Today We Did\n\nAdded teacher class and methods to school application project\nIn case you need anything\, feel free to email me at sebastian@ayclogic.com\n\nHomework\n\nName your homework MAR28_schoolapp_hw\, please submit by next Monday.\nHomework: Complete the following methods:\na) find_teacher_using_list()\nb) find_teacher_using_dictionary()
URL:https://www.ayclogic.com/event/630-pm-python-object-oriented-programming-sebastian-11/
CATEGORIES:OOP Python,Python Class
END:VEVENT
BEGIN:VEVENT
DTSTART;TZID=America/Los_Angeles:20230328T183000
DTEND;TZID=America/Los_Angeles:20230328T193000
DTSTAMP:20260423T052137
CREATED:20230329T024605Z
LAST-MODIFIED:20230329T024605Z
UID:18710-1680028200-1680031800@www.ayclogic.com
SUMMARY:6:30 PM – Scratch 1 – Allison
DESCRIPTION:Today we:\n\nContinued the Virtual Snow project\nCoded the Snowflake clones to leave stamps\nRandomized the chances of the Snowflake clones leaving a stamp\n\nImportant Reminders:\n\nAfter you finish your homework in Scratch\, send an email to allison@ayclogic.com by Monday at 8 PM. In that email\, write down your name and a link to your shared Scratch project homework. Make sure to share your Scratch project.\n\nHomework:\n\nAdd a Snowman sprite\nCode the Snowman sprite to go to the front layer\nRead and do the codes in the Scratch Book Pg. 150 Step #15\nContact us if you have any questions or need any help
URL:https://www.ayclogic.com/event/630-pm-scratch-1-allison-4/
CATEGORIES:Scratch Class,Scratch Class Level 1
END:VEVENT
END:VCALENDAR