BEGIN:VCALENDAR
VERSION:2.0
PRODID:-//American Young Coder - ECPv6.10.1.1//NONSGML v1.0//EN
CALSCALE:GREGORIAN
METHOD:PUBLISH
X-WR-CALNAME:American Young Coder
X-ORIGINAL-URL:https://www.ayclogic.com
X-WR-CALDESC:Events for American Young Coder
REFRESH-INTERVAL;VALUE=DURATION:PT1H
X-Robots-Tag:noindex
X-PUBLISHED-TTL:PT1H
BEGIN:VTIMEZONE
TZID:America/Los_Angeles
BEGIN:DAYLIGHT
TZOFFSETFROM:-0800
TZOFFSETTO:-0700
TZNAME:PDT
DTSTART:20230312T100000
END:DAYLIGHT
BEGIN:STANDARD
TZOFFSETFROM:-0700
TZOFFSETTO:-0800
TZNAME:PST
DTSTART:20231105T090000
END:STANDARD
END:VTIMEZONE
BEGIN:VEVENT
DTSTART;TZID=America/Los_Angeles:20230330T160000
DTEND;TZID=America/Los_Angeles:20230330T170000
DTSTAMP:20260423T052636
CREATED:20230331T001410Z
LAST-MODIFIED:20230331T001410Z
UID:18723-1680192000-1680195600@www.ayclogic.com
SUMMARY:4 PM – Scratch 1 – Abigail
DESCRIPTION:What we did today\n\nWe finished finding the X and Y coordinates for the shapes.\nWe started the Drawing Shapes on Grid project.\n\nHomework\n\nMemorize the four red coordinates below.\nMemorize the coordinates for the center of the screen: (0\, 0).\n\n \nIf you need help\, email me at abigail@ayclogic.com. (Please send me the questions several days in advance). Or text Mr. Gamas Chang at 626-532-7844.
URL:https://www.ayclogic.com/event/4-pm-scratch-1-abigail-8/
CATEGORIES:Scratch Class,Scratch Class Level 1
END:VEVENT
BEGIN:VEVENT
DTSTART;TZID=America/Los_Angeles:20230330T190000
DTEND;TZID=America/Los_Angeles:20230330T200000
DTSTAMP:20260423T052636
CREATED:20230331T025607Z
LAST-MODIFIED:20230331T025607Z
UID:18726-1680202800-1680206400@www.ayclogic.com
SUMMARY:7 PM Intro To Java - Alex Lee
DESCRIPTION:Today We Did:\n\nFinished up the Monster Inheritance project\nCreated two more classes\, the troll\, and the goblin\nAdded in the option to heal the monster\, and override it in each of the classes.\n\nFor Homework:\n\nDownload Android Studio before the next class since that is where we will be doing the project the next few classes.\nHere is where you can download it\, just scroll down to find the link to it: https://developer.android.com/studio
URL:https://www.ayclogic.com/event/7-pm-intro-to-java-alex-lee-4/
CATEGORIES:Introduction To Java,Java
END:VEVENT
BEGIN:VEVENT
DTSTART;TZID=America/Los_Angeles:20230330T190000
DTEND;TZID=America/Los_Angeles:20230330T200000
DTSTAMP:20260423T052636
CREATED:20230401T205621Z
LAST-MODIFIED:20230401T210216Z
UID:18746-1680202800-1680206400@www.ayclogic.com
SUMMARY:7:00 PM - Scratch 1 - Juan
DESCRIPTION:Today We Did\n\nFinished Dino Dance project\nIn case you need anything\, feel free to email me at juan@ayclogic.com\n\nHomework\n\nScratch pg. 48-52\nShare your project\, and email the link to juan@ayclogic.com
URL:https://www.ayclogic.com/event/700-pm-scratch-1-juan/
CATEGORIES:Scratch Class,Scratch Class Level 1
END:VEVENT
BEGIN:VEVENT
DTSTART;TZID=America/Los_Angeles:20230330T190000
DTEND;TZID=America/Los_Angeles:20230330T200000
DTSTAMP:20260423T052636
CREATED:20230404T043258Z
LAST-MODIFIED:20230404T043258Z
UID:18795-1680202800-1680206400@www.ayclogic.com
SUMMARY:7PM - Python Game Development - Latisha
DESCRIPTION:Today We Did\n\nKeep working on Birdie Game\n\nHomework\n\nMake create_cloud() in main.py like how we made create_bird()\, but create a cloud every 50 seconds. Set the timer value in config.py\n\nIf you have any questions\, you can ask me at latisha@ayclogic.com.
URL:https://www.ayclogic.com/event/7pm-python-game-development-latisha-13/
END:VEVENT
END:VCALENDAR