BEGIN:VCALENDAR
VERSION:2.0
PRODID:-//American Young Coder - ECPv6.10.1.1//NONSGML v1.0//EN
CALSCALE:GREGORIAN
METHOD:PUBLISH
X-ORIGINAL-URL:https://www.ayclogic.com
X-WR-CALDESC:Events for American Young Coder
REFRESH-INTERVAL;VALUE=DURATION:PT1H
X-Robots-Tag:noindex
X-PUBLISHED-TTL:PT1H
BEGIN:VTIMEZONE
TZID:America/Los_Angeles
BEGIN:DAYLIGHT
TZOFFSETFROM:-0800
TZOFFSETTO:-0700
TZNAME:PDT
DTSTART:20230312T100000
END:DAYLIGHT
BEGIN:STANDARD
TZOFFSETFROM:-0700
TZOFFSETTO:-0800
TZNAME:PST
DTSTART:20231105T090000
END:STANDARD
END:VTIMEZONE
BEGIN:VEVENT
DTSTART;TZID=America/Los_Angeles:20230331T170000
DTEND;TZID=America/Los_Angeles:20230331T180000
DTSTAMP:20260423T052136
CREATED:20230401T005633Z
LAST-MODIFIED:20230402T013804Z
UID:18729-1680282000-1680285600@www.ayclogic.com
SUMMARY:5 PM – Intro To Python – Shawn
DESCRIPTION:What we did\n\nHomework review\nList intro\n\nHomework\n\nCreate a file named Mar31_ListHomework.py\nCopy pages 38 to 41 from the textbook\nIMPORTANT: I forgot to mention this in class\, but we don’t have class next week due to Easter holiday! This will be due in two weeks. Have a good break!\n\nIf you have any questions\, don’t hesitate to email me at szhuang@ayclogic.com.
URL:https://www.ayclogic.com/event/5-pm-intro-to-python-shawn-17/
END:VEVENT
BEGIN:VEVENT
DTSTART;TZID=America/Los_Angeles:20230331T170000
DTEND;TZID=America/Los_Angeles:20230331T180000
DTSTAMP:20260423T052136
CREATED:20230402T013256Z
LAST-MODIFIED:20230406T001941Z
UID:18767-1680282000-1680285600@www.ayclogic.com
SUMMARY:5 PM - Intro To Java - Alex Lee
DESCRIPTION:Today We Did:\n\nWe continued with the School System project.\nAdded in listing out all of the students\, teachers\, and started finding the student.\nWe also were able to load in the students so that we could test our code.\n\nFor Homework:\n\nThere is no class this coming week on April 7 due to Easter Weekend.\nJust like how we loaded in 4 students\, for homework load in 3 different teachers.\nIt is up to you what name and other information that you give the teachers\, just make them all different.\nAlso\, attempt to figure out how we can check to see if we are unable to find the student with their first and last name.
URL:https://www.ayclogic.com/event/5-pm-intro-to-java-alex-lee-6/
CATEGORIES:Introduction To Java,Java
END:VEVENT
BEGIN:VEVENT
DTSTART;TZID=America/Los_Angeles:20230331T173000
DTEND;TZID=America/Los_Angeles:20230331T183000
DTSTAMP:20260423T052136
CREATED:20230403T025803Z
LAST-MODIFIED:20230406T030858Z
UID:18783-1680283800-1680287400@www.ayclogic.com
SUMMARY:5:30 PM - Python Game Development - Bill
DESCRIPTION:Your HW:\n\nContinue working on your projects\nMake 2 weeks worth of progress because there is no class next week (04/07 to 04/09)  because of Easter Weekend.
URL:https://www.ayclogic.com/event/530-pm-python-game-development-bill-21/
END:VEVENT
END:VCALENDAR