BEGIN:VCALENDAR
VERSION:2.0
PRODID:-//American Young Coder - ECPv6.10.1.1//NONSGML v1.0//EN
CALSCALE:GREGORIAN
METHOD:PUBLISH
X-ORIGINAL-URL:https://www.ayclogic.com
X-WR-CALDESC:Events for American Young Coder
REFRESH-INTERVAL;VALUE=DURATION:PT1H
X-Robots-Tag:noindex
X-PUBLISHED-TTL:PT1H
BEGIN:VTIMEZONE
TZID:America/Los_Angeles
BEGIN:DAYLIGHT
TZOFFSETFROM:-0800
TZOFFSETTO:-0700
TZNAME:PDT
DTSTART:20230312T100000
END:DAYLIGHT
BEGIN:STANDARD
TZOFFSETFROM:-0700
TZOFFSETTO:-0800
TZNAME:PST
DTSTART:20231105T090000
END:STANDARD
END:VTIMEZONE
BEGIN:VEVENT
DTSTART;TZID=America/Los_Angeles:20230401T090000
DTEND;TZID=America/Los_Angeles:20230401T100000
DTSTAMP:20260423T052122
CREATED:20230401T030516Z
LAST-MODIFIED:20230401T030516Z
UID:18731-1680339600-1680343200@www.ayclogic.com
SUMMARY:9 AM - Indo - Intro To Python - Gamas
DESCRIPTION:Today We Did\n\nWe created draw_square function so we can reduce code duplication.\n\nHomework\n\nCreate 3 new files:\n\nApril1_TurtleRectangleFunction.py\n\nCopy the rectangle codes from March25_TurtleBasic.py and create a function draw_rectangle(x\,y\, color) function.\nCall the function 5 times with different coordinates and different colors.\n\n\nApril1_TurtleTriangleFunction.py\n\nCopy the rectangle codes from March25_TurtleBasic.py and create a function draw_triangle(x\,y\, color) function.\nCall the function 5 times with different coordinates and different colors.\n\n\nApril1_TurtleOctagonFunction.py\n\nCopy the octagon codes from March25_TurtleBasic.py and create a function draw_octagon(x\,y\, color) function.\nCall the function 5 times with different coordinates and different colors.\n\n\n\n\nAbove homework is very similar to how we did the draw_square function in the class. Hint: before creating the function\, you first have to change the coordinate to start drawing from (0\,0)
URL:https://www.ayclogic.com/event/9-am-indo-intro-to-python-gamas-2/
CATEGORIES:Python Class,Python Level 1
END:VEVENT
BEGIN:VEVENT
DTSTART;TZID=America/Los_Angeles:20230401T093000
DTEND;TZID=America/Los_Angeles:20230401T103000
DTSTAMP:20260423T052122
CREATED:20230401T185237Z
LAST-MODIFIED:20230401T185600Z
UID:18735-1680341400-1680345000@www.ayclogic.com
SUMMARY:9:30 AM – Scratch 1 – Yitong
DESCRIPTION:Today we:\n\nLearned about the camera extension.\nMade the Splats clones have random costumes.\nAdded the Score\, Difficulty\, and MaxSplats variables.\n\nHomework:\n\nDo pages 140-141 in your pink coding book.\n\nNO CLASS ON APRIL 8. CLASSES WILL RESUME ON APRIL 15. \nSubmit your homework to this email: yitong@ayclogic.com
URL:https://www.ayclogic.com/event/930-am-scratch-1-yitong-10/
CATEGORIES:Scratch Class,Scratch Class Level 1
END:VEVENT
BEGIN:VEVENT
DTSTART;TZID=America/Los_Angeles:20230401T120000
DTEND;TZID=America/Los_Angeles:20230401T130000
DTSTAMP:20260423T052122
CREATED:20230401T195738Z
LAST-MODIFIED:20230407T011306Z
UID:18742-1680350400-1680354000@www.ayclogic.com
SUMMARY:12 PM - Android Game Dev - Gamas
DESCRIPTION:Today We Did\n\nWe finished Dragon Birdie Mobile game.\nWe reviewed the entire game codes and components.\n\nHomework\n\nNo class next week (04/08) because of Easter weekend.\nLearn some XML tutorial –\n\nhttps://www.youtube.com/watch?v=1JblVElt5K0 \nhttps://www.youtube.com/watch?v=KeLiQXqVgMI
URL:https://www.ayclogic.com/event/12-pm-android-game-dev-gamas-3/
END:VEVENT
BEGIN:VEVENT
DTSTART;TZID=America/Los_Angeles:20230401T130000
DTEND;TZID=America/Los_Angeles:20230401T140000
DTSTAMP:20260423T052122
CREATED:20230401T210204Z
LAST-MODIFIED:20230407T011400Z
UID:18749-1680354000-1680357600@www.ayclogic.com
SUMMARY:1 PM - Android Game Dev - Gamas
DESCRIPTION:Today We Did\n\nWe added click listener to all 9 boxes without doing code duplication.\nWe display circle image to the box that the user click.\n\nHomework\n\nNo class next week (04/08) because of Easter weekend.\nInside GameActivity.onClick(View view) method add codes\n\nwhen it is “player1” turn display cross image on the box.\nwhen it is “player2” turn display circle image on the box.\nAlso alternate “whichPlayerTurn” between “player1” and “player2”.
URL:https://www.ayclogic.com/event/1-pm-android-game-dev-gamas-6/
CATEGORIES:Android Game Development,Java
END:VEVENT
BEGIN:VEVENT
DTSTART;TZID=America/Los_Angeles:20230401T140000
DTEND;TZID=America/Los_Angeles:20230401T150000
DTSTAMP:20260423T052122
CREATED:20230401T231141Z
LAST-MODIFIED:20230405T151932Z
UID:18755-1680357600-1680361200@www.ayclogic.com
SUMMARY:2 PM – Intro To Python – Sebastian
DESCRIPTION:Today We Did\n\nFinished learning about more complex shapes and semi circles\nIn case you need anything\, feel free to email me at sebastian@ayclogic.com\n\nHomework\n\nNo class on 04/08 due to easter weekend.\nName your homework APR1_project_hw\, please submit by next Friday.\nHomework: Begin working on your final project\, try to make as much progress as possible. The due date for this project is 05/06 (May 6th). Every week you want to make at least 25% progress of your project. Remember you get an extra 10% extra credit if you finish a week early (04/29).
URL:https://www.ayclogic.com/event/2-pm-intro-to-python-sebastian-26/
CATEGORIES:Python Class,Python Level 1
END:VEVENT
BEGIN:VEVENT
DTSTART;TZID=America/Los_Angeles:20230401T150000
DTEND;TZID=America/Los_Angeles:20230401T160000
DTSTAMP:20260423T052122
CREATED:20230401T235039Z
LAST-MODIFIED:20230405T024549Z
UID:18756-1680361200-1680364800@www.ayclogic.com
SUMMARY:3 PM – Intro To Python – Sebastian
DESCRIPTION:Today We Did\n\nLearned how to draw circles\nBegan drawing faces\nIn case you need anything\, feel free to email me at sebastian@ayclogic.com\n\nHomework\n\nNo class on April 8th (next week) because of Easter Weekend\nName your homework APR1_face_hw\, please submit by next Friday.\nHomework: Draw square face using rectangles\, circles\, and the setheading() function we learned.
URL:https://www.ayclogic.com/event/3-pm-intro-to-python-sebastian-26/
CATEGORIES:Python Class,Python Level 1
END:VEVENT
BEGIN:VEVENT
DTSTART;TZID=America/Los_Angeles:20230401T160000
DTEND;TZID=America/Los_Angeles:20230401T170000
DTSTAMP:20260423T052122
CREATED:20230401T231501Z
LAST-MODIFIED:20230407T011238Z
UID:18757-1680364800-1680368400@www.ayclogic.com
SUMMARY:4 PM - Python Game Dev - Latisha
DESCRIPTION:Homework\n\nNo class next week (04/08) because of Easter weekend.\nMake some minor modifications on the team game\n\nElijah – change where both players are standing so they are not under the ground.\nSean – When one player swing the sword to another player\, the player that was attacked has to move back like 100 pixels.\nLarry – Add a sound effect when a player is hit by sword. Add sound effects to the slashing player.\n\n\nShoot Balloon homeworks:\n\nAdd attribute score in main.py. When balloon is popped\, check if the balloon is bad baloon\, reduce the score by the balloon speed. Otherwise\, increase the score by the balloon speed.\nDisplay the score on the top left corner of the screen.
URL:https://www.ayclogic.com/event/4-pm-python-game-dev-latisha/
END:VEVENT
BEGIN:VEVENT
DTSTART;TZID=America/Los_Angeles:20230401T160000
DTEND;TZID=America/Los_Angeles:20230401T170000
DTSTAMP:20260423T052122
CREATED:20230403T025555Z
LAST-MODIFIED:20230406T030922Z
UID:18779-1680364800-1680368400@www.ayclogic.com
SUMMARY:4 PM - Python Game Development - Bill
DESCRIPTION:Your HW:\n\nCreate a new class for the Bullet\nIt has the following attributes:\n\nx\ny\ndirection\nscreen\n\n\nMake it move left or right depending on the direction\nNo Class Next week from (04/07-04/09) \, Happy Easter Weekend!
URL:https://www.ayclogic.com/event/4-pm-python-game-development-bill-2/
END:VEVENT
BEGIN:VEVENT
DTSTART;TZID=America/Los_Angeles:20230401T170000
DTEND;TZID=America/Los_Angeles:20230401T180000
DTSTAMP:20260423T052122
CREATED:20230402T014140Z
LAST-MODIFIED:20230407T011526Z
UID:18771-1680368400-1680372000@www.ayclogic.com
SUMMARY:5 PM - Minecraft Modding with Java - Gamas
DESCRIPTION:Today We Did\n\nWe added jsons to make the saturn_ore and deepslate_saturn_ore generated in a new world creation.\n\nHomework\n\nNo class next week (04/08) because of Easter weekend.
URL:https://www.ayclogic.com/event/5-pm-minecraft-modding-with-java-gamas-23/
CATEGORIES:Minecraft Modding With Java
END:VEVENT
BEGIN:VEVENT
DTSTART;TZID=America/Los_Angeles:20230401T170000
DTEND;TZID=America/Los_Angeles:20230401T180000
DTSTAMP:20260423T052122
CREATED:20230403T025721Z
LAST-MODIFIED:20230406T031016Z
UID:18781-1680368400-1680372000@www.ayclogic.com
SUMMARY:5 PM - Python Game Development - Bill
DESCRIPTION:Your HW:\n\nAdd new rect attributes for the player and the bullet\nMake sure the rect’s position is updated so that it follows the player/bullet\nNo Class Next week\, Happy Easter Weekend (from: 04/07-04/09) !
URL:https://www.ayclogic.com/event/5-pm-python-game-development-bill-6/
END:VEVENT
BEGIN:VEVENT
DTSTART;TZID=America/Los_Angeles:20230401T170000
DTEND;TZID=America/Los_Angeles:20230401T180000
DTSTAMP:20260423T052122
CREATED:20230403T202502Z
LAST-MODIFIED:20230404T023306Z
UID:18791-1680368400-1680372000@www.ayclogic.com
SUMMARY:5 PM – Scratch Level 2 – Allison
DESCRIPTION:Today We:\n\nContinued the Doom on the Broom project\nFinished coding the Forcefield sprite\nFinished coding the Hippo 2 sprite\n\nImportant Information:\n\nIn honor of Easter\, the school will be closed from Friday 4/7 – Sunday 4/9. There is no class next week. Our next class will be on Saturday 4/15.\n\nHomework:\n\nCreate a new project and title it “Fire and Ice Fight”\nAdd a Wizard-toad sprite\nCode the Wizard-toad to:\n\nMove up when the player presses the “w” arrow key.\nMove left when the player presses the “a” arrow key.\nMove down when the player presses “s” down arrow key.\nMove right when the player presses the “d” arrow key.\n\n\nAdd a Ball sprite\nIf the player presses the “c” key\, code the Wizard-toad to make a Ball clone\nCode the Ball clones to go to the Wizard-toad when they are created. Afterwards\, code the Ball clones then forever move to the right\nContact us if you have any questions or need any help
URL:https://www.ayclogic.com/event/5-pm-scratch-level-2-allison-7/
CATEGORIES:Scratch Class,Scratch Class Level 2
END:VEVENT
BEGIN:VEVENT
DTSTART;TZID=America/Los_Angeles:20230401T180000
DTEND;TZID=America/Los_Angeles:20230401T190000
DTSTAMP:20260423T052122
CREATED:20230402T080750Z
LAST-MODIFIED:20230402T080750Z
UID:18776-1680372000-1680375600@www.ayclogic.com
SUMMARY:6:00 PM - Intro to Python - Juan
DESCRIPTION:Today We Did\n\nReviewed for-loops and covered in range()\nStarted learning about while loops.\nIn case you need anything\, feel free to email me at juan@ayclogic.com\nView what we covered today at the google drive: https://drive.google.com/drive/folders/15Guajo6GvNi_09_rLw7QNwPyAcz1sBNA\n\nHomework\n\nCreate Apr15_HW.py file\, and do the following pages:\n Pg. 57\, 58\, Pg. 118-121
URL:https://www.ayclogic.com/event/600-pm-intro-to-python-juan-9/
CATEGORIES:Python Class,Python Level 1
END:VEVENT
BEGIN:VEVENT
DTSTART;TZID=America/Los_Angeles:20230401T190000
DTEND;TZID=America/Los_Angeles:20230401T200000
DTSTAMP:20260423T052122
CREATED:20230402T031028Z
LAST-MODIFIED:20230406T061347Z
UID:18774-1680375600-1680379200@www.ayclogic.com
SUMMARY:7 PM - Digital Illustration 2 - Abigail
DESCRIPTION:What we did today\n\nWe started working on Human Anatomy diagram.\n\nHomework\n\nCreate your own human diagram sketch (either male or female).\nTry your best to not use the diagram we created.\n\nNO CLASS ON NEXT WEEK!
URL:https://www.ayclogic.com/event/7-pm-digital-illustration-2-abigail-2/
CATEGORIES:Digital Illustration,Intermediate Digital Illustration
END:VEVENT
END:VCALENDAR