BEGIN:VCALENDAR
VERSION:2.0
PRODID:-//American Young Coder - ECPv6.10.1.1//NONSGML v1.0//EN
CALSCALE:GREGORIAN
METHOD:PUBLISH
X-WR-CALNAME:American Young Coder
X-ORIGINAL-URL:https://www.ayclogic.com
X-WR-CALDESC:Events for American Young Coder
REFRESH-INTERVAL;VALUE=DURATION:PT1H
X-Robots-Tag:noindex
X-PUBLISHED-TTL:PT1H
BEGIN:VTIMEZONE
TZID:America/Los_Angeles
BEGIN:DAYLIGHT
TZOFFSETFROM:-0800
TZOFFSETTO:-0700
TZNAME:PDT
DTSTART:20230312T100000
END:DAYLIGHT
BEGIN:STANDARD
TZOFFSETFROM:-0700
TZOFFSETTO:-0800
TZNAME:PST
DTSTART:20231105T090000
END:STANDARD
END:VTIMEZONE
BEGIN:VEVENT
DTSTART;TZID=America/Los_Angeles:20230404T170000
DTEND;TZID=America/Los_Angeles:20230404T180000
DTSTAMP:20260423T062505
CREATED:20230405T010040Z
LAST-MODIFIED:20230405T010040Z
UID:18806-1680627600-1680631200@www.ayclogic.com
SUMMARY:5:00 PM – Python Object Oriented Programming – Sebastian
DESCRIPTION:Today We Did\n\nReviewed dictionary basics\nBegan phone book with dictionary program\nIn case you need anything\, feel free to email me at sebastian@ayclogic.com\n\nHomework\n\nName your homework APR4_phonebook_hw\, please submit by next Monday.\nHomework: After creating the new file mentioned above\, copy what we did in class and finish the phone book dictionary described here:\nhttps://www.ayclogic.com/phone-book-system/
URL:https://www.ayclogic.com/event/500-pm-python-object-oriented-programming-sebastian/
CATEGORIES:OOP Python,Python Class
END:VEVENT
BEGIN:VEVENT
DTSTART;TZID=America/Los_Angeles:20230404T180000
DTEND;TZID=America/Los_Angeles:20230404T190000
DTSTAMP:20260423T062505
CREATED:20230405T005152Z
LAST-MODIFIED:20230405T005204Z
UID:18802-1680631200-1680634800@www.ayclogic.com
SUMMARY:6 PM – Intro To Python – Shawn
DESCRIPTION:What we did\n\nHomework review\nList review\n\nHomework\n\nCreate a file named Apr4_ListHomework2.py\nTRY IT YOURSELF from page 42: 3-4\, 3-5\, 3-6\n\nIf you have any questions\, don’t hesitate to email me at szhuang@ayclogic.com.
URL:https://www.ayclogic.com/event/6-pm-intro-to-python-shawn-8/
END:VEVENT
BEGIN:VEVENT
DTSTART;TZID=America/Los_Angeles:20230404T180000
DTEND;TZID=America/Los_Angeles:20230404T190000
DTSTAMP:20260423T062505
CREATED:20230405T020609Z
LAST-MODIFIED:20230405T020609Z
UID:18808-1680631200-1680634800@www.ayclogic.com
SUMMARY:6:00 PM – Scratch 2 – Yitong
DESCRIPTION:Today we:\n\nReviewed the Spaceship\, Fireball Fight\, and Cheese Chase projects.\n\nHomework:\n\nPrepare for your test next week!\n\nTurn in your homework here: yitong@ayclogic.com
URL:https://www.ayclogic.com/event/600-pm-scratch-2-yitong-8/
CATEGORIES:Scratch Class,Scratch Class Level 2
END:VEVENT
BEGIN:VEVENT
DTSTART;TZID=America/Los_Angeles:20230404T183000
DTEND;TZID=America/Los_Angeles:20230404T193000
DTSTAMP:20260423T062505
CREATED:20230405T023033Z
LAST-MODIFIED:20230405T023033Z
UID:18810-1680633000-1680636600@www.ayclogic.com
SUMMARY:6:30 PM – Python Object Oriented Programming – Sebastian
DESCRIPTION:Today We Did\n\nFinished School System project\nBegan Library System project\nGot really good at creating new classes and constructors\nIn case you need anything\, feel free to email me at sebastian@ayclogic.com\n\nHomework\n\nName your homework APR4_librarysystem_hw\, please submit by next Monday.\nHomework:\na) Implement list_all_old_books() function\, which will use the book_dictionary attribute to print out the following: \nprint(f”Title: {book.title} – Book Author: {book.author} – Year Published: {book.publish_year} – id: {book.id}”) \nThis means you need the book object from the book_dictionary attribute\, is the book object stored in the keys or values? That will determine how you will loop. \nb) Add 2 more test books to the add_test_books() function we made in class.
URL:https://www.ayclogic.com/event/630-pm-python-object-oriented-programming-sebastian-12/
CATEGORIES:OOP Python,Python Class
END:VEVENT
BEGIN:VEVENT
DTSTART;TZID=America/Los_Angeles:20230404T183000
DTEND;TZID=America/Los_Angeles:20230404T193000
DTSTAMP:20260423T062505
CREATED:20230406T052855Z
LAST-MODIFIED:20230412T012431Z
UID:18846-1680633000-1680636600@www.ayclogic.com
SUMMARY:6:30 PM – Scratch Level 1 – Allison
DESCRIPTION:Today we:\n\nFinished the Virtual Snow project\nHad a review session to prepare for the final test\n\nHomework:\n\nFor this week\, you do not have to email me your homework. You only have to finish the Practice Test that was emailed to you.\nSubmit the Practice test by Monday at 8 PM.\nMake sure to check the instructions and the video one more time when you are finished with the project. Don’t forget to share the project before submitting it.\nContact us if you have any questions or need any help
URL:https://www.ayclogic.com/event/630-pm-scratch-level-1-allison-26/
CATEGORIES:Scratch Class,Scratch Class Level 1
END:VEVENT
END:VCALENDAR