BEGIN:VCALENDAR
VERSION:2.0
PRODID:-//American Young Coder - ECPv6.10.1.1//NONSGML v1.0//EN
CALSCALE:GREGORIAN
METHOD:PUBLISH
X-WR-CALNAME:American Young Coder
X-ORIGINAL-URL:https://www.ayclogic.com
X-WR-CALDESC:Events for American Young Coder
REFRESH-INTERVAL;VALUE=DURATION:PT1H
X-Robots-Tag:noindex
X-PUBLISHED-TTL:PT1H
BEGIN:VTIMEZONE
TZID:America/Los_Angeles
BEGIN:DAYLIGHT
TZOFFSETFROM:-0800
TZOFFSETTO:-0700
TZNAME:PDT
DTSTART:20230312T100000
END:DAYLIGHT
BEGIN:STANDARD
TZOFFSETFROM:-0700
TZOFFSETTO:-0800
TZNAME:PST
DTSTART:20231105T090000
END:STANDARD
END:VTIMEZONE
BEGIN:VEVENT
DTSTART;TZID=America/Los_Angeles:20230412T170000
DTEND;TZID=America/Los_Angeles:20230412T180000
DTSTAMP:20260423T051900
CREATED:20230418T205203Z
LAST-MODIFIED:20230418T205233Z
UID:18988-1681318800-1681322400@www.ayclogic.com
SUMMARY:5PM - Digital Illustration 3
DESCRIPTION:WEDNESDAY \nToday we started a new in-class project: Howl \n\nWe looked at the reference picture\nDo the sketch by following along the reference picture as best as possible.\nStart on the lines on a new layer\n\n \n \n  \nFINAL PROJECT HOMEWORK \nGood job on finished up Style 1. Please do the fixes/edits on your Style 1 piece like we talked about in class\, especially considering Shading\, Highlights\, and Background. You can look at the pictures below to help you remember what we talked about in class. \n\nPlease also start your Style 2
URL:https://www.ayclogic.com/event/5pm-digital-illustration-3-39/
CATEGORIES:Digital Illustration,Intermediate Digital Illustration
END:VEVENT
BEGIN:VEVENT
DTSTART;TZID=America/Los_Angeles:20230412T180000
DTEND;TZID=America/Los_Angeles:20230412T190000
DTSTAMP:20260423T051900
CREATED:20230413T024442Z
LAST-MODIFIED:20230413T024442Z
UID:18899-1681322400-1681326000@www.ayclogic.com
SUMMARY:6 PM – Scratch Level 2 – Allison
DESCRIPTION:Today we:\n\nContinued the Mary Had a Little Lamb – With List project\nStarted the Supermarket project\nCreated the Categories list\nCoded the Cat to say the items in the Categories list\n\nImportant Reminders:\n\nAfter you finish your homework in Scratch\, send an email to allison@ayclogic.com by Tuesday at 8 PM. In that email\, write down your name and a link to your shared Scratch project homework. Make sure to share your Scratch project.\n\nHomework:\n\nIn the Mary Had a Little Lamb – With List project:\n\nCreate a new list and title it “Happy Birthday”\n\nIn the list\, add the notes of the Happy Birthday song (please see the image below to see the notes)\n\n\nCreate another new list and title it “Ode to Joy”\n\nIn the list\, add the notes of the Ode to Joy song (please see the image below to see the notes)\n\n\n\n\nExample for the Happy Birthday Song:\n\nFor the first item in the list\, put: D\nFor the second item in the list\, put: D\nFor the third item in the list\, put: E\nFor the seventh item in the list\, put: Pause\nContinue until you have finished the song\n\n\nContact us if you have any questions or need any help\n\nHappy Birthday Song: \n \nOde to Joy Song:
URL:https://www.ayclogic.com/event/6-pm-scratch-level-2-allison-10/
CATEGORIES:Scratch Class,Scratch Class Level 2
END:VEVENT
BEGIN:VEVENT
DTSTART;TZID=America/Los_Angeles:20230412T180000
DTEND;TZID=America/Los_Angeles:20230412T200000
DTSTAMP:20260423T051900
CREATED:20230413T032846Z
LAST-MODIFIED:20230413T033441Z
UID:18910-1681322400-1681329600@www.ayclogic.com
SUMMARY:6 to 8 PM - Python OOP - Gamas
DESCRIPTION:Today We Did\n\nWe completed Monster Inheritance project.\nWe discussed Practice Final.\n\nHomework\n\nDo practice final already sent in the class to your email. It should come from ayclogic@gmail.com. Please let me know ASAP if you don’t get it. The practice test is a big project\, it will take around 2 hours to do. But this is super important practice for your final test. Please try your best to do everything.\nWe will have a 2hour final test on 04/26.
URL:https://www.ayclogic.com/event/6-to-8-pm-python-oop-gamas/
CATEGORIES:OOP Python,Python Class
END:VEVENT
BEGIN:VEVENT
DTSTART;TZID=America/Los_Angeles:20230412T183000
DTEND;TZID=America/Los_Angeles:20230412T193000
DTSTAMP:20260423T051900
CREATED:20230413T022634Z
LAST-MODIFIED:20230413T022634Z
UID:18897-1681324200-1681327800@www.ayclogic.com
SUMMARY:6:30 PM – Intro To Python – Sebastian
DESCRIPTION:Today We Did\n\nTurtle basics\nturtle.bgcolor(“red”)\nturtle.begin_fill() & turtle.end_fill()\nturtle.goto(x\, y)\nIn case you need anything\, feel free to email me at sebastian@ayclogic.com\n\nHomework\n\nName your homework APR12_turtle_basics_hw\, please submit by next Tuesday.\nHomework: Start with 1\, 2\, and 3 from this page:\nhttps://www.ayclogic.com/event/6-pm-intro-to-python-46/
URL:https://www.ayclogic.com/event/630-pm-intro-to-python-sebastian-14/
CATEGORIES:Python Class,Python Level 1
END:VEVENT
END:VCALENDAR