BEGIN:VCALENDAR
VERSION:2.0
PRODID:-//American Young Coder - ECPv6.10.1.1//NONSGML v1.0//EN
CALSCALE:GREGORIAN
METHOD:PUBLISH
X-WR-CALNAME:American Young Coder
X-ORIGINAL-URL:https://www.ayclogic.com
X-WR-CALDESC:Events for American Young Coder
REFRESH-INTERVAL;VALUE=DURATION:PT1H
X-Robots-Tag:noindex
X-PUBLISHED-TTL:PT1H
BEGIN:VTIMEZONE
TZID:America/Los_Angeles
BEGIN:DAYLIGHT
TZOFFSETFROM:-0800
TZOFFSETTO:-0700
TZNAME:PDT
DTSTART:20230312T100000
END:DAYLIGHT
BEGIN:STANDARD
TZOFFSETFROM:-0700
TZOFFSETTO:-0800
TZNAME:PST
DTSTART:20231105T090000
END:STANDARD
END:VTIMEZONE
BEGIN:VEVENT
DTSTART;TZID=America/Los_Angeles:20230413T160000
DTEND;TZID=America/Los_Angeles:20230413T170000
DTSTAMP:20260423T042729
CREATED:20230414T000905Z
LAST-MODIFIED:20230414T000905Z
UID:18914-1681401600-1681405200@www.ayclogic.com
SUMMARY:4 PM - Scratch 1 - Abigail
DESCRIPTION:What we did today\n\nWe worked on the Animal Crossing project.\n\nHomework\n\nCreate a Bat sprite that starts from the bottom of the screen\, and moves to the top.\nWhen it reaches the top of the screen\, make the Bat sprite say something.\n(Remember: x = left and right\, y = up and down)\n\nIf you have any questions\, email me at abigail@ayclogic.com
URL:https://www.ayclogic.com/event/4-pm-scratch-1-abigail-9/
CATEGORIES:Scratch Class,Scratch Class Level 1
END:VEVENT
BEGIN:VEVENT
DTSTART;TZID=America/Los_Angeles:20230413T190000
DTEND;TZID=America/Los_Angeles:20230413T200000
DTSTAMP:20260423T042729
CREATED:20230414T210531Z
LAST-MODIFIED:20230414T210531Z
UID:18928-1681412400-1681416000@www.ayclogic.com
SUMMARY:7:00 PM - Scratch 1 - Juan
DESCRIPTION:Today We Did\n\nFinished Animal Race project.\nStarted on Ask Gobo\nIn case you need anything\, feel free to email me at juanfcastro03@gmail.com\n\nHomework\n\nName your project: THU-7PM-{Your Name}-AskGobo.\nAdd more if-then blocks for when ReplyNumber = 2 and ReplyNumber = 3.\nRemember\, inside of each if-then block\, say a message.\nShare your project\, and email the link to juanfcastro03@gmail.com
URL:https://www.ayclogic.com/event/700-pm-scratch-1-juan-3/
CATEGORIES:Scratch Class,Scratch Class Level 1
END:VEVENT
BEGIN:VEVENT
DTSTART;TZID=America/Los_Angeles:20230413T190000
DTEND;TZID=America/Los_Angeles:20230413T200000
DTSTAMP:20260423T042729
CREATED:20230418T052144Z
LAST-MODIFIED:20230418T052144Z
UID:18995-1681412400-1681416000@www.ayclogic.com
SUMMARY:7PM - Python Game Development - Latisha
DESCRIPTION:Today We Did\n\nKeep working on Birdie Game\n\nHomework\n\nMake the Fireball class in fireball.py using bullet.png. If you press the space key\, add a new fireball to the fireball_group. The fireball should move right.\nHINT: you might need to make a create_fireball() for this.\n\nIf you have any questions\, you can ask me at latisha@ayclogic.com.
URL:https://www.ayclogic.com/event/7pm-python-game-development-latisha-14/
END:VEVENT
END:VCALENDAR