BEGIN:VCALENDAR
VERSION:2.0
PRODID:-//American Young Coder - ECPv6.10.1.1//NONSGML v1.0//EN
CALSCALE:GREGORIAN
METHOD:PUBLISH
X-WR-CALNAME:American Young Coder
X-ORIGINAL-URL:https://www.ayclogic.com
X-WR-CALDESC:Events for American Young Coder
REFRESH-INTERVAL;VALUE=DURATION:PT1H
X-Robots-Tag:noindex
X-PUBLISHED-TTL:PT1H
BEGIN:VTIMEZONE
TZID:America/Los_Angeles
BEGIN:DAYLIGHT
TZOFFSETFROM:-0800
TZOFFSETTO:-0700
TZNAME:PDT
DTSTART:20230312T100000
END:DAYLIGHT
BEGIN:STANDARD
TZOFFSETFROM:-0700
TZOFFSETTO:-0800
TZNAME:PST
DTSTART:20231105T090000
END:STANDARD
END:VTIMEZONE
BEGIN:VEVENT
DTSTART;TZID=America/Los_Angeles:20230414T170000
DTEND;TZID=America/Los_Angeles:20230414T180000
DTSTAMP:20260423T025336
CREATED:20230414T235404Z
LAST-MODIFIED:20230414T235411Z
UID:18931-1681491600-1681495200@www.ayclogic.com
SUMMARY:5 PM – Intro To Python – Shawn
DESCRIPTION:What we did\n\nHomework review\nList review\n\nHomework\n\nCreate a file named Apr14_ListHomework2.py\nFrom the homework\, do the TRY IT YOURSELF problems from page 42 — 3-4\, 3-5\, 3-6\n\nIf you have any questions\, don’t hesitate to email me at szhuang@ayclogic.com.
URL:https://www.ayclogic.com/event/5-pm-intro-to-python-shawn-19/
END:VEVENT
BEGIN:VEVENT
DTSTART;TZID=America/Los_Angeles:20230414T173000
DTEND;TZID=America/Los_Angeles:20230414T183000
DTSTAMP:20260423T025336
CREATED:20230417T054431Z
LAST-MODIFIED:20230417T054431Z
UID:18975-1681493400-1681497000@www.ayclogic.com
SUMMARY:5:30 PM - Python Game Development - Bill
DESCRIPTION:Your HW:\n\nContinue working on your projects
URL:https://www.ayclogic.com/event/530-pm-python-game-development-bill-22/
END:VEVENT
BEGIN:VEVENT
DTSTART;TZID=America/Los_Angeles:20230414T180000
DTEND;TZID=America/Los_Angeles:20230414T190000
DTSTAMP:20260423T025336
CREATED:20230415T020546Z
LAST-MODIFIED:20230415T020559Z
UID:18930-1681495200-1681498800@www.ayclogic.com
SUMMARY:6 PM – Python OOP – Shawn
DESCRIPTION:What we did\n\nSetup Pycharm\nDictionary Intro\n\nHomework\n\nCreate a file named Apr14_DictionaryHW.py\nCopy textbook pages 92 to 97.\nUpload the files in the NEW folder by Thursday midnight.\n\nIf you have any questions\, don’t hesitate to email me at szhuang@ayclogic.com.
URL:https://www.ayclogic.com/event/6-pm-python-oop-shawn/
END:VEVENT
END:VCALENDAR