BEGIN:VCALENDAR
VERSION:2.0
PRODID:-//American Young Coder - ECPv6.10.1.1//NONSGML v1.0//EN
CALSCALE:GREGORIAN
METHOD:PUBLISH
X-ORIGINAL-URL:https://www.ayclogic.com
X-WR-CALDESC:Events for American Young Coder
REFRESH-INTERVAL;VALUE=DURATION:PT1H
X-Robots-Tag:noindex
X-PUBLISHED-TTL:PT1H
BEGIN:VTIMEZONE
TZID:America/Los_Angeles
BEGIN:DAYLIGHT
TZOFFSETFROM:-0800
TZOFFSETTO:-0700
TZNAME:PDT
DTSTART:20230312T100000
END:DAYLIGHT
BEGIN:STANDARD
TZOFFSETFROM:-0700
TZOFFSETTO:-0800
TZNAME:PST
DTSTART:20231105T090000
END:STANDARD
END:VTIMEZONE
BEGIN:VEVENT
DTSTART;TZID=America/Los_Angeles:20230416T110000
DTEND;TZID=America/Los_Angeles:20230416T120000
DTSTAMP:20260423T052132
CREATED:20230417T014058Z
LAST-MODIFIED:20230417T014434Z
UID:18963-1681642800-1681646400@www.ayclogic.com
SUMMARY:11 AM – Scratch Level 2 – Allison
DESCRIPTION:Today We:\n\nContinued the Fire and Ice Fight project\nCoded the Wizard sprite\nCoded the Ice sprite\nCoded the Gameloop\n\nHomework:\n\nUpload one costume for the Toad sprite from the internet (make sure the character is facing the right)\nUpload one costume for the Wizard sprite from the internet (make sure the character is facing the left)\nUpload one background from the internet\nUpload the Fireball costume below for the Toad’s Fireball sprite\nUpload the Ice costume below for the Wizard’s Ice sprite\nRename your sprites. (Ex: If I choose an image of Darwin From The Amazing World of Gumball\, I would rename Toad to Darwin and rename Toad’s Fireball to Darwin’s Fireball.)\nSee the example picture below\nContact us if you have any questions or need any help
URL:https://www.ayclogic.com/event/11-am-scratch-level-2-allison/
CATEGORIES:Scratch Class,Scratch Class Level 2
END:VEVENT
END:VCALENDAR