BEGIN:VCALENDAR
VERSION:2.0
PRODID:-//American Young Coder - ECPv6.10.1.1//NONSGML v1.0//EN
CALSCALE:GREGORIAN
METHOD:PUBLISH
X-ORIGINAL-URL:https://www.ayclogic.com
X-WR-CALDESC:Events for American Young Coder
REFRESH-INTERVAL;VALUE=DURATION:PT1H
X-Robots-Tag:noindex
X-PUBLISHED-TTL:PT1H
BEGIN:VTIMEZONE
TZID:America/Los_Angeles
BEGIN:DAYLIGHT
TZOFFSETFROM:-0800
TZOFFSETTO:-0700
TZNAME:PDT
DTSTART:20230312T100000
END:DAYLIGHT
BEGIN:STANDARD
TZOFFSETFROM:-0700
TZOFFSETTO:-0800
TZNAME:PST
DTSTART:20231105T090000
END:STANDARD
END:VTIMEZONE
BEGIN:VEVENT
DTSTART;TZID=America/Los_Angeles:20230417T170000
DTEND;TZID=America/Los_Angeles:20230417T180000
DTSTAMP:20260423T052125
CREATED:20230419T072939Z
LAST-MODIFIED:20230419T072939Z
UID:19015-1681750800-1681754400@www.ayclogic.com
SUMMARY:5 PM - Indo - Intro to Python - Joel
DESCRIPTION:Homework\n\nContinue with April19_RobotBuilder.py.\ncontinue with the robot drawing: neck\, head\, the eyes and mouth. Don’t do the arms\, we are going to do it together next week.\nLook at this screenshot for reference\niN
URL:https://www.ayclogic.com/event/5-pm-indo-intro-to-python-joel-7/
END:VEVENT
BEGIN:VEVENT
DTSTART;TZID=America/Los_Angeles:20230417T170000
DTEND;TZID=America/Los_Angeles:20230417T180000
DTSTAMP:20260423T052125
CREATED:20230421T234111Z
LAST-MODIFIED:20230421T234111Z
UID:19054-1681750800-1681754400@www.ayclogic.com
SUMMARY:5 PM - Python OOP - Bill
DESCRIPTION:Your HW:\n\nTry changing the hangman project to the OOP format\nIt should be in the folder below if you don’t have the original:\nhttps://drive.google.com/drive/u/1/folders/1IoSJe1HsEZ1DrkOcy_V4z0ec8C2k1iGO
URL:https://www.ayclogic.com/event/5-pm-python-oop-bill-41/
END:VEVENT
END:VCALENDAR