BEGIN:VCALENDAR
VERSION:2.0
PRODID:-//American Young Coder - ECPv6.10.1.1//NONSGML v1.0//EN
CALSCALE:GREGORIAN
METHOD:PUBLISH
X-WR-CALNAME:American Young Coder
X-ORIGINAL-URL:https://www.ayclogic.com
X-WR-CALDESC:Events for American Young Coder
REFRESH-INTERVAL;VALUE=DURATION:PT1H
X-Robots-Tag:noindex
X-PUBLISHED-TTL:PT1H
BEGIN:VTIMEZONE
TZID:America/Los_Angeles
BEGIN:DAYLIGHT
TZOFFSETFROM:-0800
TZOFFSETTO:-0700
TZNAME:PDT
DTSTART:20230312T100000
END:DAYLIGHT
BEGIN:STANDARD
TZOFFSETFROM:-0700
TZOFFSETTO:-0800
TZNAME:PST
DTSTART:20231105T090000
END:STANDARD
END:VTIMEZONE
BEGIN:VEVENT
DTSTART;TZID=America/Los_Angeles:20230419T180000
DTEND;TZID=America/Los_Angeles:20230419T190000
DTSTAMP:20260423T051840
CREATED:20230420T064330Z
LAST-MODIFIED:20230420T064330Z
UID:19034-1681927200-1681930800@www.ayclogic.com
SUMMARY:6 PM – Scratch Level 2 – Allison
DESCRIPTION:Today we:\n\nFinished the Mary Had a Little Lamb – With List project\nContinued the Supermarket project\nCoded the Watermelon and Apple sprites\n\nImportant Reminders:\n\nAfter you finish your homework in Scratch\, send an email to allison@ayclogic.com by Tuesday at 8 PM. In that email\, write down your name and a link to your shared Scratch project homework. Make sure to share your Scratch project.\n\nHomework:\n\nAdd these sprites: Bananas and Muffin\nWhen the Cat sprite says “Fruit”\, code the Bananas sprite to rotate left and right (like the Watermelon sprite)\nWhen the Cat sprite says “Baked Goods”\, code the Muffin sprite to rotate left and right\nCode the Bananas and Muffin sprites to do the same thing as the Watermelon sprite when clicked. Use the information below for help.\n\nBananas: $4\nMuffin: $2\nEx: If the player presses the Bananas sprite\, the sprite will point in the right direction\, have a bigger size\, and say “Thank you for purchasing bananas. It costs $4”. The banana will be added to the shopping cart\, $4 has been added to the total cost\, and then the sprite hides.\n\n\nContact us if you have any questions or need any help
URL:https://www.ayclogic.com/event/6-pm-scratch-level-2-allison-11/
END:VEVENT
BEGIN:VEVENT
DTSTART;TZID=America/Los_Angeles:20230419T180000
DTEND;TZID=America/Los_Angeles:20230419T200000
DTSTAMP:20260423T051840
CREATED:20230420T032348Z
LAST-MODIFIED:20230420T032653Z
UID:19022-1681927200-1681934400@www.ayclogic.com
SUMMARY:6 to 8 PM - Python OOP - Gamas
DESCRIPTION:Today We Did\n\nWe reviewed Practice Test (DriverSystem) solution. The solution can be found in https://drive.google.com/drive/u/0/folders/1ZYxxajAgLJw8_LDVzpxMMw4QkB6Gant4\n\nHomework\n\nNext week (04/26) is the 2 hours final test.\n\nThe final test is open book and you need to use Pycharm to test your codes.\n\n\nStudy Monster Inheritance\, Driver System.\nIf you want to practice for the final test\, try redoing either DriverSystem or Monster Inheritance from scratch without looking at the solution.
URL:https://www.ayclogic.com/event/6-to-8-pm-python-oop-gamas-2/
CATEGORIES:OOP Python,Python Class
END:VEVENT
BEGIN:VEVENT
DTSTART;TZID=America/Los_Angeles:20230419T183000
DTEND;TZID=America/Los_Angeles:20230419T193000
DTSTAMP:20260423T051840
CREATED:20230420T023402Z
LAST-MODIFIED:20230420T023611Z
UID:19017-1681929000-1681932600@www.ayclogic.com
SUMMARY:6:30 PM – Intro To Python – Sebastian
DESCRIPTION:Today We Did\n\nBegan robot builder\nIn case you need anything\, feel free to email me at sebastian@ayclogic.com\n\nHomework\n\nName your homework APR19_robot_hw\, please submit by next Tuesday.\nHomework:a) Complete #4 (draw_octagon) from https://www.ayclogic.com/event/6-pm-intro-to-python-46/b) In the same file that we created in class for robot_builder\, add a head to your robot with any size\, shape\, and color. Make sure you also turn in this file.
URL:https://www.ayclogic.com/event/630-pm-intro-to-python-sebastian-15/
CATEGORIES:Python Class,Python Level 1
END:VEVENT
END:VCALENDAR