BEGIN:VCALENDAR
VERSION:2.0
PRODID:-//American Young Coder - ECPv6.10.1.1//NONSGML v1.0//EN
CALSCALE:GREGORIAN
METHOD:PUBLISH
X-ORIGINAL-URL:https://www.ayclogic.com
X-WR-CALDESC:Events for American Young Coder
REFRESH-INTERVAL;VALUE=DURATION:PT1H
X-Robots-Tag:noindex
X-PUBLISHED-TTL:PT1H
BEGIN:VTIMEZONE
TZID:America/Los_Angeles
BEGIN:DAYLIGHT
TZOFFSETFROM:-0800
TZOFFSETTO:-0700
TZNAME:PDT
DTSTART:20230312T100000
END:DAYLIGHT
BEGIN:STANDARD
TZOFFSETFROM:-0700
TZOFFSETTO:-0800
TZNAME:PST
DTSTART:20231105T090000
END:STANDARD
END:VTIMEZONE
BEGIN:VEVENT
DTSTART;TZID=America/Los_Angeles:20230420T160000
DTEND;TZID=America/Los_Angeles:20230420T170000
DTSTAMP:20260423T052120
CREATED:20230421T002325Z
LAST-MODIFIED:20230421T002325Z
UID:19039-1682006400-1682010000@www.ayclogic.com
SUMMARY:4 PM - Scratch 1 - Abigail
DESCRIPTION:Today We Did\n\nWe continued with Animal Crossing project.\nWe added a couple of animals that move up and down.\nWe reviewed about X and Y coordinates and Directions.\n\nHomework\n\nContinue on Animal Crossing project\nAdd one more sprite (Beetle) to start from left and move to the right.\nWhen it moves\, it needs to have walking animation.\nWhen the Beetle x coordinate bigger than 100 than say “Hooray”.
URL:https://www.ayclogic.com/event/4-pm-scratch-1-abigail-10/
CATEGORIES:Scratch Class,Scratch Class Level 1
END:VEVENT
BEGIN:VEVENT
DTSTART;TZID=America/Los_Angeles:20230420T190000
DTEND;TZID=America/Los_Angeles:20230420T200000
DTSTAMP:20260423T052120
CREATED:20230421T025610Z
LAST-MODIFIED:20230421T025610Z
UID:19043-1682017200-1682020800@www.ayclogic.com
SUMMARY:7 PM - Intro To Java - Alex Lee
DESCRIPTION:Today We Did:\n\nContinued with the TemperatureConverter project\nAdded in the temperature spinner listener\nLearned about the resources\n\nFor Homework:\n\nBe able to change it to Celsius to Kelvin as the header.\nAlso figure out how to pass the information of the conversion type to the convert button on click.\nSo that when you change the spinner option\, it should also change the formula and the result.
URL:https://www.ayclogic.com/event/7-pm-intro-to-java-alex-lee-5/
CATEGORIES:Introduction To Java,Java
END:VEVENT
BEGIN:VEVENT
DTSTART;TZID=America/Los_Angeles:20230420T190000
DTEND;TZID=America/Los_Angeles:20230420T200000
DTSTAMP:20260423T052120
CREATED:20230421T030220Z
LAST-MODIFIED:20230421T030220Z
UID:19045-1682017200-1682020800@www.ayclogic.com
SUMMARY:7:00 PM - Scratch 1 - Juan
DESCRIPTION:Today We Did\n\nFinished Ask Gobo\nIn case you need anything\, feel free to email me at juanfcastro03@gmail.com\n\nHomework\n\nName your project: THU-7PM-{Your Name}-FunnyFaces\nCreate and draw sprites for: eyeballs\, smile\, hat\, bow tie\nRead Pg. 72-76 if you’re confused.\nShare your project\, and email the link to juanfcastro03@gmail.com
URL:https://www.ayclogic.com/event/700-pm-scratch-1-juan-4/
CATEGORIES:Scratch Class,Scratch Class Level 1
END:VEVENT
BEGIN:VEVENT
DTSTART;TZID=America/Los_Angeles:20230420T190000
DTEND;TZID=America/Los_Angeles:20230420T200000
DTSTAMP:20260423T052120
CREATED:20230426T062227Z
LAST-MODIFIED:20230426T062227Z
UID:19274-1682017200-1682020800@www.ayclogic.com
SUMMARY:7PM - Python Game Development - Latisha
DESCRIPTION:Today We Did\n\nKeep working on Birdie Game\n\nHomework\n\nMake hitboxes (rect) for Fireball and Bird. The process should be the same as how we did it for Player.\n\nIf you have any questions\, you can ask me at latisha@ayclogic.com.
URL:https://www.ayclogic.com/event/7pm-python-game-development-latisha-15/
END:VEVENT
END:VCALENDAR