BEGIN:VCALENDAR
VERSION:2.0
PRODID:-//American Young Coder - ECPv6.10.1.1//NONSGML v1.0//EN
CALSCALE:GREGORIAN
METHOD:PUBLISH
X-ORIGINAL-URL:https://www.ayclogic.com
X-WR-CALDESC:Events for American Young Coder
REFRESH-INTERVAL;VALUE=DURATION:PT1H
X-Robots-Tag:noindex
X-PUBLISHED-TTL:PT1H
BEGIN:VTIMEZONE
TZID:America/Los_Angeles
BEGIN:DAYLIGHT
TZOFFSETFROM:-0800
TZOFFSETTO:-0700
TZNAME:PDT
DTSTART:20230312T100000
END:DAYLIGHT
BEGIN:STANDARD
TZOFFSETFROM:-0700
TZOFFSETTO:-0800
TZNAME:PST
DTSTART:20231105T090000
END:STANDARD
END:VTIMEZONE
BEGIN:VEVENT
DTSTART;TZID=America/Los_Angeles:20230426T170000
DTEND;TZID=America/Los_Angeles:20230426T180000
DTSTAMP:20260423T052128
CREATED:20230502T041843Z
LAST-MODIFIED:20230502T041843Z
UID:19463-1682528400-1682532000@www.ayclogic.com
SUMMARY:5PM - Digital Illustration 3
DESCRIPTION:WEDNESDAY \nToday we continued our in-class project: Howl \n\nWe finished the lines\n\n  \n  \nFINAL PROJECT HOMEWORK \nWork on your Style 2 illustrations. \nNotes: \n\n It is the same character drawn in Style 1\, but in a different art style.\nRemember to add details such as highlight and shading to both styles.
URL:https://www.ayclogic.com/event/5pm-digital-illustration-3-40/
CATEGORIES:Digital Illustration,Intermediate Digital Illustration
END:VEVENT
BEGIN:VEVENT
DTSTART;TZID=America/Los_Angeles:20230426T180000
DTEND;TZID=America/Los_Angeles:20230426T190000
DTSTAMP:20260423T052128
CREATED:20230427T052405Z
LAST-MODIFIED:20230427T052405Z
UID:19281-1682532000-1682535600@www.ayclogic.com
SUMMARY:6 PM – Scratch Level 2 – Allison
DESCRIPTION:Today we:\n\nContinued the Supermarket project\nCoded the supermarket checkout process\nCoded the Bread and Donut sprites\n\nImportant Reminders:\n\nAfter you finish your homework in Scratch\, send an email to allison@ayclogic.com by Tuesday at 8 PM. In that email\, write down your name and a link to your shared Scratch project homework. Make sure to share your Scratch project.\n\nHomework:\n\nAdd these sprites: Jar and Milk\nRename the Jar sprite to Jam\nWhen the Cat sprite says “Other”\, code the Jam and Milk sprite to rotate left and right\nCode the Jam and Milk sprites to do the same thing as the Watermelon sprite when clicked. Use the information below for help.\n\nJam: $4.99\nMilk: $5.50\nEx: If the player presses the Jam sprite\, the sprite will point in the right direction\, have a bigger size\, and say “Thank you for purchasing jam. It costs $4.99”. The jam will be added to the shopping cart\, $4.99 has been added to the total cost\, and then the sprite hides.\n\n\nContact us if you have any questions or need any help
URL:https://www.ayclogic.com/event/6-pm-scratch-level-2-allison-12/
CATEGORIES:Scratch Class,Scratch Class Level 2
END:VEVENT
BEGIN:VEVENT
DTSTART;TZID=America/Los_Angeles:20230426T183000
DTEND;TZID=America/Los_Angeles:20230426T193000
DTSTAMP:20260423T052128
CREATED:20230427T022718Z
LAST-MODIFIED:20230427T022718Z
UID:19278-1682533800-1682537400@www.ayclogic.com
SUMMARY:6:30 PM – Intro To Python – Sebastian
DESCRIPTION:Today We Did\n\nFinished robot builder\nBegan learning how to draw circles with turtle.circle()\nIn case you need anything\, feel free to email me at sebastian@ayclogic.com\n\nHomework\n\nName your homework APR26_face_hw\, please submit by next Tuesday.\nHomework: Using the same code we created in class\, try to draw 2 more circles representing the eyes for our face. Remember\, these circles should be placed using the same x and y that the face_1 function takes as a parameter\, but should be added/subtracted to. For example:\n# first eye circle\ncircle(x+10\, y-10\, eye_color)
URL:https://www.ayclogic.com/event/630-pm-intro-to-python-sebastian-16/
CATEGORIES:Python Class,Python Level 1
END:VEVENT
BEGIN:VEVENT
DTSTART;TZID=America/Los_Angeles:20230426T183000
DTEND;TZID=America/Los_Angeles:20230426T193000
DTSTAMP:20260423T052128
CREATED:20230427T023502Z
LAST-MODIFIED:20230427T023502Z
UID:19277-1682533800-1682537400@www.ayclogic.com
SUMMARY:6:30 PM - Intro to Python - Juan
DESCRIPTION:Today We Did\n\nInserting to a list using: insert\, append\nRemoving from a list using: del\, pop\, remove\nStarted covering looping through a list\n\nHomework\n\nPg. 42: Try it Yourself 3-4\, 3-5\, 3-6\nRead pg. 49-51
URL:https://www.ayclogic.com/event/630-pm-intro-to-python-juan/
CATEGORIES:Python Class,Python Level 1
END:VEVENT
END:VCALENDAR