BEGIN:VCALENDAR
VERSION:2.0
PRODID:-//American Young Coder - ECPv6.10.1.1//NONSGML v1.0//EN
CALSCALE:GREGORIAN
METHOD:PUBLISH
X-WR-CALNAME:American Young Coder
X-ORIGINAL-URL:https://www.ayclogic.com
X-WR-CALDESC:Events for American Young Coder
REFRESH-INTERVAL;VALUE=DURATION:PT1H
X-Robots-Tag:noindex
X-PUBLISHED-TTL:PT1H
BEGIN:VTIMEZONE
TZID:America/Los_Angeles
BEGIN:DAYLIGHT
TZOFFSETFROM:-0800
TZOFFSETTO:-0700
TZNAME:PDT
DTSTART:20230312T100000
END:DAYLIGHT
BEGIN:STANDARD
TZOFFSETFROM:-0700
TZOFFSETTO:-0800
TZNAME:PST
DTSTART:20231105T090000
END:STANDARD
END:VTIMEZONE
BEGIN:VEVENT
DTSTART;TZID=America/Los_Angeles:20230510T170000
DTEND;TZID=America/Los_Angeles:20230510T180000
DTSTAMP:20260421T061433
CREATED:20230517T081910Z
LAST-MODIFIED:20230517T081910Z
UID:19785-1683738000-1683741600@www.ayclogic.com
SUMMARY:5PM - Digital Illustration 3
DESCRIPTION:Finish Style 2 final projects
URL:https://www.ayclogic.com/event/5pm-digital-illustration-3-42/
CATEGORIES:Digital Illustration,Intermediate Digital Illustration
END:VEVENT
BEGIN:VEVENT
DTSTART;TZID=America/Los_Angeles:20230510T180000
DTEND;TZID=America/Los_Angeles:20230510T190000
DTSTAMP:20260421T061433
CREATED:20230511T030225Z
LAST-MODIFIED:20230511T030225Z
UID:19681-1683741600-1683745200@www.ayclogic.com
SUMMARY:6 PM – Scratch Level 2 – Allison
DESCRIPTION:Today we:\n\nFinished the How Old Are You? project\nStarted the Movie Ticket Price project\nAdded the background and edited the sprite Anthony’s costumes\nCoded the Anthony sprite to ask what the player’s name is\, what movie the player wants to watch\, and what the player’s age is\nCoded the answers to be stored in a variable\nCoded the Anthony sprite to say “You are a kid. You can have a ticket for $5” if the player puts the age numbers of 3-12\n\nImportant Reminders:\n\nAfter you finish your homework in Scratch\, send an email to allison@ayclogic.com by Tuesday at 8 PM. In that email\, write down your name and a link to your shared Scratch project homework. Make sure to share your Scratch project.\n\nHomework:\n\nCode the Anthony sprite to say:\n\n“You are a teenager. You can have a ticket for $10!” if the player puts the age numbers of 13-19\n“You are an adult. You can have a ticket for $15!” if the player puts the age numbers of 20-64\n“You are too young or too old to pay. You can have a ticket for free!” if the player puts any age number less than 3 or bigger than 64\n\n\nContact us if you have any questions or need any help
URL:https://www.ayclogic.com/event/6-pm-scratch-level-2-allison-14/
CATEGORIES:Scratch Class,Scratch Class Level 2
END:VEVENT
BEGIN:VEVENT
DTSTART;TZID=America/Los_Angeles:20230510T183000
DTEND;TZID=America/Los_Angeles:20230510T193000
DTSTAMP:20260421T061433
CREATED:20230511T023622Z
LAST-MODIFIED:20230518T013648Z
UID:19675-1683743400-1683747000@www.ayclogic.com
SUMMARY:6:30 PM – Intro To Python – Sebastian
DESCRIPTION:Today We Did\n\nFinished drawing letters and faces\, reviewed project proposal\nIn case you need anything\, feel free to email me at sebastian@ayclogic.com\n\nHomework\n\nName your homework MAY10_project_proposal\, please submit by next Tuesday.\nHomework: On a piece of paper\, using any drawing tools you want (markers\, pens\, pencils\, anything is fine)\, draw your project proposal which MUST fit these requirements:\nhttps://www.ayclogic.com/intro-to-python-final-project-criteria/\nIf you want to see examples of previous projects\, you can see them here:\nhttps://www.ayclogic.com/python-digital-illustrations/\n\nFinal project will be due on June 14th\, if you turn it in 1 week ahead (June 7th) you can get 10% extra credit. This means if everything is correct\, you would have 110% for the project grade!
URL:https://www.ayclogic.com/event/630-pm-intro-to-python-sebastian-18/
CATEGORIES:Python Class,Python Level 1
END:VEVENT
BEGIN:VEVENT
DTSTART;TZID=America/Los_Angeles:20230510T183000
DTEND;TZID=America/Los_Angeles:20230510T193000
DTSTAMP:20260421T061433
CREATED:20230513T210646Z
LAST-MODIFIED:20230513T210646Z
UID:19721-1683743400-1683747000@www.ayclogic.com
SUMMARY:6:30 PM - Intro to Python - Juan
DESCRIPTION:Today We Did\n\nReviewed about using a for loop with lists.\nFinishing using a for loop in range.\nStarted learning about while loops.\nContact me at juanfcastro03@gmail.com for any questions\n\nHomework\n\nPage. 118 – 121\nPage 123 Try It Yourself 7-4\, 7-5
URL:https://www.ayclogic.com/event/630-pm-intro-to-python-juan-3/
CATEGORIES:Python Class,Python Level 1
END:VEVENT
END:VCALENDAR