BEGIN:VCALENDAR
VERSION:2.0
PRODID:-//American Young Coder - ECPv6.10.1.1//NONSGML v1.0//EN
CALSCALE:GREGORIAN
METHOD:PUBLISH
X-WR-CALNAME:American Young Coder
X-ORIGINAL-URL:https://www.ayclogic.com
X-WR-CALDESC:Events for American Young Coder
REFRESH-INTERVAL;VALUE=DURATION:PT1H
X-Robots-Tag:noindex
X-PUBLISHED-TTL:PT1H
BEGIN:VTIMEZONE
TZID:America/Los_Angeles
BEGIN:DAYLIGHT
TZOFFSETFROM:-0800
TZOFFSETTO:-0700
TZNAME:PDT
DTSTART:20230312T100000
END:DAYLIGHT
BEGIN:STANDARD
TZOFFSETFROM:-0700
TZOFFSETTO:-0800
TZNAME:PST
DTSTART:20231105T090000
END:STANDARD
END:VTIMEZONE
BEGIN:VEVENT
DTSTART;TZID=America/Los_Angeles:20230511T160000
DTEND;TZID=America/Los_Angeles:20230511T170000
DTSTAMP:20260421T080002
CREATED:20230515T231008Z
LAST-MODIFIED:20230515T231008Z
UID:19757-1683820800-1683824400@www.ayclogic.com
SUMMARY:4 PM - Scratch 1 - Abigail
DESCRIPTION:What we did today\n\nWe finished working on the Birthday Card Project.\nWe started working on the Custom Birthday card project.\n\nHomework\n\nOn your Custom Birthday Card project\, replace the button with a picture of your parents\, friends\, etc.\nReplace the sharks with a picture of yourself.\nReplace the Birthday background with a pretty background image (cannot come from the sprite gallery)\n\nIf you have any questions\, email me at abigail@ayclogic.com
URL:https://www.ayclogic.com/event/4-pm-scratch-1-abigail-13/
END:VEVENT
BEGIN:VEVENT
DTSTART;TZID=America/Los_Angeles:20230511T180000
DTEND;TZID=America/Los_Angeles:20230511T190000
DTSTAMP:20260421T080002
CREATED:20230512T021016Z
LAST-MODIFIED:20230519T180150Z
UID:19686-1683828000-1683831600@www.ayclogic.com
SUMMARY:6 PM - Intro To Python - Gamas
DESCRIPTION:Today We Did\n\nWe went over String homework from page 20 to 21.\n\nHomework\n\nHomework is due on WED night and you have to upload to your assigned google drive. Jayden\, text me your gmail. Kade text me your gmail.\nCreate a new file May11_StringHomework2.py\nAnswer question 2-3\, 2-4\, 2-5\, 2-6 and 2-7. from page 25.\nIf you have any question\, feel free to email me at gamas@ayclogic.com. Please attach your codes if you have specific question about your code.
URL:https://www.ayclogic.com/event/6-pm-intro-to-python-gamas-24/
CATEGORIES:Python Class,Python Level 1
END:VEVENT
BEGIN:VEVENT
DTSTART;TZID=America/Los_Angeles:20230511T183000
DTEND;TZID=America/Los_Angeles:20230511T193000
DTSTAMP:20260421T080002
CREATED:20230512T032126Z
LAST-MODIFIED:20230519T013709Z
UID:19689-1683829800-1683833400@www.ayclogic.com
SUMMARY:6:30 PM - Scratch 1 - Yitong
DESCRIPTION:Homework\n\nContinue on May11_Draw4Shapes project.\nChange the code so there won’t be any line between the square and the rectangle.\nAdd code to draw the triangle according to coordinates in grid paper\nAdd code to draw the octagon according to coordinates in grid paper.\n\n\nSend your homework to this email: yitong@ayclogic.com
URL:https://www.ayclogic.com/event/7-pm-scratch-1-juan/
CATEGORIES:Scratch Class,Scratch Class Level 1
END:VEVENT
BEGIN:VEVENT
DTSTART;TZID=America/Los_Angeles:20230511T190000
DTEND;TZID=America/Los_Angeles:20230511T200000
DTSTAMP:20260421T080002
CREATED:20230516T012553Z
LAST-MODIFIED:20230516T012553Z
UID:19759-1683831600-1683835200@www.ayclogic.com
SUMMARY:7PM - Python Game Development - Latisha
DESCRIPTION:Today We Did\n\nKeep working on Birdie Game\n\nHomework\n\nAdd a groupcollide for the giant_fireball and bird inside game_in_session\, but only the bird will disappear.\nAlso\, make sure that the giant_fireball doesn’t cover the player when you shoot it and it should shoot from the front of the player.\n\nIf you have any questions\, you can ask me at latisha@ayclogic.com.
URL:https://www.ayclogic.com/event/7pm-python-game-development-latisha-18/
END:VEVENT
END:VCALENDAR