BEGIN:VCALENDAR
VERSION:2.0
PRODID:-//American Young Coder - ECPv6.10.1.1//NONSGML v1.0//EN
CALSCALE:GREGORIAN
METHOD:PUBLISH
X-ORIGINAL-URL:https://www.ayclogic.com
X-WR-CALDESC:Events for American Young Coder
REFRESH-INTERVAL;VALUE=DURATION:PT1H
X-Robots-Tag:noindex
X-PUBLISHED-TTL:PT1H
BEGIN:VTIMEZONE
TZID:America/Los_Angeles
BEGIN:DAYLIGHT
TZOFFSETFROM:-0800
TZOFFSETTO:-0700
TZNAME:PDT
DTSTART:20230312T100000
END:DAYLIGHT
BEGIN:STANDARD
TZOFFSETFROM:-0700
TZOFFSETTO:-0800
TZNAME:PST
DTSTART:20231105T090000
END:STANDARD
END:VTIMEZONE
BEGIN:VEVENT
DTSTART;TZID=America/Los_Angeles:20230521T110000
DTEND;TZID=America/Los_Angeles:20230521T120000
DTSTAMP:20260424T024027
CREATED:20230525T055843Z
LAST-MODIFIED:20230525T060233Z
UID:19961-1684666800-1684670400@www.ayclogic.com
SUMMARY:11 AM – Scratch Level 2 – Allison
DESCRIPTION:Today We:\n\nContinued the Fire and Ice Fight project\nFinished coding Gumball’s super power\nFinished coding the Ice sprite\nEdited coding bugs\n\nImportant Information:\nIn honor of Memorial Day weekend\, the school will be closed from Saturday 5/27 – Monday 5/29. There is no class next week. Our next class will be on Saturday 6/3. \nHomework:\n\nCode Darwin to go to the coordinates (-200\, -130) when the game starts\nCode Gumball to go to the coordinates (200\, -130) when the game starts\nContact us if you have any questions or need any help
URL:https://www.ayclogic.com/event/11-am-scratch-level-2-allison-2/
CATEGORIES:Scratch Class,Scratch Class Level 2
END:VEVENT
END:VCALENDAR