BEGIN:VCALENDAR
VERSION:2.0
PRODID:-//American Young Coder - ECPv6.10.1.1//NONSGML v1.0//EN
CALSCALE:GREGORIAN
METHOD:PUBLISH
X-WR-CALNAME:American Young Coder
X-ORIGINAL-URL:https://www.ayclogic.com
X-WR-CALDESC:Events for American Young Coder
REFRESH-INTERVAL;VALUE=DURATION:PT1H
X-Robots-Tag:noindex
X-PUBLISHED-TTL:PT1H
BEGIN:VTIMEZONE
TZID:America/Los_Angeles
BEGIN:DAYLIGHT
TZOFFSETFROM:-0800
TZOFFSETTO:-0700
TZNAME:PDT
DTSTART:20230312T100000
END:DAYLIGHT
BEGIN:STANDARD
TZOFFSETFROM:-0700
TZOFFSETTO:-0800
TZNAME:PST
DTSTART:20231105T090000
END:STANDARD
END:VTIMEZONE
BEGIN:VEVENT
DTSTART;TZID=America/Los_Angeles:20230523T170000
DTEND;TZID=America/Los_Angeles:20230523T180000
DTSTAMP:20260424T131901
CREATED:20230524T000840Z
LAST-MODIFIED:20230524T001528Z
UID:19936-1684861200-1684864800@www.ayclogic.com
SUMMARY:5 PM — Intro to Python — Shawn
DESCRIPTION:What we did\n\nQuiz\n\nHomework\n\nNone! Enjoy your week!\n\nIf you have any questions\, don’t hesitate to email me at szhuang@ayclogic.com.
URL:https://www.ayclogic.com/event/5-pm-intro-to-python-shawn-30/
END:VEVENT
BEGIN:VEVENT
DTSTART;TZID=America/Los_Angeles:20230523T170000
DTEND;TZID=America/Los_Angeles:20230523T180000
DTSTAMP:20260424T131901
CREATED:20230524T010402Z
LAST-MODIFIED:20230524T010402Z
UID:19940-1684861200-1684864800@www.ayclogic.com
SUMMARY:5:00 PM – Python Object Oriented Programming – Sebastian
DESCRIPTION:Today We Did\n\nBegan library system\nCreated Book class (remember\, our “model” for the book object)\nCreated add_book\, list_all_books\, and find_book_using_title\nIn case you need anything\, feel free to email me at sebastian@ayclogic.com\n\nHomework\n\nName your homework MAY23_library_system_hw\, please submit by next Monday.\nHomework:\na) First we need to add books to our books_by_id dictionary in the same add_book() method. This will be a bit different from how we did it for the books_dictionary dictionary\, it’s your job to try and find out the difference on how we should “add it”. \nb) Similar to how we created find_book_using_title()\, create a new method find_book_using_id() which will use our books_by_id dictionary attribute to find books after the user gives us a book ID. 
URL:https://www.ayclogic.com/event/500-pm-python-object-oriented-programming-sebastian-6/
CATEGORIES:OOP Python,Python Class
END:VEVENT
BEGIN:VEVENT
DTSTART;TZID=America/Los_Angeles:20230523T180000
DTEND;TZID=America/Los_Angeles:20230523T190000
DTSTAMP:20260424T131901
CREATED:20230524T001519Z
LAST-MODIFIED:20230524T020436Z
UID:19938-1684864800-1684868400@www.ayclogic.com
SUMMARY:6 PM — Intro to Python — Shawn
DESCRIPTION:What we did\n\nHomework Review\nFunction with return value\n\nHomework\n\nCopy pages 138 and 139 into file named May23_FunctionWithReturnValueHW.py\n\nIf you have any questions\, don’t hesitate to email me at szhuang@ayclogic.com.
URL:https://www.ayclogic.com/event/6-pm-intro-to-python-shawn-16/
END:VEVENT
BEGIN:VEVENT
DTSTART;TZID=America/Los_Angeles:20230523T180000
DTEND;TZID=America/Los_Angeles:20230523T190000
DTSTAMP:20260424T131901
CREATED:20230524T020949Z
LAST-MODIFIED:20230524T020949Z
UID:19942-1684864800-1684868400@www.ayclogic.com
SUMMARY:6 PM - Scratch 1 - Abigail
DESCRIPTION:What we did today\n\nWe continued working on the Animal Crossing project.\n\nHomework\n\nCreate 2 sprites. (Any sprites you want)\nMake one of the sprites move from the left side of the screen to the right side. When it touches the right side of the screen\, make it say “hi”.\nMake the other sprite glide from the bottom right corner to the top left corner.\n\nIf you have any questions\, email me at abigail@ayclogic.com
URL:https://www.ayclogic.com/event/6-pm-scratch-1-abigail-11/
CATEGORIES:Scratch Class,Scratch Class Level 1
END:VEVENT
BEGIN:VEVENT
DTSTART;TZID=America/Los_Angeles:20230523T180000
DTEND;TZID=America/Los_Angeles:20230523T190000
DTSTAMP:20260424T131901
CREATED:20230531T042136Z
LAST-MODIFIED:20230531T042136Z
UID:20034-1684864800-1684868400@www.ayclogic.com
SUMMARY:6PM - Digital Illustration 2
DESCRIPTION:Today we continued our Link project. \n \nNo homework
URL:https://www.ayclogic.com/event/6pm-digital-illustration-2-23/
CATEGORIES:Digital Illustration,Intermediate Digital Illustration
END:VEVENT
BEGIN:VEVENT
DTSTART;TZID=America/Los_Angeles:20230523T183000
DTEND;TZID=America/Los_Angeles:20230523T193000
DTSTAMP:20260424T131901
CREATED:20230524T023042Z
LAST-MODIFIED:20230524T023042Z
UID:19946-1684866600-1684870200@www.ayclogic.com
SUMMARY:6:30 PM – Python Object Oriented Programming – Sebastian
DESCRIPTION:Today We Did\n\nReviewed the homework which was preparation for the exam\nWent over more final exam preparation\nIn case you need anything\, feel free to email me at sebastian@ayclogic.com\n\nHomework\n\nName your homework MAY23_final_review_hw\, optionally submit by next Monday.\nHomework:\na) Optionally\, finish the final exam review that we started in class. You can design these classes however you want in order to really understand why we have different methods in attributes for these “System” classes \nb) Review the driver homework you were assigned to continue preparing for the final
URL:https://www.ayclogic.com/event/630-pm-python-object-oriented-programming-sebastian-21/
CATEGORIES:OOP Python,Python Class
END:VEVENT
BEGIN:VEVENT
DTSTART;TZID=America/Los_Angeles:20230523T183000
DTEND;TZID=America/Los_Angeles:20230523T193000
DTSTAMP:20260424T131901
CREATED:20230524T030930Z
LAST-MODIFIED:20230524T030930Z
UID:19948-1684866600-1684870200@www.ayclogic.com
SUMMARY:6:30 PM – Scratch Level 2 – Allison
DESCRIPTION:Today we:\n\nContinued the Spaceship 2.0 project\nFinished coding the Bomb clones\nCreated the Fireball Power-up sprite\nCreated the Bomb Power-up sprite\n\nImportant Reminders:\n\nAfter you finish your homework in Scratch\, send an email to allison@ayclogic.com by Monday at 8 PM. In that email\, write down your name and a link to your shared Scratch project homework. Make sure to share your Scratch project.\n\nHomework:\n\nIn your Spaceship 2.0 project:\n\nCreate a new variable and name it “Fireball”. This variable will keep track of how many fireballs the Rocketship can shoot.\nIn the Fireball Power-up sprite:\n\nCode the Fireball variable to equal to 2 when the game starts\nIf a Fireball Power-up clone touches the Rocketship sprite\, make the Fireball variable go up by one (in other words: +1)\nIf a Fireball Power-up clone touches the Rocketship sprite\, delete the Fireball Power-up clone\n\n\n\n\nIf you do not have the book\, ask your family if you can buy the Scratch Level 2 Book for the class. A picture of the book is below. You can buy the book online.\n\nIf possible\, please try to get the book by next week\nPlease let us know if you are unable to get the book\n\n\nContact us if you have any questions or need any help
URL:https://www.ayclogic.com/event/630-pm-scratch-level-2-allison-4/
CATEGORIES:Scratch Class,Scratch Class Level 2
END:VEVENT
BEGIN:VEVENT
DTSTART;TZID=America/Los_Angeles:20230523T190000
DTEND;TZID=America/Los_Angeles:20230523T200000
DTSTAMP:20260424T131901
CREATED:20230523T131158Z
LAST-MODIFIED:20230523T131221Z
UID:19932-1684868400-1684872000@www.ayclogic.com
SUMMARY:6 PM - Indo - Intro to Python - Joel
DESCRIPTION:Today we did:\n\nWe learned how to draw the left arm of the robot by combining two rectangles.\nWe also learned how to draw a circle.\n\nHomework:\n\nContinue with May1_RobotBuilder.py\nCreate a new function right_arm(x\,y\,color)\nInside this right_arm function\, you need to draw one right arm which composed of 2 rectangles. This is very similar to left_arm function.\nAfter the right arm functions are done\, call it three times so you have 3 arms on the right.
URL:https://www.ayclogic.com/event/6-pm-indo-python-joel/
END:VEVENT
END:VCALENDAR