BEGIN:VCALENDAR
VERSION:2.0
PRODID:-//American Young Coder - ECPv6.10.1.1//NONSGML v1.0//EN
CALSCALE:GREGORIAN
METHOD:PUBLISH
X-WR-CALNAME:American Young Coder
X-ORIGINAL-URL:https://www.ayclogic.com
X-WR-CALDESC:Events for American Young Coder
REFRESH-INTERVAL;VALUE=DURATION:PT1H
X-Robots-Tag:noindex
X-PUBLISHED-TTL:PT1H
BEGIN:VTIMEZONE
TZID:America/Los_Angeles
BEGIN:DAYLIGHT
TZOFFSETFROM:-0800
TZOFFSETTO:-0700
TZNAME:PDT
DTSTART:20230312T100000
END:DAYLIGHT
BEGIN:STANDARD
TZOFFSETFROM:-0700
TZOFFSETTO:-0800
TZNAME:PST
DTSTART:20231105T090000
END:STANDARD
END:VTIMEZONE
BEGIN:VEVENT
DTSTART;TZID=America/Los_Angeles:20230524T170000
DTEND;TZID=America/Los_Angeles:20230524T180000
DTSTAMP:20260424T145129
CREATED:20230525T212204Z
LAST-MODIFIED:20230531T051715Z
UID:19979-1684947600-1684951200@www.ayclogic.com
SUMMARY:5PM - Digital Illustration 3
DESCRIPTION:WEDNESDAY  \n>> Project Submissions Link << \nFinal Project ——>\n\nNatalie// Good job on finishing Style 1 and 2 of the final project. Last thing to do is to map out your reference character and styles\, like I showed in class. Here is the example:\n\n\n  \n\nKatie// Good job on finishing Style 1 and making progress on Style 2. Follow the steps to finish your project by next week.\n\n\n\n\nIn-class Progress ——>\n\nToday we started a new sketch for a girl drinking bubble tea.\nSince it is the last day\, we won’t be finishing this project in class\, but feel free to finish it on your own\, by adding your own style of face and hair and outfit to this character\, just for fun.\nThe second picture is the finished sketch without the background\, if your would like to use Teacher’s sketch as a template for your drawing. Right-click to save it.
URL:https://www.ayclogic.com/event/5pm-digital-illustration-3-44/
CATEGORIES:Digital Illustration,Intermediate Digital Illustration
END:VEVENT
BEGIN:VEVENT
DTSTART;TZID=America/Los_Angeles:20230524T180000
DTEND;TZID=America/Los_Angeles:20230524T190000
DTSTAMP:20260424T145129
CREATED:20230525T055244Z
LAST-MODIFIED:20230525T055244Z
UID:19955-1684951200-1684954800@www.ayclogic.com
SUMMARY:6 PM – Scratch Level 2 – Allison
DESCRIPTION:Today we:\n\nContinued the Jumpy Monkey project\nAdded gravity to the game\nCoded the launch speed\nCoded the Monkey to go back to the Launcher if it touches the Tree\n\nImportant Reminders:\n\nAfter you finish your homework in Scratch\, send an email to allison@ayclogic.com by Tuesday at 8 PM. In that email\, write down your name and a link to your shared Scratch project homework. Make sure to share your Scratch project.\n\nHomework:\n\nRead and do the codes in the yellow Scratch Book Pg. 100-101\nContact us if you have any questions or need any help
URL:https://www.ayclogic.com/event/6-pm-scratch-level-2-allison-16/
CATEGORIES:Scratch Class,Scratch Class Level 2
END:VEVENT
BEGIN:VEVENT
DTSTART;TZID=America/Los_Angeles:20230524T183000
DTEND;TZID=America/Los_Angeles:20230524T193000
DTSTAMP:20260424T145129
CREATED:20230525T023314Z
LAST-MODIFIED:20230525T023314Z
UID:19952-1684953000-1684956600@www.ayclogic.com
SUMMARY:6:30 PM – Intro To Python – Sebastian
DESCRIPTION:Today We Did\n\nReviewed progress on projects (great work on your projects everyone!!!)\nHelped with ideas and reviewed our semi circle function\nBegan GrocerySystem program\nIn case you need anything\, feel free to email me at sebastian@ayclogic.com\n\nHomework\n\nName your homework JAN17_dictionary_hw\, please submit by next Monday.\nHomework: Continue working on your projects and make as much progress as you can so you can finish a week early and get 10% extra credit!\nFinal project will be due on June 14th\, if you turn it in 1 week ahead (June 7th\, 2 weeks from now) you can get 10% extra credit. This means if everything is correct\, you would have 110% for the project grade!
URL:https://www.ayclogic.com/event/630-pm-intro-to-python-sebastian-20/
CATEGORIES:Python Class,Python Level 1
END:VEVENT
BEGIN:VEVENT
DTSTART;TZID=America/Los_Angeles:20230524T190000
DTEND;TZID=America/Los_Angeles:20230524T200000
DTSTAMP:20260424T145129
CREATED:20230531T023517Z
LAST-MODIFIED:20230531T023517Z
UID:20030-1684954800-1684958400@www.ayclogic.com
SUMMARY:7PM - Python Game Development - Latisha
DESCRIPTION:Today We Did\n\nKeep working on Birdie Game\n\nHomework\n\nload bird02_A.png and bird03_A.png into variables called self.bird2 and self.bird3\, then scale bird2 to the size (140\,100) and bird3 to the size (70\,40). Then blit bird2 to (100\,200) and bird3 to (500\,450)\n\nIf you have any questions\, you can ask me at latisha@ayclogic.com.
URL:https://www.ayclogic.com/event/7pm-python-game-development-latisha-20/
END:VEVENT
END:VCALENDAR