BEGIN:VCALENDAR
VERSION:2.0
PRODID:-//American Young Coder - ECPv6.10.1.1//NONSGML v1.0//EN
CALSCALE:GREGORIAN
METHOD:PUBLISH
X-WR-CALNAME:American Young Coder
X-ORIGINAL-URL:https://www.ayclogic.com
X-WR-CALDESC:Events for American Young Coder
REFRESH-INTERVAL;VALUE=DURATION:PT1H
X-Robots-Tag:noindex
X-PUBLISHED-TTL:PT1H
BEGIN:VTIMEZONE
TZID:America/Los_Angeles
BEGIN:DAYLIGHT
TZOFFSETFROM:-0800
TZOFFSETTO:-0700
TZNAME:PDT
DTSTART:20230312T100000
END:DAYLIGHT
BEGIN:STANDARD
TZOFFSETFROM:-0700
TZOFFSETTO:-0800
TZNAME:PST
DTSTART:20231105T090000
END:STANDARD
END:VTIMEZONE
BEGIN:VEVENT
DTSTART;TZID=America/Los_Angeles:20230602T173000
DTEND;TZID=America/Los_Angeles:20230602T183000
DTSTAMP:20260425T051033
CREATED:20230603T055315Z
LAST-MODIFIED:20230603T055315Z
UID:20082-1685727000-1685730600@www.ayclogic.com
SUMMARY:5:30 PM - Python Game Development - Bill
DESCRIPTION:Today We:\n\nFinished the Shoot Balloon project\n\nYour HW:\n\nnone
URL:https://www.ayclogic.com/event/530-pm-python-game-development-bill-29/
END:VEVENT
BEGIN:VEVENT
DTSTART;TZID=America/Los_Angeles:20230602T180000
DTEND;TZID=America/Los_Angeles:20230602T190000
DTSTAMP:20260425T051033
CREATED:20230603T004458Z
LAST-MODIFIED:20230603T004458Z
UID:20072-1685728800-1685732400@www.ayclogic.com
SUMMARY:6 PM – Python OOP – Shawn
DESCRIPTION:What we did\n\nClasses review\n\nHomework\n\nCreate a file named May19_ClassesHW4.py\nDo the TRY IT YOURSELF on page 167\n\nIf you have any questions\, don’t hesitate to email me at szhuang@ayclogic.com.
URL:https://www.ayclogic.com/event/6-pm-python-oop-shawn-7/
END:VEVENT
END:VCALENDAR