BEGIN:VCALENDAR
VERSION:2.0
PRODID:-//American Young Coder - ECPv6.10.1.1//NONSGML v1.0//EN
CALSCALE:GREGORIAN
METHOD:PUBLISH
X-WR-CALNAME:American Young Coder
X-ORIGINAL-URL:https://www.ayclogic.com
X-WR-CALDESC:Events for American Young Coder
REFRESH-INTERVAL;VALUE=DURATION:PT1H
X-Robots-Tag:noindex
X-PUBLISHED-TTL:PT1H
BEGIN:VTIMEZONE
TZID:America/Los_Angeles
BEGIN:DAYLIGHT
TZOFFSETFROM:-0800
TZOFFSETTO:-0700
TZNAME:PDT
DTSTART:20230312T100000
END:DAYLIGHT
BEGIN:STANDARD
TZOFFSETFROM:-0700
TZOFFSETTO:-0800
TZNAME:PST
DTSTART:20231105T090000
END:STANDARD
END:VTIMEZONE
BEGIN:VEVENT
DTSTART;TZID=America/Los_Angeles:20230607T170000
DTEND;TZID=America/Los_Angeles:20230607T180000
DTSTAMP:20260425T063925
CREATED:20230610T185035Z
LAST-MODIFIED:20230610T185035Z
UID:20163-1686157200-1686160800@www.ayclogic.com
SUMMARY:5 PM - Scratch 2 - Allison
DESCRIPTION:Gamas Sub \nToday We Did\n\nWe continued with Doom On The Broom.\nWe added the feature to make the witch turn left and right.\nWe added the bat sprite.\nWe utilized a variable to make sure the speed of the witch turns and the bat movement are the same.\n\nHomework\n\nContinue with Doom On The Broom project.\nWe partially did page 114 in the class. Please finish all the codes in page 114.\nAlso copy codes from page 115 to 117.
URL:https://www.ayclogic.com/event/5-pm-scratch-2-allison/
CATEGORIES:Scratch Class,Scratch Class Level 2
END:VEVENT
BEGIN:VEVENT
DTSTART;TZID=America/Los_Angeles:20230607T183000
DTEND;TZID=America/Los_Angeles:20230607T193000
DTSTAMP:20260425T063925
CREATED:20230608T023007Z
LAST-MODIFIED:20230608T023007Z
UID:20128-1686162600-1686166200@www.ayclogic.com
SUMMARY:6:30 PM - Intro to Python - Juan
DESCRIPTION:Today We Did\n\nQuiz #1\nStarted learning about functions and parameters.\n\nHomework\n\nName your file June14_Functions_HW.py\nDo Pg. 130-133 from book
URL:https://www.ayclogic.com/event/630-pm-intro-to-python-juan-5/
CATEGORIES:Python Class,Python Level 1
END:VEVENT
BEGIN:VEVENT
DTSTART;TZID=America/Los_Angeles:20230607T183000
DTEND;TZID=America/Los_Angeles:20230607T193000
DTSTAMP:20260425T063925
CREATED:20230608T023103Z
LAST-MODIFIED:20230608T023103Z
UID:20129-1686162600-1686166200@www.ayclogic.com
SUMMARY:6:30 PM – Intro To Python – Sebastian
DESCRIPTION:Today We Did\n\nLots of project review and advice\nWorked together to create a few more letters for our projects\nFinished Robux Balance Program\nIn case you need anything\, feel free to email me at sebastian@ayclogic.com\n\nHomework\n\nName your homework final_project\, please submit by next Tuesday.\nHomework: Finish up your projects\, project are due next time we meet! Please make sure you email me any questions you might have so we can finish it on time.
URL:https://www.ayclogic.com/event/630-pm-intro-to-python-sebastian-22/
CATEGORIES:Python Class,Python Level 1
END:VEVENT
BEGIN:VEVENT
DTSTART;TZID=America/Los_Angeles:20230607T190000
DTEND;TZID=America/Los_Angeles:20230607T200000
DTSTAMP:20260425T063925
CREATED:20230608T060057Z
LAST-MODIFIED:20230608T060057Z
UID:20134-1686164400-1686168000@www.ayclogic.com
SUMMARY:7 PM – Scratch Level 1 – Allison
DESCRIPTION:Today we:\n\nContinued the Dino Dance project\nLearned about directions in Scratch\nEdited coding bugs\n\nHomework:\n\nRead and do the codes in the Scratch Book Pg. 43-45. Do the codes in the same project we did in class. Do not create a new Scratch project.\nIf you do not have the book\, please email me so I can share pictures of the homework pages.\n\nPlease try to get the book below by next week. You can buy the book online. Let us know if you are unable to get the book.\n\n\nIf you do not have the image below (the one that says “Four Main Directions in Scratch”) in your notes\, copy the image on a piece of paper and save it for your notes.\nContact us at gamas@ayclogic.com or allison@ayclogic.com if you have any questions or need any help.\n\n \n 
URL:https://www.ayclogic.com/event/7-pm-scratch-level-1-allison-2/
CATEGORIES:Scratch Class,Scratch Class Level 1
END:VEVENT
BEGIN:VEVENT
DTSTART;TZID=America/Los_Angeles:20230607T190000
DTEND;TZID=America/Los_Angeles:20230607T200000
DTSTAMP:20260425T063925
CREATED:20230615T020009Z
LAST-MODIFIED:20230615T020009Z
UID:20220-1686164400-1686168000@www.ayclogic.com
SUMMARY:7PM - Python Game Development - Latisha
DESCRIPTION:Today We Did\n\nContinued working on Birdie\n\nHomework\n\nInside main.py create a new method called create_cloud() that should be similar to create_bird()\, Make a new cloud every 90 seconds
URL:https://www.ayclogic.com/event/7pm-python-game-development-latisha-23/
END:VEVENT
END:VCALENDAR