BEGIN:VCALENDAR
VERSION:2.0
PRODID:-//American Young Coder - ECPv6.10.1.1//NONSGML v1.0//EN
CALSCALE:GREGORIAN
METHOD:PUBLISH
X-ORIGINAL-URL:https://www.ayclogic.com
X-WR-CALDESC:Events for American Young Coder
REFRESH-INTERVAL;VALUE=DURATION:PT1H
X-Robots-Tag:noindex
X-PUBLISHED-TTL:PT1H
BEGIN:VTIMEZONE
TZID:America/Los_Angeles
BEGIN:DAYLIGHT
TZOFFSETFROM:-0800
TZOFFSETTO:-0700
TZNAME:PDT
DTSTART:20230312T100000
END:DAYLIGHT
BEGIN:STANDARD
TZOFFSETFROM:-0700
TZOFFSETTO:-0800
TZNAME:PST
DTSTART:20231105T090000
END:STANDARD
END:VTIMEZONE
BEGIN:VEVENT
DTSTART;TZID=America/Los_Angeles:20230619T160000
DTEND;TZID=America/Los_Angeles:20230619T170000
DTSTAMP:20260425T064213
CREATED:20230620T001859Z
LAST-MODIFIED:20230620T001859Z
UID:20275-1687190400-1687194000@www.ayclogic.com
SUMMARY:4 PM - Scratch 2 - Alex
DESCRIPTION:Gamas Sub \nWhat We Did\n\nWe learned using My Block can eliminate code duplication and reduce the length of your codes.\nWe enhanced Chase Cheese codes to use My Block to control mouse movement.\nWe started Intro To List project.\n\nHomework\n\nContinued with Intro To List project.\nAdd code so when the cat already say the last activities\, it will go back to the first activity. You have to add code to reset “index” variable back to 1 when it already reach number 6. Hint: you have to use IF THEN and also SET INDEX TO 1 codes.
URL:https://www.ayclogic.com/event/4-pm-scratch-2-alex/
CATEGORIES:Scratch Class,Scratch Class Level 2
END:VEVENT
BEGIN:VEVENT
DTSTART;TZID=America/Los_Angeles:20230619T190000
DTEND;TZID=America/Los_Angeles:20230619T203000
DTSTAMP:20260425T064213
CREATED:20230620T014806Z
LAST-MODIFIED:20230620T050303Z
UID:20285-1687201200-1687206600@www.ayclogic.com
SUMMARY:7:00 PM - Intro to Python - Juan
DESCRIPTION:Today We Did\n\nCompleted Quiz #2\n\nQuiz scores are sent to your email.\n\n\nStarted learning about the basics of Turtle Graphics.\nNew schedule: Monday/Thursday 7:00 PM – 8:30 PM\n\nHomework\n\nHomework due before our next class Thursday\, June 22.\nName your file June22_TurtleShapes_HW.py and do:\n\nCreate a new function “draw_rectangle”. One parameter: pen_color. Inside the function\, draw a rectangle shape using turtle module. Call the function and pass any color to the function.\nCreate a new function “draw_square”. One parameter: pen_color. Inside the function\, draw a square shape using turtle module. Call the function and pass any color to the function.\nCreate a new function “draw_octagon”. One parameter: pen_color. Inside the function\, draw a octagon shape using turtle module. Call the function and pass any color to the function.\nCreate a new function “draw_triangle”. One parameter: pen_color. Inside the function\, draw a triangle shape using turtle module. Call the function and pass any color to the function.\nLook at this image for your coordinates guidance\n\n\n\n\n\n\nQuestions? Email me at juan@ayclogic.com
URL:https://www.ayclogic.com/event/700-pm-intro-to-python-juan-2/
CATEGORIES:Python Class,Python Level 1
END:VEVENT
END:VCALENDAR