BEGIN:VCALENDAR
VERSION:2.0
PRODID:-//American Young Coder - ECPv6.10.1.1//NONSGML v1.0//EN
CALSCALE:GREGORIAN
METHOD:PUBLISH
X-ORIGINAL-URL:https://www.ayclogic.com
X-WR-CALDESC:Events for American Young Coder
REFRESH-INTERVAL;VALUE=DURATION:PT1H
X-Robots-Tag:noindex
X-PUBLISHED-TTL:PT1H
BEGIN:VTIMEZONE
TZID:America/Los_Angeles
BEGIN:DAYLIGHT
TZOFFSETFROM:-0800
TZOFFSETTO:-0700
TZNAME:PDT
DTSTART:20230312T100000
END:DAYLIGHT
BEGIN:STANDARD
TZOFFSETFROM:-0700
TZOFFSETTO:-0800
TZNAME:PST
DTSTART:20231105T090000
END:STANDARD
END:VTIMEZONE
BEGIN:VEVENT
DTSTART;TZID=America/Los_Angeles:20230621T180000
DTEND;TZID=America/Los_Angeles:20230621T190000
DTSTAMP:20260424T234922
CREATED:20230622T023739Z
LAST-MODIFIED:20230622T023739Z
UID:20317-1687370400-1687374000@www.ayclogic.com
SUMMARY:6 PM – Scratch Level 2 – Allison
DESCRIPTION:Today we:\n\nContinued the Doom on the Broom project\nCoded the Forcefield sprite\n\nImportant Reminders:\n\nAfter you finish your homework in Scratch\, send an email to allison@ayclogic.com by Tuesday at 8 PM. In that email\, write down your name and a link to your shared Scratch project homework. Make sure to share your Scratch project.\n\nHomework:\n\nDuplicate the Hippo 1 sprite. Rename the new sprite to Hippo 2.\nChange the Hippo 2’s code so that if the Fireball and Hippo touch\, one extra forcefield will be added INSTEAD of adding one extra life.\nContact us if you have any questions or need any help.
URL:https://www.ayclogic.com/event/6-pm-scratch-level-2-allison-19/
CATEGORIES:Scratch Class,Scratch Class Level 2
END:VEVENT
BEGIN:VEVENT
DTSTART;TZID=America/Los_Angeles:20230621T183000
DTEND;TZID=America/Los_Angeles:20230621T193000
DTSTAMP:20260424T234922
CREATED:20230622T023350Z
LAST-MODIFIED:20230622T023512Z
UID:20316-1687372200-1687375800@www.ayclogic.com
SUMMARY:6:30 PM - Intro to Python - Juan
DESCRIPTION:Today We Did\n\nReviewed HW problems 6\, 7 from:\nhttps://www.ayclogic.com/list-inputs-if-and-else-loops-and-function/\nLearned about the random module\, random.choice() and random.randint()\nView what we covered today at: https://drive.google.com/drive/u/1/folders/1ZUAbuGWWGPRXxcEKHRhFdGLyFc7N5Jva\n\nHomework\n\nName your file: June28_Magic8Ball_HW.py and do:\n\nhttps://www.ayclogic.com/intro-to-python/magic-8-ball/
URL:https://www.ayclogic.com/event/630-pm-intro-to-python-juan-7/
CATEGORIES:Python Class,Python Level 1
END:VEVENT
BEGIN:VEVENT
DTSTART;TZID=America/Los_Angeles:20230621T190000
DTEND;TZID=America/Los_Angeles:20230621T200000
DTSTAMP:20260424T234922
CREATED:20230622T041331Z
LAST-MODIFIED:20230622T235847Z
UID:20325-1687374000-1687377600@www.ayclogic.com
SUMMARY:7 PM – Scratch Level 1 – Allison
DESCRIPTION:Today we:\n\nFinished the Dino Dance project\nStarted the Animal Race project\nLearned about variables\nCoded the Cat sprite to count\n\nHomework:\n\nRead and do the codes in the Scratch book pg. 51-54\, steps #7-15. Please do the codes in the same Animal Race project we did in class.\nMake sure your email is confirmed in Scratch so you can share your projects. If you need help\, try searching a tutorial in Google or email us for help.\nContact us at gamas@ayclogic.com or allison@ayclogic.com if you have any questions or need any help.
URL:https://www.ayclogic.com/event/7-pm-scratch-level-1-allison-4/
CATEGORIES:Scratch Class,Scratch Class Level 1
END:VEVENT
BEGIN:VEVENT
DTSTART;TZID=America/Los_Angeles:20230621T190000
DTEND;TZID=America/Los_Angeles:20230621T200000
DTSTAMP:20260424T234922
CREATED:20230627T015145Z
LAST-MODIFIED:20230627T015145Z
UID:20406-1687374000-1687377600@www.ayclogic.com
SUMMARY:7PM - Python Game Development - Latisha
DESCRIPTION:Today We Did\n\nContinued working on Birdie Game\n\nHomework\n\nfinish the keyboard controls for the player. Use the up-down-left-right arrow keys for it.
URL:https://www.ayclogic.com/event/7pm-python-game-development-latisha-28/
END:VEVENT
END:VCALENDAR