BEGIN:VCALENDAR
VERSION:2.0
PRODID:-//American Young Coder - ECPv6.10.1.1//NONSGML v1.0//EN
CALSCALE:GREGORIAN
METHOD:PUBLISH
X-ORIGINAL-URL:https://www.ayclogic.com
X-WR-CALDESC:Events for American Young Coder
REFRESH-INTERVAL;VALUE=DURATION:PT1H
X-Robots-Tag:noindex
X-PUBLISHED-TTL:PT1H
BEGIN:VTIMEZONE
TZID:America/Los_Angeles
BEGIN:DAYLIGHT
TZOFFSETFROM:-0800
TZOFFSETTO:-0700
TZNAME:PDT
DTSTART:20230312T100000
END:DAYLIGHT
BEGIN:STANDARD
TZOFFSETFROM:-0700
TZOFFSETTO:-0800
TZNAME:PST
DTSTART:20231105T090000
END:STANDARD
END:VTIMEZONE
BEGIN:VEVENT
DTSTART;TZID=America/Los_Angeles:20230626T150000
DTEND;TZID=America/Los_Angeles:20230626T170000
DTSTAMP:20260425T064236
CREATED:20230627T000825Z
LAST-MODIFIED:20230627T000825Z
UID:20400-1687791600-1687798800@www.ayclogic.com
SUMMARY:3:00 PM - Intro to Python - Juan
DESCRIPTION:Today We Did\n\nLearned about variables\, data types: int\, float\, string\, and boolean.\n\nint and string operations.\nConverting data types\, int()\, str()…\n\n\nLearned about if-elif-else statements.\n\nLearned about boolean expressions.\n\n\nView what we covered today at https://drive.google.com/drive/u/1/folders/19Kl2Yg3yOu6YAXIjkh3fsztpv3OxsmvA\n\nHomework\n\nName your file June_28_String_HW.py and do:\n\nCopy pages 20-23\nPg. 25 – TRY IT YOURSELF 2-3\, 2-4\, 2-5\, 2-6\n\n\nName your file June_28_IF_ELSE_HW.py and do:\n\nCopy pages 78-81\nPg. 84 – 5-3\, 5-4\n\n\nUpload both files to your google drive folder.\nQuestions? Email me at juan@ayclogic.com
URL:https://www.ayclogic.com/event/300-pm-intro-to-python-juan/
CATEGORIES:Python Class,Python Level 1
END:VEVENT
BEGIN:VEVENT
DTSTART;TZID=America/Los_Angeles:20230626T160000
DTEND;TZID=America/Los_Angeles:20230626T170000
DTSTAMP:20260425T064236
CREATED:20230710T160701Z
LAST-MODIFIED:20230710T160701Z
UID:20530-1687795200-1687798800@www.ayclogic.com
SUMMARY:4 PM -Scratch Level 2 - Alexander Lee
DESCRIPTION:Today We Did:\n1. Changed the Mary Had A Little Lamb project to use list \n2. Got used to how to use the list blocks \nFor Homework:\n1. Create a new list to play Happy Birthday To You \n2. Make it so that the conductor plays Happy Birthday instead of Mary Had a Little Lamb \n 
URL:https://www.ayclogic.com/event/4-pm-scratch-level-2-alexander-lee-2/
CATEGORIES:Scratch Class,Scratch Class Level 2
END:VEVENT
BEGIN:VEVENT
DTSTART;TZID=America/Los_Angeles:20230626T190000
DTEND;TZID=America/Los_Angeles:20230626T203000
DTSTAMP:20260425T064236
CREATED:20230627T034230Z
LAST-MODIFIED:20230627T034230Z
UID:20408-1687806000-1687811400@www.ayclogic.com
SUMMARY:7:00 PM - Intro to Python - Juan
DESCRIPTION:Today We Did\n\nReviewed last week’s homework.\nModified our rectangle function\, using parameters\, to specify:\n\nStarting (x\, y) coordinates.\nLength and width.\nColor and fill color\n\n\nCreated a left_arm function for our robot\, using the rectangle function\nView what we covered at: https://drive.google.com/file/d/1oKiaJ6MnWjaZzvZwcNI1lBQ52_JkTn1S/view\nNew schedule: Monday/Thursday 7:00 PM – 8:30 PM\n\nHomework\n\nName your file June29_RobotBuilder_HW.py and do:\n\nCreate a function for the right_arm\, torso\, and legs\nAttempt to combine the torso with the left_arm\, right_arm\, torso\, and legs\n\n\nQuestions? Email me at juan@ayclogic.com
URL:https://www.ayclogic.com/event/700-pm-intro-to-python-juan/
CATEGORIES:Python Class,Python Level 1
END:VEVENT
END:VCALENDAR