BEGIN:VCALENDAR
VERSION:2.0
PRODID:-//American Young Coder - ECPv6.10.1.1//NONSGML v1.0//EN
CALSCALE:GREGORIAN
METHOD:PUBLISH
X-WR-CALNAME:American Young Coder
X-ORIGINAL-URL:https://www.ayclogic.com
X-WR-CALDESC:Events for American Young Coder
REFRESH-INTERVAL;VALUE=DURATION:PT1H
X-Robots-Tag:noindex
X-PUBLISHED-TTL:PT1H
BEGIN:VTIMEZONE
TZID:America/Los_Angeles
BEGIN:DAYLIGHT
TZOFFSETFROM:-0800
TZOFFSETTO:-0700
TZNAME:PDT
DTSTART:20230312T100000
END:DAYLIGHT
BEGIN:STANDARD
TZOFFSETFROM:-0700
TZOFFSETTO:-0800
TZNAME:PST
DTSTART:20231105T090000
END:STANDARD
END:VTIMEZONE
BEGIN:VEVENT
DTSTART;TZID=America/Los_Angeles:20230627T170000
DTEND;TZID=America/Los_Angeles:20230627T180000
DTSTAMP:20260425T082809
CREATED:20230628T013841Z
LAST-MODIFIED:20230628T013841Z
UID:20412-1687885200-1687888800@www.ayclogic.com
SUMMARY:5:00 PM – Python Object Oriented Programming – Sebastian
DESCRIPTION:Today We Did\n\nContinued Monster System program\nAdded new menu items to get the last bit of required user input\nIn case you need anything\, feel free to email me at sebastian@ayclogic.com\n\nHomework\n\nName your homework however you’d like (you may submit your original copy from class)\, please submit by next Monday.\nHomework: Complete the following:\na) At the end of our play() method in the MonsterSystem class\, if the attack_selection was 1 then call magic_attack()\, if it was 2 then call sword_attack() \nb) magic_attack(self\, monster) will get user input while showing the user the magic_attack_menu attribute\, then store it in variable named selection. If selection is 1\, set a variable to a random int from 5-10\, if its 2 then random int 5-10\, if its 3 then random int 5-15\, if its 4 random int 5-8 (from 5 to the specified max value in the menu attribute). \nc) Then by looking at the magic_attack_menu\, you will call the receive_magic_attack() method belonging to the monster which was passed as a parameter to magic_attack()\, giving receive_magic_attack the random number and the corresponding magic type (fire/water/earth/wind) as parameters. \nd) Finally\, add a case to see if the user gave an invalid selection (since you already checked for 1\,2\,3\,4\, we can simplify this). If so\, print an error message and ‘return’ from the method
URL:https://www.ayclogic.com/event/500-pm-python-object-oriented-programming-sebastian-11/
CATEGORIES:OOP Python,Python Class
END:VEVENT
BEGIN:VEVENT
DTSTART;TZID=America/Los_Angeles:20230627T170000
DTEND;TZID=America/Los_Angeles:20230627T190000
DTSTAMP:20260425T082809
CREATED:20230628T021453Z
LAST-MODIFIED:20230628T021453Z
UID:20415-1687885200-1687892400@www.ayclogic.com
SUMMARY:5 PM - Intro to Java - William
DESCRIPTION:Today we did:\n\nFinished List operations\nEnhanced For Loops (For Each Loops)\nFor Loops\, incorporating arrays\n\nHomework:\n\nCreate new Java HW files:\n\nJune27ForLoopIfElseHW.java \n\nhttps://www.ayclogic.com/java-for-loop-if-else/\n\n\nJune27IfElseScannerHW.java (Problems 1 and 2)\n\nhttps://www.ayclogic.com/java-list-forloop/\nJune27GameInventory.java (Problem 3)\n\n\n\n\nThe HW is due by Sunday July 9th. Please upload to your assigned Google Drive folders.\n\nNOTE THAT WE HAVE NO CLASS NEXT WEEK DUE TO INDEPENDENCE DAY HOLIDAY!  \nIf you have any questions\, please email me at williamsmith@ayclogic.com
URL:https://www.ayclogic.com/event/5-pm-intro-to-java-william/
CATEGORIES:Introduction To Java,Java
END:VEVENT
BEGIN:VEVENT
DTSTART;TZID=America/Los_Angeles:20230627T180000
DTEND;TZID=America/Los_Angeles:20230627T190000
DTSTAMP:20260425T082809
CREATED:20230628T005639Z
LAST-MODIFIED:20230712T003341Z
UID:20410-1687888800-1687892400@www.ayclogic.com
SUMMARY:6 PM – Intro To Python – Shawn
DESCRIPTION:Today We Did\n\nQuiz 2\n\nHomework \n\nNone – enjoy your break!\n\nNOTE THAT WE HAVE NO CLASS NEXT WEEK DUE TO INDEPENDENCE DAY HOLIDAY!  \nIf you have questions\, feel free to email szhuang@ayclogic.com
URL:https://www.ayclogic.com/event/6-pm-intro-to-python-shawn-21/
END:VEVENT
BEGIN:VEVENT
DTSTART;TZID=America/Los_Angeles:20230627T180000
DTEND;TZID=America/Los_Angeles:20230627T190000
DTSTAMP:20260425T082809
CREATED:20230628T022201Z
LAST-MODIFIED:20230628T022201Z
UID:20417-1687888800-1687892400@www.ayclogic.com
SUMMARY:6 PM - Scratch 1 - Abigail
DESCRIPTION:What we did today\n\nWe finished working on the Tunnel of Doom project.\nWe started working on the Spiralizer project.\n\nHomework\n\nDo pages 98-99.\nMake a background with at least 2 colors.\n\nIf you have any questions\, email me at abigail@ayclogic.com \nNo class next week!!
URL:https://www.ayclogic.com/event/6-pm-scratch-1-abigail-16/
END:VEVENT
BEGIN:VEVENT
DTSTART;TZID=America/Los_Angeles:20230627T183000
DTEND;TZID=America/Los_Angeles:20230627T193000
DTSTAMP:20260425T082809
CREATED:20230629T053437Z
LAST-MODIFIED:20230629T053655Z
UID:20450-1687890600-1687894200@www.ayclogic.com
SUMMARY:6:30 PM – Scratch Level 2 – Allison
DESCRIPTION:Today we:\n\nContinued the Cheese Chase project\nBegan creating level 2\nAdded more Beetle sprites\nCreated another Maze costume\n\nImportant Information:\n\nIn honor of Independence Day\, the school will be closed from Saturday 7/1 – Friday 7/7. There is no class next week. Our next class will be on Tuesday 7/11.\n\nImportant Reminders:\n\nAfter you finish your homework in Scratch\, send an email to allison@ayclogic.com by Monday at 8 PM. In that email\, write down your name and a link to your shared Scratch project homework. Make sure to share your Scratch project.\n\nHomework:\n\nRead and do the codes in the yellow Scratch book pg. 56.\nCreate a Banner sprite. This sprite should have two costumes.\n\nOne costume should be a banner with the words “Game Over”\nAnother costume should be a banner with the words “You win”\n\n\nCreate a Level Banner sprite. This sprite should have two costumes.\n\nOne costume should be a banner with the words “Level 1”\nAnother costume should be a banner with the words “Level 2”\n\n\nContact us if you have any questions or need any help
URL:https://www.ayclogic.com/event/630-pm-scratch-level-2-allison-9/
CATEGORIES:Scratch Class,Scratch Class Level 2
END:VEVENT
END:VCALENDAR