BEGIN:VCALENDAR
VERSION:2.0
PRODID:-//American Young Coder - ECPv6.10.1.1//NONSGML v1.0//EN
CALSCALE:GREGORIAN
METHOD:PUBLISH
X-WR-CALNAME:American Young Coder
X-ORIGINAL-URL:https://www.ayclogic.com
X-WR-CALDESC:Events for American Young Coder
REFRESH-INTERVAL;VALUE=DURATION:PT1H
X-Robots-Tag:noindex
X-PUBLISHED-TTL:PT1H
BEGIN:VTIMEZONE
TZID:America/Los_Angeles
BEGIN:DAYLIGHT
TZOFFSETFROM:-0800
TZOFFSETTO:-0700
TZNAME:PDT
DTSTART:20230312T100000
END:DAYLIGHT
BEGIN:STANDARD
TZOFFSETFROM:-0700
TZOFFSETTO:-0800
TZNAME:PST
DTSTART:20231105T090000
END:STANDARD
END:VTIMEZONE
BEGIN:VEVENT
DTSTART;TZID=America/Los_Angeles:20230629T160000
DTEND;TZID=America/Los_Angeles:20230629T170000
DTSTAMP:20260425T063928
CREATED:20230630T000825Z
LAST-MODIFIED:20230630T000825Z
UID:20454-1688054400-1688058000@www.ayclogic.com
SUMMARY:4 PM - Scratch 1 - Abigail
DESCRIPTION:What we did today\n\nWe finished working on the Punch Dummy project.\n\nHomework\n\nAdd the “Big Boing” sound effect whenever you punch the dummy.\noptional: try to do the Boxing glove sprite. Use your other projects as reference. (the Boxing glove image should be in “project resources”)\n\nIf you have any questions\, email me at abigail@ayclogic.com \nNO CLASS NEXT WEEK!\n 
URL:https://www.ayclogic.com/event/4-pm-scratch-1-abigail-20/
CATEGORIES:Scratch Class,Scratch Class Level 1
END:VEVENT
BEGIN:VEVENT
DTSTART;TZID=America/Los_Angeles:20230629T180000
DTEND;TZID=America/Los_Angeles:20230629T190000
DTSTAMP:20260425T063928
CREATED:20230630T020944Z
LAST-MODIFIED:20230630T022106Z
UID:20458-1688061600-1688065200@www.ayclogic.com
SUMMARY:6 PM - Intro to Python - Darin
DESCRIPTION:Today We Did:\n\nHow to access lists\nAdd items to a list\nRemove items from a list\, and\nModify lists.\n\nHomework\n\nCreate new python file named June29_ListHomework.py\nFor those with second edition book: Page 38 to 41: access\, modify\, append\, remove\nFor those with third edition book: Page 37 to 41 (Do not do try it yourself section)\nSubmit into google drive\nIf you have any questions\, email me at ddjapri@ayclogic.com
URL:https://www.ayclogic.com/event/6-pm-intro-to-python-darin/
CATEGORIES:Python Class,Python Level 1
END:VEVENT
BEGIN:VEVENT
DTSTART;TZID=America/Los_Angeles:20230629T183000
DTEND;TZID=America/Los_Angeles:20230629T193000
DTSTAMP:20260425T063928
CREATED:20230630T022506Z
LAST-MODIFIED:20230630T042251Z
UID:20464-1688063400-1688067000@www.ayclogic.com
SUMMARY:6:30 PM – Scratch 1 – Yitong
DESCRIPTION:Today we:\n\nFinished the Window Cleaner project.\nStarted the Birthday Card project.\n\nHomework:\n\nFind 1 picture of your mom and 2 different pictures of yourself. Make sure to save them on the device that you’re using to do Scratch\, and make sure you know where to find them.\nAdd the second arrow and make it start on the right side of the screen. Make it point to the left and move to the left just like the first arrow.\n\n\nSend your homework to this email: yitong@ayclogic.com \n\nDon’t forget to share your project before you submit it.\nRemember that homework is due Wednesday night!\n\nNO CLASS FROM JULY 1 – JULY 7 \nCLASS WILL RESUME ON JULY 8
URL:https://www.ayclogic.com/event/630-pm-scratch-1-yitong-7/
CATEGORIES:Scratch Class,Scratch Class Level 1
END:VEVENT
BEGIN:VEVENT
DTSTART;TZID=America/Los_Angeles:20230629T190000
DTEND;TZID=America/Los_Angeles:20230629T200000
DTSTAMP:20260425T063928
CREATED:20230706T013751Z
LAST-MODIFIED:20230706T013751Z
UID:20488-1688065200-1688068800@www.ayclogic.com
SUMMARY:7PM - Python Game Development - Latisha
DESCRIPTION:Today We Did\n\nContinued working on Flappy Duck Game\n\nHomework\n\nMake the Coin class in coin.py\, using the coin_1-3 images for animation. In main.py\, make a coin group and 1 coin and show it on the screen.\n\nNOTE: There is no class next week 7/6 because of July 4th Holiday! \nIf you have any questions\, please send an email to latisha@ayclogic.com
URL:https://www.ayclogic.com/event/7pm-python-game-development-latisha-29/
END:VEVENT
BEGIN:VEVENT
DTSTART;TZID=America/Los_Angeles:20230629T190000
DTEND;TZID=America/Los_Angeles:20230629T203000
DTSTAMP:20260425T063928
CREATED:20230630T001700Z
LAST-MODIFIED:20230630T035748Z
UID:20456-1688065200-1688070600@www.ayclogic.com
SUMMARY:7:00 PM - Intro to Python - Juan
DESCRIPTION:Today We Did\n\nReviewed last week’s homework for Robot Builder.\nComplex shapes and polygons.\nNo class next week. Next class on July 10\, 7:00 PM.\n\nHomework\n\nProject proposal (drawing) due July 10.\n\nProject criteria:\nhttps://www.ayclogic.com/intro-to-python-final-project-criteria/\n\n\nQuestions? Email me at juan@ayclogic.com
URL:https://www.ayclogic.com/event/700-pm-intro-to-python-juan-3/
CATEGORIES:Python Class,Python Level 1
END:VEVENT
END:VCALENDAR