BEGIN:VCALENDAR
VERSION:2.0
PRODID:-//American Young Coder - ECPv6.10.1.1//NONSGML v1.0//EN
CALSCALE:GREGORIAN
METHOD:PUBLISH
X-WR-CALNAME:American Young Coder
X-ORIGINAL-URL:https://www.ayclogic.com
X-WR-CALDESC:Events for American Young Coder
REFRESH-INTERVAL;VALUE=DURATION:PT1H
X-Robots-Tag:noindex
X-PUBLISHED-TTL:PT1H
BEGIN:VTIMEZONE
TZID:America/Los_Angeles
BEGIN:DAYLIGHT
TZOFFSETFROM:-0800
TZOFFSETTO:-0700
TZNAME:PDT
DTSTART:20230312T100000
END:DAYLIGHT
BEGIN:STANDARD
TZOFFSETFROM:-0700
TZOFFSETTO:-0800
TZNAME:PST
DTSTART:20231105T090000
END:STANDARD
END:VTIMEZONE
BEGIN:VEVENT
DTSTART;TZID=America/Los_Angeles:20230705T150000
DTEND;TZID=America/Los_Angeles:20230705T170000
DTSTAMP:20260425T093706
CREATED:20230705T214054Z
LAST-MODIFIED:20230705T214054Z
UID:20486-1688569200-1688576400@www.ayclogic.com
SUMMARY:3:00 PM – Intro to Python – Juan
DESCRIPTION:Today We Did\n\nReviewed the homework due today for lists and if elif else.\nReviewed:\n\nIf-elif-else\nLists\n\n\nLearned about for loops:\n\nFor loop with list\nFor loop with range\n\n\nView what we covered today at https://drive.google.com/drive/u/1/folders/19Kl2Yg3yOu6YAXIjkh3fsztpv3OxsmvA\n\nHomework\n\nName your file July5_for_loop_list_HW.py and do:\n\nCopy pages 54 and 55\nPg. 56\, do all the Try It Yourself problems\n\n\nName your file July5_animal_list_and_for_loop.py and do:\n\nhttps://www.ayclogic.com/animal-list-and-for-loop-exercises/\n\n\nName your file July5_for_loop_with_range_HW.py and do:\n\nCopy pages 57-58\n\n\nUpload the three files to your google drive folder.\nQuestions? Email Shawn at szhuang@ayclogic.com or Juan at juan@ayclogic.com.
URL:https://www.ayclogic.com/event/300-pm-intro-to-python-juan-3/
END:VEVENT
END:VCALENDAR