BEGIN:VCALENDAR
VERSION:2.0
PRODID:-//American Young Coder - ECPv6.10.1.1//NONSGML v1.0//EN
CALSCALE:GREGORIAN
METHOD:PUBLISH
X-ORIGINAL-URL:https://www.ayclogic.com
X-WR-CALDESC:Events for American Young Coder
REFRESH-INTERVAL;VALUE=DURATION:PT1H
X-Robots-Tag:noindex
X-PUBLISHED-TTL:PT1H
BEGIN:VTIMEZONE
TZID:America/Los_Angeles
BEGIN:DAYLIGHT
TZOFFSETFROM:-0800
TZOFFSETTO:-0700
TZNAME:PDT
DTSTART:20230312T100000
END:DAYLIGHT
BEGIN:STANDARD
TZOFFSETFROM:-0700
TZOFFSETTO:-0800
TZNAME:PST
DTSTART:20231105T090000
END:STANDARD
END:VTIMEZONE
BEGIN:VEVENT
DTSTART;TZID=America/Los_Angeles:20230708T093000
DTEND;TZID=America/Los_Angeles:20230708T103000
DTSTAMP:20260425T081257
CREATED:20230708T211018Z
LAST-MODIFIED:20230708T211018Z
UID:20493-1688808600-1688812200@www.ayclogic.com
SUMMARY:9:30 AM – Scratch 1 – Yitong
DESCRIPTION:Today we:\n\nTook the Scratch Level 1 Final Test.\n\nHomework:\n\nNo homework! When I am done grading your test I will release your score. You will get an email showing your score. If you get a 70% or above\, you pass and you don’t have to come to class next week. If you do not pass\, you will have to come to class next week.
URL:https://www.ayclogic.com/event/930-am-scratch-1-yitong-21/
CATEGORIES:Scratch Class,Scratch Class Level 1
END:VEVENT
BEGIN:VEVENT
DTSTART;TZID=America/Los_Angeles:20230708T140000
DTEND;TZID=America/Los_Angeles:20230708T150000
DTSTAMP:20260425T081257
CREATED:20230709T022453Z
LAST-MODIFIED:20230709T022659Z
UID:20505-1688824800-1688828400@www.ayclogic.com
SUMMARY:2 PM – Python Object Oriented Programming – Sebastian
DESCRIPTION:Today We Did\n\nAdded object oriented programming to grocery shopping cart with GroceryItem class\nIn case you need anything\, feel free to email me at sebastian@ayclogic.com\n\nHomework\n\nName your homework JUN8_OOP_hw\, please submit by next Friday.\nHomework: Page 167 – TRY IT YOURSELF
URL:https://www.ayclogic.com/event/2-pm-python-object-oriented-programming-sebastian-3/
CATEGORIES:OOP Python,Python Class
END:VEVENT
BEGIN:VEVENT
DTSTART;TZID=America/Los_Angeles:20230708T150000
DTEND;TZID=America/Los_Angeles:20230708T160000
DTSTAMP:20260425T081257
CREATED:20230708T230356Z
LAST-MODIFIED:20230708T233338Z
UID:20496-1688828400-1688832000@www.ayclogic.com
SUMMARY:3 PM - Adv Python Game Dev - Gamas
DESCRIPTION:Today We Did\n\nWe setup SAT-3PM-TOD project.\nWe created gitlab project and clone them and checkout individual branches.\nAdded background and Enemy class.\n\nHomework\n\nInside Enemy class\, resize the image according to the size parameter. figure out the size your self so it will fit the road in the background image. When you resize\, make sure the height is bigger than the width.\nDisplay the Enemy on the screen on the bottom side of the road.\nAnimate the enemy sprite so it will load from 2_enemies_1_RUN_000.png to 2_enemies_1_RUN_009.png. Use for loop in range to produce the right filename suffix and load all the images.
URL:https://www.ayclogic.com/event/3-pm-adv-python-game-dev-gamas/
CATEGORIES:Advanced Python Game Development
END:VEVENT
BEGIN:VEVENT
DTSTART;TZID=America/Los_Angeles:20230708T150000
DTEND;TZID=America/Los_Angeles:20230708T160000
DTSTAMP:20260425T081257
CREATED:20230709T023514Z
LAST-MODIFIED:20230709T023514Z
UID:20514-1688828400-1688832000@www.ayclogic.com
SUMMARY:3 PM – Python Object Oriented Programming– Sebastian
DESCRIPTION:Today We Did\n\nFirst day of class\, learned about dictionaries!\nHow do the following in dictionaries:\ncreate\, get key’s value\, add key/value pair to dictionary\, update key’s value\, delete item from dictionary\, get dictionary length\, loop through each key/value/item\nIn case you need anything\, feel free to email me at sebastian@ayclogic.com\n\nHomework\n\nName your homework JUN8_dictionary_hw\, please submit by next Friday.\nHomework: From the book do the following\na) Page 92 to 97.\nb) Page 99 TRY IT YOURSELF. 6-1 and 6-2
URL:https://www.ayclogic.com/event/3-pm-python-object-oriented-programming-sebastian/
CATEGORIES:OOP Python,Python Class
END:VEVENT
BEGIN:VEVENT
DTSTART;TZID=America/Los_Angeles:20230708T160000
DTEND;TZID=America/Los_Angeles:20230708T170000
DTSTAMP:20260425T081257
CREATED:20230710T031754Z
LAST-MODIFIED:20230710T031754Z
UID:20525-1688832000-1688835600@www.ayclogic.com
SUMMARY:4 PM - Python Game Development - Bill
DESCRIPTION:Your HW:\n\nContinue to work on your game\nRemember that anything you did not complete previously is also added onto your homework (Make sure to update your document)\n\nFinish making the assets\nAdd animations for player\, enemies\, coins\nAdd loops to loop enemies and coins\nMake collisions for the player/coin and player/enemies\nStart making the title screen (Title\, Play Button\, Credits)
URL:https://www.ayclogic.com/event/4-pm-python-game-development-bill-13/
END:VEVENT
BEGIN:VEVENT
DTSTART;TZID=America/Los_Angeles:20230708T170000
DTEND;TZID=America/Los_Angeles:20230708T180000
DTSTAMP:20260425T081257
CREATED:20230709T011736Z
LAST-MODIFIED:20230709T011736Z
UID:20500-1688835600-1688839200@www.ayclogic.com
SUMMARY:5 PM – Scratch Level 2 – Allison
DESCRIPTION:Today We:\n\nReviewed the Final Test\n\nHomework:\n\nAsk your parents to contact Mr. Gamas about when to schedule your Retake Test\nStudy for the Retake Test\nStudy the Practice Test answers\nIf you’d like\, you can study the resources attached below to prepare for the test\nContact us at gamas@ayclogic.com or allison@ayclogic.com if you have any questions or need any help\n\nResources:\n\nYour Practice Final Test\n\nCrab Shooting Stars: https://scratch.mit.edu/projects/863877021/\nBirds Flying: https://scratch.mit.edu/projects/866652013\n\n\nSpaceship 1.0: https://scratch.mit.edu/projects/266884838\nSpaceship 2.0: https://scratch.mit.edu/projects/848207249\nAnimal Crossing: https://scratch.mit.edu/projects/559936031\nDoom on the Broom: https://scratch.mit.edu/projects/679733932\n\nClick on the link below to see a picture of a coordinate plane with labeled coordinates. Make sure to memorize the coordinates (the ones in red). \nNumbered Shapes In Grid – Labeled
URL:https://www.ayclogic.com/event/5-pm-scratch-level-2-allison-15/
CATEGORIES:Scratch Class,Scratch Class Level 2
END:VEVENT
BEGIN:VEVENT
DTSTART;TZID=America/Los_Angeles:20230708T170000
DTEND;TZID=America/Los_Angeles:20230708T180000
DTSTAMP:20260425T081257
CREATED:20230709T022542Z
LAST-MODIFIED:20230712T235430Z
UID:20509-1688835600-1688839200@www.ayclogic.com
SUMMARY:5 PM - Android Game Dev - Gamas
DESCRIPTION:Today We Did\n\nWe learned more about XML how a data can be represented using tags or attributes of tags.\nWe added the board with the 9 boxes in activity_game.xml using LinearLayout.\n\nHomework\n\nStudy about what we have learned so far. Make sure you can answer below questions next week:\n\nHow to get input from EditText in Java.\nHow to listen and do something when user click a button.\nHow to move from one page to another page in Android.\nWhen you add a UI component\, what is the minimum requirement in ConstraintLayout in term of it positions.\n\n\nWrite a simple java codes that would print number from 0 to 100 using for loop.\nWrite a simple java codes that would print box0 to box100 using for long.
URL:https://www.ayclogic.com/event/5-pm-android-game-dev-gamas-7/
CATEGORIES:Android Game Development,Java
END:VEVENT
BEGIN:VEVENT
DTSTART;TZID=America/Los_Angeles:20230708T170000
DTEND;TZID=America/Los_Angeles:20230708T180000
DTSTAMP:20260425T081257
CREATED:20230710T031841Z
LAST-MODIFIED:20230710T031841Z
UID:20527-1688835600-1688839200@www.ayclogic.com
SUMMARY:5 PM - Python Game Development - Bill
DESCRIPTION:Your HW:\n\nContinue to work on your project
URL:https://www.ayclogic.com/event/5-pm-python-game-development-bill-17/
END:VEVENT
BEGIN:VEVENT
DTSTART;TZID=America/Los_Angeles:20230708T180000
DTEND;TZID=America/Los_Angeles:20230708T190000
DTSTAMP:20260425T081257
CREATED:20230709T015030Z
LAST-MODIFIED:20230709T022132Z
UID:20502-1688839200-1688842800@www.ayclogic.com
SUMMARY:6 PM - Scratch 1 - Yitong
DESCRIPTION:Today we:\n\nStarted the Dino Dance project.\nAdded the Dinosaur sprite and made it dance by pressing the space key.\nAdded another Dinosaur sprite and made it dance on its own.\n\nHomework:\n\nAdd a new Dinosaur sprite. You should have 3 in total.\nMake the new Dinosaur sprite different a color.\nMake the Dinosaur sprite dance by itself.\n\nHint: Look at how we made the Dinosaur2 sprite dance by itself.\n\n\n\nSubmit your homework here: yitong@ayclogic.com \n\nDon’t forget to share your homework or else I can’t see it.\nHomework is due Friday night.\nEmail me if you need help!
URL:https://www.ayclogic.com/event/6-pm-scratch-1-yitong-liu/
CATEGORIES:Scratch Class,Scratch Class Level 1
END:VEVENT
END:VCALENDAR