BEGIN:VCALENDAR
VERSION:2.0
PRODID:-//American Young Coder - ECPv6.10.1.1//NONSGML v1.0//EN
CALSCALE:GREGORIAN
METHOD:PUBLISH
X-ORIGINAL-URL:https://www.ayclogic.com
X-WR-CALDESC:Events for American Young Coder
REFRESH-INTERVAL;VALUE=DURATION:PT1H
X-Robots-Tag:noindex
X-PUBLISHED-TTL:PT1H
BEGIN:VTIMEZONE
TZID:America/Los_Angeles
BEGIN:DAYLIGHT
TZOFFSETFROM:-0800
TZOFFSETTO:-0700
TZNAME:PDT
DTSTART:20230312T100000
END:DAYLIGHT
BEGIN:STANDARD
TZOFFSETFROM:-0700
TZOFFSETTO:-0800
TZNAME:PST
DTSTART:20231105T090000
END:STANDARD
END:VTIMEZONE
BEGIN:VEVENT
DTSTART;TZID=America/Los_Angeles:20230710T150000
DTEND;TZID=America/Los_Angeles:20230710T170000
DTSTAMP:20260425T081349
CREATED:20230711T001252Z
LAST-MODIFIED:20230711T001252Z
UID:20534-1689001200-1689008400@www.ayclogic.com
SUMMARY:3:00 PM - Intro to Python - Juan
DESCRIPTION:Today We Did\n\nReviewed the homework due today about: for loop with list and with range\nReviewed for loops:\n\nwith lists and in range.\n\n\nLearned about while loops:\n\nForever loops and breaking from a loop.\n\n\nBriefly learned about functions:\n\nDefining a function\, calling a function\, parameters\n\n\nView what we covered today at https://drive.google.com/drive/u/1/folders/19Kl2Yg3yOu6YAXIjkh3fsztpv3OxsmvA\n\nHomework\n\nName your file July12_while_loop_HW.py and do:\n\nCopy code from pages 118-121\n\n\nName your file July12_functions_intro_HW.py and do:\n\nCopy code from pages 130-131\n\n\nUpload the two files to your google drive folder.\nQuestions? Email me at juan@ayclogic.com.
URL:https://www.ayclogic.com/event/300-pm-intro-to-python-juan-4/
CATEGORIES:Python Class,Python Level 1
END:VEVENT
BEGIN:VEVENT
DTSTART;TZID=America/Los_Angeles:20230710T160000
DTEND;TZID=America/Los_Angeles:20230710T170000
DTSTAMP:20260425T081349
CREATED:20230711T000736Z
LAST-MODIFIED:20230711T000736Z
UID:20533-1689004800-1689008400@www.ayclogic.com
SUMMARY:4 PM - Scratch 2 - Alexander Lee
DESCRIPTION:What we did today\n\nWe finished working on the Mary Had a Little Lamb project.\nWe started working on the Supermarket List project.\n\nHomework\n\nAdd 6 more food sprites (2 in each appropriate category)\nMake sure they have the wiggle/shaking code.
URL:https://www.ayclogic.com/event/4-pm-scratch-2-alexander-lee/
CATEGORIES:Scratch Class,Scratch Class Level 2
END:VEVENT
BEGIN:VEVENT
DTSTART;TZID=America/Los_Angeles:20230710T190000
DTEND;TZID=America/Los_Angeles:20230710T200000
DTSTAMP:20260425T081349
CREATED:20230711T032209Z
LAST-MODIFIED:20230718T015007Z
UID:20537-1689015600-1689019200@www.ayclogic.com
SUMMARY:7 PM – Python Game Development – Sebastian
DESCRIPTION:Today We Did\n\nSetting up Gitlab and PyCharm\nLearned about how to load images\nLearned how to blit images\nIn case you need anything\, feel free to email me at sebastian@ayclogic.com\n\nHomework\n\nName your homework JUL10_blit_hw\, please submit by next Sunday.\nHomework:\na. Load image bird01_A.png and save into attribute called self.bird1\nb. Blit self.bird1 to screen at coordinates (50\, 50)\nc. Commit and push your changes to your branch
URL:https://www.ayclogic.com/event/7-pm-python-object-oriented-programming-sebastian/
CATEGORIES:Python Class,Python Game Development
END:VEVENT
BEGIN:VEVENT
DTSTART;TZID=America/Los_Angeles:20230710T190000
DTEND;TZID=America/Los_Angeles:20230710T203000
DTSTAMP:20260425T081349
CREATED:20230711T034704Z
LAST-MODIFIED:20230711T034704Z
UID:20540-1689015600-1689021000@www.ayclogic.com
SUMMARY:7:00 PM - Intro to Python - Juan
DESCRIPTION:Today We Did\n\nReviewed homework for project proposals\n\nIf I gave you critiques\, make sure to modify your project proposal\n\n\nFinished reviewing complex shapes and circles.\nFinished Kaleido Spiral\n\nHomework\n\nMake significant progress on your project.\n\nSubmit your file Jul13_Final_Project_HW1.py\n\n\nProject criteria:\nhttps://www.ayclogic.com/intro-to-python-final-project-criteria/\nQuestions? Email me at juan@ayclogic.com
URL:https://www.ayclogic.com/event/700-pm-intro-to-python-juan-4/
CATEGORIES:Python Class,Python Level 1
END:VEVENT
END:VCALENDAR