BEGIN:VCALENDAR
VERSION:2.0
PRODID:-//American Young Coder - ECPv6.10.1.1//NONSGML v1.0//EN
CALSCALE:GREGORIAN
METHOD:PUBLISH
X-WR-CALNAME:American Young Coder
X-ORIGINAL-URL:https://www.ayclogic.com
X-WR-CALDESC:Events for American Young Coder
REFRESH-INTERVAL;VALUE=DURATION:PT1H
X-Robots-Tag:noindex
X-PUBLISHED-TTL:PT1H
BEGIN:VTIMEZONE
TZID:America/Los_Angeles
BEGIN:DAYLIGHT
TZOFFSETFROM:-0800
TZOFFSETTO:-0700
TZNAME:PDT
DTSTART:20230312T100000
END:DAYLIGHT
BEGIN:STANDARD
TZOFFSETFROM:-0700
TZOFFSETTO:-0800
TZNAME:PST
DTSTART:20231105T090000
END:STANDARD
END:VTIMEZONE
BEGIN:VEVENT
DTSTART;TZID=America/Los_Angeles:20230713T160000
DTEND;TZID=America/Los_Angeles:20230713T170000
DTSTAMP:20260425T081052
CREATED:20230714T001405Z
LAST-MODIFIED:20230714T001405Z
UID:20583-1689264000-1689267600@www.ayclogic.com
SUMMARY:4 PM – Scratch 1 – Abigail
DESCRIPTION:What we did today\n\nWe started working on the Mary Had a Little Lamb (MHALL) project.\n\nHomework\n\nAdd 3 more notes to your project.\nYou can duplicate your C sprite because the code is the same except for the note.\nYou should have C (60)\, E (64)\, D (62)\, and G (67) in all.\nMake sure to rename your sprites accordingly.\n\nIf you have any questions\, email me at abigail@ayclogic.com
URL:https://www.ayclogic.com/event/4-pm-scratch-1-abigail-21/
CATEGORIES:Scratch Class,Scratch Class Level 1
END:VEVENT
BEGIN:VEVENT
DTSTART;TZID=America/Los_Angeles:20230713T180000
DTEND;TZID=America/Los_Angeles:20230713T190000
DTSTAMP:20260425T081052
CREATED:20230714T020626Z
LAST-MODIFIED:20230714T020626Z
UID:20582-1689271200-1689274800@www.ayclogic.com
SUMMARY:6 PM - Intro to Python - Darin
DESCRIPTION:Today We Did:\n\nUnderstanding the difference between del/pop\, and append/insert\nHow to find length of a list\nIntroduction to For Loops for lists\n\nHomework:\n\nCreate new python file named July13_ListHomework2.py\n2nd edition: TRY IT YOURSELF from page 42: 3-4\, 3-5\, 3-6\n3rd edition: TRY IT YOURSELF from page 41-42: 3-4\, 3-5\, 3-6\nDO NOT DO 3-7\nSubmit into Google Drive\nIf you have any questions\, email me at ddjapri@ayclogic.com
URL:https://www.ayclogic.com/event/6-pm-intro-to-python-darin-2/
CATEGORIES:Python Class,Python Level 1
END:VEVENT
BEGIN:VEVENT
DTSTART;TZID=America/Los_Angeles:20230713T183000
DTEND;TZID=America/Los_Angeles:20230713T193000
DTSTAMP:20260425T081052
CREATED:20230714T024733Z
LAST-MODIFIED:20230714T024829Z
UID:20586-1689273000-1689276600@www.ayclogic.com
SUMMARY:6:30 PM – Scratch 1 – Yitong
DESCRIPTION:Today we:\n\nFinished the Birthday Card project.\nStarted the Punch the Dummy project.\n\nHomework:\n\nMake a new sprite. Call it “Head.”\nUse the circle tool to draw the head. Change the fill color to change the skin color (color inside the circle).\nDecorate your Head sprite by adding a mouth\, hair\, or eyebrows. You can add anything you want.\n\n\nSend your homework to this email: yitong@ayclogic.com \n\nDon’t forget to share your project before you submit it.\nRemember that homework is due Wednesday night!
URL:https://www.ayclogic.com/event/630-pm-scratch-1-yitong-8/
CATEGORIES:Scratch Class,Scratch Class Level 1
END:VEVENT
BEGIN:VEVENT
DTSTART;TZID=America/Los_Angeles:20230713T190000
DTEND;TZID=America/Los_Angeles:20230713T200000
DTSTAMP:20260425T081052
CREATED:20230714T031047Z
LAST-MODIFIED:20230714T031047Z
UID:20589-1689274800-1689278400@www.ayclogic.com
SUMMARY:7PM - Python Game Development  - Latisha
DESCRIPTION:Today We Did\n\nContinued working on Flappy Duck Game\n\nHomework\n\nadd a hitbox to the player and the tube by adding a self.rect for both classes and please show both hitboxes on the screen like how we did it for Birdie. Then add a groupcollide in main so that when the bird collides with a tube\, the bird will disappear.\n\nIf you have any questions\, please send an email to latisha@ayclogic.com
URL:https://www.ayclogic.com/event/7pm-python-game-development-latisha-31/
END:VEVENT
BEGIN:VEVENT
DTSTART;TZID=America/Los_Angeles:20230713T190000
DTEND;TZID=America/Los_Angeles:20230713T203000
DTSTAMP:20260425T081052
CREATED:20230714T035102Z
LAST-MODIFIED:20230714T035123Z
UID:20592-1689274800-1689280200@www.ayclogic.com
SUMMARY:7:00 PM - Intro to Python - Juan
DESCRIPTION:Today We Did\n\nFinished Grocery System program\nStarted working on Robux Balance program\nView what we covered today at https://drive.google.com/drive/u/1/folders/15Guajo6GvNi_09_rLw7QNwPyAcz1sBNA\n\nHomework\n\nMake more progress on your project.\n\nSubmit your file Jul17_Project_2.py\n\n\nEntire project is due July 24th.\nProject criteria:\nhttps://www.ayclogic.com/intro-to-python-final-project-criteria/\nQuestions? Email me at juan@ayclogic.com
URL:https://www.ayclogic.com/event/700-pm-intro-to-python-juan-5/
CATEGORIES:Python Class,Python Level 1
END:VEVENT
END:VCALENDAR