BEGIN:VCALENDAR
VERSION:2.0
PRODID:-//American Young Coder - ECPv6.10.1.1//NONSGML v1.0//EN
CALSCALE:GREGORIAN
METHOD:PUBLISH
X-ORIGINAL-URL:https://www.ayclogic.com
X-WR-CALDESC:Events for American Young Coder
REFRESH-INTERVAL;VALUE=DURATION:PT1H
X-Robots-Tag:noindex
X-PUBLISHED-TTL:PT1H
BEGIN:VTIMEZONE
TZID:America/Los_Angeles
BEGIN:DAYLIGHT
TZOFFSETFROM:-0800
TZOFFSETTO:-0700
TZNAME:PDT
DTSTART:20230312T100000
END:DAYLIGHT
BEGIN:STANDARD
TZOFFSETFROM:-0700
TZOFFSETTO:-0800
TZNAME:PST
DTSTART:20231105T090000
END:STANDARD
END:VTIMEZONE
BEGIN:VEVENT
DTSTART;TZID=America/Los_Angeles:20230719T150000
DTEND;TZID=America/Los_Angeles:20230719T170000
DTSTAMP:20260425T094018
CREATED:20230720T000831Z
LAST-MODIFIED:20230720T000831Z
UID:20691-1689778800-1689786000@www.ayclogic.com
SUMMARY:3:00 PM - Intro to Python - Juan
DESCRIPTION:Today We Did\n\nReviewed Quiz 2 problems\nStarting learning about the turtle module\nCompletely Robot Builder left_arm and right_arm.\nView what we covered today at https://drive.google.com/drive/u/1/folders/19Kl2Yg3yOu6YAXIjkh3fsztpv3OxsmvA\n\nHomework\n\nName your file July24_RobotBuilder_HW.py\n\nFinish the rest of the robot:\n\nTorso\, neck\, head\, eyes\, mouth\, legs\n\n\n\n\nQuestions? Email me at juan@ayclogic.com.
URL:https://www.ayclogic.com/event/300-pm-intro-to-python-juan-7/
CATEGORIES:Python Class,Python Level 1
END:VEVENT
BEGIN:VEVENT
DTSTART;TZID=America/Los_Angeles:20230719T180000
DTEND;TZID=America/Los_Angeles:20230719T190000
DTSTAMP:20260425T094018
CREATED:20230721T084452Z
LAST-MODIFIED:20230721T084452Z
UID:20731-1689789600-1689793200@www.ayclogic.com
SUMMARY:6 PM – Scratch Level 2 – Allison
DESCRIPTION:Today we:\n\nFixed coding bugs\nContinued the Fire and Ice Fight project\nContinued coding the Fireball sprite\nCoded only four fireballs to show at a time\nCoded Gumball to lose a life if hit by a fireball\n\nImportant Reminders:\n\nAfter you finish your homework in Scratch\, send an email to allison@ayclogic.com by Tuesday at 8 PM. In that email\, write down your name and a link to your shared Scratch project homework. Make sure to share your Scratch project.\n\nHomework:\n\nCode Darwin (the character on the left) to go to the coordinates (-200\, -130) when the game starts\nCode Gumball (the character on the right) to go to the coordinates (200\, -130) when the game starts\nWhen Gumball has 0 lives left\, code Darwin to communicate with Gumball so that Gumball will say “You win\, Darwin!”\nContact us if you have any questions or need any help.
URL:https://www.ayclogic.com/event/6-pm-scratch-level-2-allison-22/
CATEGORIES:Scratch Class,Scratch Class Level 2
END:VEVENT
BEGIN:VEVENT
DTSTART;TZID=America/Los_Angeles:20230719T183000
DTEND;TZID=America/Los_Angeles:20230719T193000
DTSTAMP:20260425T094018
CREATED:20230720T025758Z
LAST-MODIFIED:20230720T025758Z
UID:20696-1689791400-1689795000@www.ayclogic.com
SUMMARY:6:30 PM - Intro to Python - Juan
DESCRIPTION:Today We Did\n\nQuiz 2\n\nHomework\n\nView your score sent to your email\, and review which problems you got wrong
URL:https://www.ayclogic.com/event/630-pm-intro-to-python-juan-10/
CATEGORIES:Python Class,Python Level 1
END:VEVENT
BEGIN:VEVENT
DTSTART;TZID=America/Los_Angeles:20230719T190000
DTEND;TZID=America/Los_Angeles:20230719T200000
DTSTAMP:20260425T094018
CREATED:20230720T025633Z
LAST-MODIFIED:20230720T025633Z
UID:20697-1689793200-1689796800@www.ayclogic.com
SUMMARY:7PM - Python Game Development - Latisha
DESCRIPTION:Today We Did\n\nContinued working on Birdie Game\n\nHomework\n\nMake a new function called create_fireball_skill so that when the e key is pressed\, create 4 fireballs that are stacked vertically\, and add them to the fireball_group. Call this function in game in session. The player should only be able to use this skill after 10 seconds have passed\n\nIf you have any questions\, please send an email to latisha@ayclogic.com
URL:https://www.ayclogic.com/event/7pm-python-game-development-latisha-33/
END:VEVENT
BEGIN:VEVENT
DTSTART;TZID=America/Los_Angeles:20230719T190000
DTEND;TZID=America/Los_Angeles:20230719T200000
DTSTAMP:20260425T094018
CREATED:20230720T030536Z
LAST-MODIFIED:20230720T030536Z
UID:20700-1689793200-1689796800@www.ayclogic.com
SUMMARY:7 PM – Scratch Level 1 – Allison
DESCRIPTION:Today we:\n\nFinished the Animal Race project\nStarted the Ask Gobo project\nCoded Gobo to talk\nRandomized the ReplyNumber variable from 1-2\n\nImportant Reminders:\n\nAfter you finish your homework in Scratch\, send an email to allison@ayclogic.com by Tuesday at 8 PM. In that email\, write down your name and a link to your shared Scratch project homework. Make sure to share your Scratch project.\n\nHomework:\n\nRead and do the codes in the Scratch book pg. 64-65.\nContact us at gamas@ayclogic.com or allison@ayclogic.com if you have any questions or need any help.
URL:https://www.ayclogic.com/event/7-pm-scratch-level-1-allison-7/
CATEGORIES:Scratch Class,Scratch Class Level 1
END:VEVENT
END:VCALENDAR