BEGIN:VCALENDAR
VERSION:2.0
PRODID:-//American Young Coder - ECPv6.10.1.1//NONSGML v1.0//EN
CALSCALE:GREGORIAN
METHOD:PUBLISH
X-ORIGINAL-URL:https://www.ayclogic.com
X-WR-CALDESC:Events for American Young Coder
REFRESH-INTERVAL;VALUE=DURATION:PT1H
X-Robots-Tag:noindex
X-PUBLISHED-TTL:PT1H
BEGIN:VTIMEZONE
TZID:America/Los_Angeles
BEGIN:DAYLIGHT
TZOFFSETFROM:-0800
TZOFFSETTO:-0700
TZNAME:PDT
DTSTART:20230312T100000
END:DAYLIGHT
BEGIN:STANDARD
TZOFFSETFROM:-0700
TZOFFSETTO:-0800
TZNAME:PST
DTSTART:20231105T090000
END:STANDARD
END:VTIMEZONE
BEGIN:VEVENT
DTSTART;TZID=America/Los_Angeles:20230726T150000
DTEND;TZID=America/Los_Angeles:20230726T170000
DTSTAMP:20260425T094048
CREATED:20230727T001100Z
LAST-MODIFIED:20230727T001100Z
UID:20816-1690383600-1690390800@www.ayclogic.com
SUMMARY:3:00 PM - Intro to Python - Juan
DESCRIPTION:Today We Did\n\nFinished Face 2 Function\nFinished KaleidoSpiral\nFinished Grocery System\nView what we covered today at https://drive.google.com/drive/u/1/folders/19Kl2Yg3yOu6YAXIjkh3fsztpv3OxsmvA\n\nHomework\n\nComplete your project proposal and upload to your Google Drive:\n\nName your file Jul31_ProjectProposal\n\n\nGet started on your project and follow the criteria:\n\nhttps://www.ayclogic.com/intro-to-python-final-project-criteria/\n\n\nQuestions? Email me at juan@ayclogic.com.
URL:https://www.ayclogic.com/event/300-pm-intro-to-python-juan-9/
CATEGORIES:Python Class,Python Level 1
END:VEVENT
BEGIN:VEVENT
DTSTART;TZID=America/Los_Angeles:20230726T180000
DTEND;TZID=America/Los_Angeles:20230726T190000
DTSTAMP:20260425T094048
CREATED:20230727T020806Z
LAST-MODIFIED:20230727T020958Z
UID:20824-1690394400-1690398000@www.ayclogic.com
SUMMARY:6 PM - Scratch 2 - Darin
DESCRIPTION:Today We Did:\n\nMade the second sprite have the same capabilities as the first sprite (to shoot projectiles and reduce the opponents health)\nStarted on adding the apple and star power ups\n\nHomework:\n\nMake it so that the apple can increase the health of the character that touches is (you can do this in the if else statement in the apple sprite)\nMake the apple disappear once the character touches it\nMake sure the apple can still re-appear after a character takes one (hint: use the numOfApples variable)\nEmail the homework to ddjapri@ayclogic.com so I can check your work before class
URL:https://www.ayclogic.com/event/6-pm-scratch-2-darin/
CATEGORIES:Scratch Class,Scratch Class Level 2
END:VEVENT
BEGIN:VEVENT
DTSTART;TZID=America/Los_Angeles:20230726T190000
DTEND;TZID=America/Los_Angeles:20230726T200000
DTSTAMP:20260425T094048
CREATED:20230727T025814Z
LAST-MODIFIED:20230727T025814Z
UID:20828-1690398000-1690401600@www.ayclogic.com
SUMMARY:7PM - Python Game Development - Latisha
DESCRIPTION:Today We Did\n\nContinued working on Birdie Game\n\nHomework\n\nMake a new function called create_giant_fireball so that when the r key is pressed\, create a fireball that is size 150\, make a new group called giant_fireball_group and add it to the new group. Call this function in game in session. The player should only be able to use this skill after 30 seconds have passed (so make a new timer for the giant fireball)\n\nIf you have any questions\, please send an email to latisha@ayclogic.com
URL:https://www.ayclogic.com/event/7pm-python-game-development-latisha-35/
END:VEVENT
BEGIN:VEVENT
DTSTART;TZID=America/Los_Angeles:20230726T190000
DTEND;TZID=America/Los_Angeles:20230726T200000
DTSTAMP:20260425T094048
CREATED:20230727T032951Z
LAST-MODIFIED:20230727T033655Z
UID:20830-1690398000-1690401600@www.ayclogic.com
SUMMARY:7 PM - Scratch Level 1 - Allison
DESCRIPTION:Today we did:\n\nWe finished the rest of the Ask Gobo project by adding all the responses\, the audio for the responses\, and switched costumes for each response.\nWe started the Funny Faces project and learned how to draw the face and the eyes.\n\nHomework:\n\nContinuing on the Funny Faces project\, create a new sprite (or right-click a sprite you already have\, and click duplicate) and name it “Nose”. Then\, go to the costumes to create the nose. You should use 3 circles and a rectangle to make this. Remember\, to draw a perfect circle\, you can hold shift and draw the circle. \nAfter you finish your homework in Scratch\, send an email to joel@ayclogic.com by Tuesday at 8 PM. In that email\, write down your name and a link to your shared Scratch project homework. Make sure to share your Scratch project.\nIf you have any problems or questions\, feel free to ask me by sending an email to joel@ayclogic.com or gamas@ayclogic.com. \nIt should look something like this:\n \n\n  \n  \n  \n  \n  \n  \n  \n  \n  \n  \n 
URL:https://www.ayclogic.com/event/7-pm-scratch-level-1-allison-8/
END:VEVENT
END:VCALENDAR