BEGIN:VCALENDAR
VERSION:2.0
PRODID:-//American Young Coder - ECPv6.10.1.1//NONSGML v1.0//EN
CALSCALE:GREGORIAN
METHOD:PUBLISH
X-WR-CALNAME:American Young Coder
X-ORIGINAL-URL:https://www.ayclogic.com
X-WR-CALDESC:Events for American Young Coder
REFRESH-INTERVAL;VALUE=DURATION:PT1H
X-Robots-Tag:noindex
X-PUBLISHED-TTL:PT1H
BEGIN:VTIMEZONE
TZID:America/Los_Angeles
BEGIN:DAYLIGHT
TZOFFSETFROM:-0800
TZOFFSETTO:-0700
TZNAME:PDT
DTSTART:20230312T100000
END:DAYLIGHT
BEGIN:STANDARD
TZOFFSETFROM:-0700
TZOFFSETTO:-0800
TZNAME:PST
DTSTART:20231105T090000
END:STANDARD
END:VTIMEZONE
BEGIN:VEVENT
DTSTART;TZID=America/Los_Angeles:20230801T160000
DTEND;TZID=America/Los_Angeles:20230801T180000
DTSTAMP:20260425T081002
CREATED:20230802T013744Z
LAST-MODIFIED:20230802T021616Z
UID:20911-1690905600-1690912800@www.ayclogic.com
SUMMARY:5 PM - Intro to Java - William
DESCRIPTION:Today we did:\n\nReviewed Quiz and homework\nContinued MonsterInheritance project:\n\ninitializeMonsters()\naddNewMonster()\nplay()\n\nhealMonster()\nmeleeAttack()\nStarted arrowAttack()\n\n\n\n\n\nHomework:\n\nFinish arrowAttack()\n\nIf monster has no more HP\, print: “The (monster species) has been defeated”\nPlayer doesn’t take damage (since it’s a ranged attack)\n\n\nStart magicAttack()\n\nImplement the fire and water magic attacks\nThe monster will do their max attack damage to player\nImplement your code however you want — I’ll critique it next lesson. Good luck!\n\n\n\nNOTE: Add scanner.nextLine() on a new line each time you use scanner.nextInt(). \nWhat do you want to do with the Troll:\n1. Magic attack\n2. Melee attack\n3. Arrow attack (5 -10 damage)\n4. Heal\nEnter your selection: 1\n\nMAGIC ATTACK MONSTER\nWhat kind of magic attack you want to do to Troll:\n1. Fire magic - 10 damage\n2. Water magic - 10 damage\n3. Earth magic - 12 damage\n4. Wind magic - 8 damage\nEnter your selection: 1\n\nYou attacked Troll and did 10. Troll has 60 health remaining.\nTroll attacked Will Smith and did 37 damage.\n\nWill Smith has 963 health remaining.\nPlease select one of the following monsters:\n- Troll - 60 health\n- Dragon - 100 health\n- Water Golem - 50 health\nEnter your selection (Enter 'stop' to end the game): Troll\n\nWhat do you want to do with the Troll:\n1. Magic attack\n2. Melee attack\n3. Arrow attack (5 -10 damage)\n4. Heal\nEnter your selection: 1\n\nMAGIC ATTACK MONSTER\nWhat kind of magic attack you want to do to Troll:\n1. Fire magic - 10 damage\n2. Water magic - 10 damage\n3. Earth magic - 12 damage\n4. Wind magic - 8 damage\nEnter your selection: 2\n\nYou attacked Troll and did 10 damage. The Troll has 50 health remaining.\nTroll attacked Will Smith and did 53 damage.\n\nWill Smith has 910 health remaining.\nPlease select one of the following monsters:\n- Troll - 52 health\n- Dragon - 100 health\n- Water Golem - 50 health\nEnter your selection (Enter 'stop' to end the game):\nIf you have any questions\, please email me at williamsmith@ayclogic.com
URL:https://www.ayclogic.com/event/5-pm-intro-to-java-william-8/
CATEGORIES:Introduction To Java,Java
END:VEVENT
BEGIN:VEVENT
DTSTART;TZID=America/Los_Angeles:20230801T170000
DTEND;TZID=America/Los_Angeles:20230801T180000
DTSTAMP:20260425T081002
CREATED:20230802T020937Z
LAST-MODIFIED:20230802T020947Z
UID:20917-1690909200-1690912800@www.ayclogic.com
SUMMARY:6 PM – Intro To Python – Shawn
DESCRIPTION:Today We Did\n\nReviewed Variables/Data types\n\nString\nFloat/double (decimals)\nInteger (no decimals)\n\n\nReviewed input from shell\nReviewed f-strings\nReviewed string functions (upper\, lower\, title\, strip)\nReviewed if statements\n\nHomework \n\nCreate a file called Aug1_StringHW.py\n\nOn page 25\, do the 2-3\, 2-4\, 2-5 and 2-6 TRY IT YOURSELFs\n\n\nCreate a file called Aug1_tell_me_your_page.py\n\nDo this homework: https://www.ayclogic.com/tell-me-your-age/\n\n\n\nIf you have questions\, feel free to email szhuang@ayclogic.com
URL:https://www.ayclogic.com/event/6-pm-intro-to-python-shawn-26/
END:VEVENT
BEGIN:VEVENT
DTSTART;TZID=America/Los_Angeles:20230801T180000
DTEND;TZID=America/Los_Angeles:20230801T190000
DTSTAMP:20260425T081002
CREATED:20230801T120652Z
LAST-MODIFIED:20230801T120743Z
UID:20899-1690912800-1690916400@www.ayclogic.com
SUMMARY:6 PM – Indo – Intro to Python – Joel
DESCRIPTION:Homework:\n\nStart working on your turtle python project according to your proposal.\nBy next week August 8\, you should have done 25% of it.\n\nIf you have any questions\, feel free to send an email to joel@ayclogic.com.
URL:https://www.ayclogic.com/event/6-pm-indo-intro-to-python-joel-5/
END:VEVENT
BEGIN:VEVENT
DTSTART;TZID=America/Los_Angeles:20230801T180000
DTEND;TZID=America/Los_Angeles:20230801T190000
DTSTAMP:20260425T081002
CREATED:20230802T020501Z
LAST-MODIFIED:20230802T020514Z
UID:20905-1690912800-1690916400@www.ayclogic.com
SUMMARY:6 PM – Intro To Python – Shawn
DESCRIPTION:Today We Did\n\nDrawing half-circles for a windmill pattern\nUsing for loops and random.choice to draw 10 randomly colored faces\n\nHomework \n\nStart on your final project. Do all the letters and at least one shape. If you haven’t submitted your proposal please do so — I’m docking points for late submissions.\n\nIf you have questions\, feel free to email szhuang@ayclogic.com
URL:https://www.ayclogic.com/event/6-pm-intro-to-python-shawn-25/
END:VEVENT
BEGIN:VEVENT
DTSTART;TZID=America/Los_Angeles:20230801T180000
DTEND;TZID=America/Los_Angeles:20230801T190000
DTSTAMP:20260425T081002
CREATED:20230802T020513Z
LAST-MODIFIED:20230802T020513Z
UID:20916-1690912800-1690916400@www.ayclogic.com
SUMMARY:6 PM - Scratch 1 - Abigail
DESCRIPTION:What we did today\n\nWe continued working on Punch the dummy project.\n\nHomework\n\nAdd the “Big Boing” sound effect every time you punch the dummy.\nAdd the punching bag sprite into the project.\nMake the punching bag sprite follow your mouse-pointer & give it the ability to punch the dummy.\n\nIf you have any questions\, email me at abigail@ayclogic.com
URL:https://www.ayclogic.com/event/6-pm-scratch-1-abigail-19/
END:VEVENT
BEGIN:VEVENT
DTSTART;TZID=America/Los_Angeles:20230801T183000
DTEND;TZID=America/Los_Angeles:20230801T193000
DTSTAMP:20260425T081002
CREATED:20230802T031725Z
LAST-MODIFIED:20230802T031958Z
UID:20924-1690914600-1690918200@www.ayclogic.com
SUMMARY:6:30 PM- Scratch Level 2 - Allison (Darin Sub)
DESCRIPTION:What We Did Today:\n\nReviewed “Intro to List” from last week\nFinished Mary Had A Little Lamb (with lists)\n\nHomework:\n\nMake TWO more songs using a list in the Mary Had A Little Lamb project\nTry play the songs with and without the if statement (below is the code without the if statement)\n\n\nNote:\nEmail me your homework at ddjapri@ayclogic.com BY Monday 8 PM!
URL:https://www.ayclogic.com/event/630-pm-scratch-level-2-allison-darin-sub/
CATEGORIES:Scratch Class,Scratch Class Level 2
END:VEVENT
END:VCALENDAR