BEGIN:VCALENDAR
VERSION:2.0
PRODID:-//American Young Coder - ECPv6.10.1.1//NONSGML v1.0//EN
CALSCALE:GREGORIAN
METHOD:PUBLISH
X-ORIGINAL-URL:https://www.ayclogic.com
X-WR-CALDESC:Events for American Young Coder
REFRESH-INTERVAL;VALUE=DURATION:PT1H
X-Robots-Tag:noindex
X-PUBLISHED-TTL:PT1H
BEGIN:VTIMEZONE
TZID:America/Los_Angeles
BEGIN:DAYLIGHT
TZOFFSETFROM:-0800
TZOFFSETTO:-0700
TZNAME:PDT
DTSTART:20230312T100000
END:DAYLIGHT
BEGIN:STANDARD
TZOFFSETFROM:-0700
TZOFFSETTO:-0800
TZNAME:PST
DTSTART:20231105T090000
END:STANDARD
END:VTIMEZONE
BEGIN:VEVENT
DTSTART;TZID=America/Los_Angeles:20230802T150000
DTEND;TZID=America/Los_Angeles:20230802T170000
DTSTAMP:20260425T081240
CREATED:20230803T023028Z
LAST-MODIFIED:20230803T023028Z
UID:20937-1690988400-1690995600@www.ayclogic.com
SUMMARY:3:00 PM - Intro to Python - Juan
DESCRIPTION:Today We Did\n\nRobux Grocery Balance review\nTest review\nTurtle review\n\nHomework\n\nSubmit project before test on August 7th\nStudy for final test.
URL:https://www.ayclogic.com/event/300-pm-intro-to-python-juan-10/
CATEGORIES:Python Class,Python Level 1
END:VEVENT
BEGIN:VEVENT
DTSTART;TZID=America/Los_Angeles:20230802T180000
DTEND;TZID=America/Los_Angeles:20230802T190000
DTSTAMP:20260425T081240
CREATED:20230803T022403Z
LAST-MODIFIED:20230803T022403Z
UID:20930-1690999200-1691002800@www.ayclogic.com
SUMMARY:6 PM - Scratch 2 - Darin
DESCRIPTION:Today We Did:\n\nFinished the apple and almost finished the star sprite power-ups\, using broadcasts and new variables\nImplemented the color change and giant fireball/iceball codes\n\nHomework:\n\nIn the current code\, you might have your numofstars variable not changing when you grab a star\, so add this code below under the if statement:\n\nMake the code work the same for the second sprite (gumball)\nEmail the homework (share your project link) to ddjapri@ayclogic.com so I can check your work before class
URL:https://www.ayclogic.com/event/6-pm-scratch-2-darin-2/
CATEGORIES:Scratch Class,Scratch Class Level 2
END:VEVENT
BEGIN:VEVENT
DTSTART;TZID=America/Los_Angeles:20230802T183000
DTEND;TZID=America/Los_Angeles:20230802T193000
DTSTAMP:20260425T081240
CREATED:20230803T022802Z
LAST-MODIFIED:20230803T022809Z
UID:20933-1691001000-1691004600@www.ayclogic.com
SUMMARY:6:30 PM - Intro to Python - Juan
DESCRIPTION:Today We Did\n\nQuiz 2 Review\nStarted learning about Turtle\n\nHomework\n\nCreate a new file “Aug9_TurtleShapesHomework.py”\nFill in all shapes\nCreate a new function “draw_rectangle”. One parameter: pen_color. Inside the function\, draw a rectangle shape using turtle module. Call the function and pass any color to the function.\nCreate a new function “draw_square”. One parameter: pen_color. Inside the function\, draw a square shape using turtle module. Call the function and pass any color to the function.\nCreate a new function “draw_octagon”. One parameter: pen_color. Inside the function\, draw a octagon shape using turtle module. Call the function and pass any color to the function.\nCreate a new function “draw_triangle”. One parameter: pen_color. Inside the function\, draw a triangle shape using turtle module. Call the function and pass any color to the function.\nLook at this image for your coordinates guidance
URL:https://www.ayclogic.com/event/630-pm-intro-to-python-juan-11/
CATEGORIES:Python Class,Python Level 1
END:VEVENT
BEGIN:VEVENT
DTSTART;TZID=America/Los_Angeles:20230802T190000
DTEND;TZID=America/Los_Angeles:20230802T200000
DTSTAMP:20260425T081240
CREATED:20230803T033048Z
LAST-MODIFIED:20230803T033258Z
UID:20939-1691002800-1691006400@www.ayclogic.com
SUMMARY:7 PM - Scratch 1 - Allison
DESCRIPTION:Today we did:\n\nWe continued with the Funny Faces project\, and added the nose and its animation\, the mouth\, the hair\, and the sunglasses.\nWe started the Funny Faces project and learned how to draw the face and the eyes.\n\nHomework:\n\nContinuing on the Funny Faces project\, create a new sprite (or right-click a sprite you already have\, and click duplicate) and name it “Hat”. Then\, go to the costumes to create the hat. You can make it however you like (any color\, any size\, any style). Here is an example: \n\n  \n  \n  \n  \n  \n2. Ask your parents to print this x and y graph for next week: \n\n3. After you finish your homework in Scratch\, send an email to joel@ayclogic.com by Tuesday at 8 PM. In that email\, write down your name and a link to your shared Scratch project homework. Make sure to share your Scratch project.If you have any problems or questions\, feel free to ask me by sending an email to joel@ayclogic.com or gamas@ayclogic.com.
URL:https://www.ayclogic.com/event/7-pm-scratch-1-allison/
END:VEVENT
BEGIN:VEVENT
DTSTART;TZID=America/Los_Angeles:20230802T190000
DTEND;TZID=America/Los_Angeles:20230802T200000
DTSTAMP:20260425T081240
CREATED:20230806T000157Z
LAST-MODIFIED:20230806T000157Z
UID:20983-1691002800-1691006400@www.ayclogic.com
SUMMARY:7PM - Python Game Development - Latisha
DESCRIPTION:Today We Did\n\nContinued working on Birdie Game\n\nHomework\n\nIn playbutton_and_title()\, calculate the title_x and title_y then blit the title image to the screen at that location. Make sure it is above the play button.\n\nIf you have any questions\, please send an email to latisha@ayclogic.com
URL:https://www.ayclogic.com/event/7pm-python-game-development-latisha-38/
END:VEVENT
END:VCALENDAR