BEGIN:VCALENDAR
VERSION:2.0
PRODID:-//American Young Coder - ECPv6.10.1.1//NONSGML v1.0//EN
CALSCALE:GREGORIAN
METHOD:PUBLISH
X-ORIGINAL-URL:https://www.ayclogic.com
X-WR-CALDESC:Events for American Young Coder
REFRESH-INTERVAL;VALUE=DURATION:PT1H
X-Robots-Tag:noindex
X-PUBLISHED-TTL:PT1H
BEGIN:VTIMEZONE
TZID:America/Los_Angeles
BEGIN:DAYLIGHT
TZOFFSETFROM:-0800
TZOFFSETTO:-0700
TZNAME:PDT
DTSTART:20230312T100000
END:DAYLIGHT
BEGIN:STANDARD
TZOFFSETFROM:-0700
TZOFFSETTO:-0800
TZNAME:PST
DTSTART:20231105T090000
END:STANDARD
END:VTIMEZONE
BEGIN:VEVENT
DTSTART;TZID=America/Los_Angeles:20230809T180000
DTEND;TZID=America/Los_Angeles:20230809T190000
DTSTAMP:20260425T100358
CREATED:20230810T021056Z
LAST-MODIFIED:20230810T021056Z
UID:21035-1691604000-1691607600@www.ayclogic.com
SUMMARY:6 PM - Scratch 2 - Darin
DESCRIPTION:What We Did Today:\n\nFinished the fire and ice fight project\nStarted reviewing materials for the final\n\nHomework:\n\nCreate a new scratch project named “Final Prep Homework”\nMake the cat shoot a projectile (another sprite like bananas maybe)\, and make it disappear when it reaches the end of the screen\nYou can only have up to 4 bananas at once on the screen\nEmail the homework (share your project link) to ddjapri@ayclogic.com so I can check your work before class
URL:https://www.ayclogic.com/event/6-pm-scratch-2-darin-4/
CATEGORIES:Scratch Class,Scratch Class Level 2
END:VEVENT
BEGIN:VEVENT
DTSTART;TZID=America/Los_Angeles:20230809T183000
DTEND;TZID=America/Los_Angeles:20230809T193000
DTSTAMP:20260425T100358
CREATED:20230810T031544Z
LAST-MODIFIED:20230810T031544Z
UID:21037-1691605800-1691609400@www.ayclogic.com
SUMMARY:6:30 PM - Intro to Python - Juan
DESCRIPTION:Today We Did\n\nReviewed Aug9_TurtleShapesHomework.py\nStarted Robot Builder\n\nHomework\n\nFinish the rest of the Robot Builder project\n\nName your file: Aug15_RobotBuilder.py\nFinish the legs\, body\, neck\, head\, eyes\, mouth
URL:https://www.ayclogic.com/event/630-pm-intro-to-python-juan-12/
CATEGORIES:Python Class,Python Level 1
END:VEVENT
BEGIN:VEVENT
DTSTART;TZID=America/Los_Angeles:20230809T190000
DTEND;TZID=America/Los_Angeles:20230809T200000
DTSTAMP:20260425T100358
CREATED:20230810T032237Z
LAST-MODIFIED:20230810T032320Z
UID:21040-1691607600-1691611200@www.ayclogic.com
SUMMARY:7 PM – Scratch 1 – Allison
DESCRIPTION:oday we did:\n\nWe finished the Funny Faces project.\nWe started learning about X and Y coordinates.\n\nHomework:\n\n Ask your parents to print this x and y graph for next week:
URL:https://www.ayclogic.com/event/7-pm-scratch-1-allison-2/
END:VEVENT
BEGIN:VEVENT
DTSTART;TZID=America/Los_Angeles:20230809T190000
DTEND;TZID=America/Los_Angeles:20230809T200000
DTSTAMP:20260425T100358
CREATED:20230814T055341Z
LAST-MODIFIED:20230814T055341Z
UID:21092-1691607600-1691611200@www.ayclogic.com
SUMMARY:7PM - Python Game Development - Latisha
DESCRIPTION:Today We Did\n\nContinued working on Dragon Birdie\n\nHomework\n\nEdit create_fireball_skill\, create_giant_fireball\, and create_fireball so that the fireball shoots from in front of the player\n\nIf you have any questions\, please send an email to latisha@ayclogic.com
URL:https://www.ayclogic.com/event/7pm-python-game-development-latisha-40/
END:VEVENT
END:VCALENDAR