BEGIN:VCALENDAR
VERSION:2.0
PRODID:-//American Young Coder - ECPv6.10.1.1//NONSGML v1.0//EN
CALSCALE:GREGORIAN
METHOD:PUBLISH
X-ORIGINAL-URL:https://www.ayclogic.com
X-WR-CALDESC:Events for American Young Coder
REFRESH-INTERVAL;VALUE=DURATION:PT1H
X-Robots-Tag:noindex
X-PUBLISHED-TTL:PT1H
BEGIN:VTIMEZONE
TZID:America/Los_Angeles
BEGIN:DAYLIGHT
TZOFFSETFROM:-0800
TZOFFSETTO:-0700
TZNAME:PDT
DTSTART:20230312T100000
END:DAYLIGHT
BEGIN:STANDARD
TZOFFSETFROM:-0700
TZOFFSETTO:-0800
TZNAME:PST
DTSTART:20231105T090000
END:STANDARD
END:VTIMEZONE
BEGIN:VEVENT
DTSTART;TZID=America/Los_Angeles:20230810T100000
DTEND;TZID=America/Los_Angeles:20230810T120000
DTSTAMP:20260425T095430
CREATED:20230810T190133Z
LAST-MODIFIED:20230810T190534Z
UID:21043-1691661600-1691668800@www.ayclogic.com
SUMMARY:10 AM - Intro to Python - Darin (Riley Class)
DESCRIPTION:What We Did Today:\n\nCovered variables and data types\, typecasting\, combining strings\nCovered if and else statements along with and/or operators and ==\, <\, >\, !=\, <=\, and >=\nLearned how to get input from shell\nLearned print formatting\n\nHomework:\nGet input from shell for 2 things\, prompting the users: \n\nName\nAge\n\nExample: “Please enter your name: ” \nCheck if age is less than 2: check if name == bob\, print “yes”\, else print “no” \nelse if age is between 2 and 10 inclusive: check if name == henry\, print “yes”\, else print “no” \nelse if age is between 11 and 19 inclusive: check if name == riley\, print “Hi Riley” (using variable) \nelse: print “goodbye” \nNOTES:\n\nMake sure prompting for name is case insensitive\, so you can put in RiLeY and get “Hi Riley” as your output. Keep in mind it’s Riley\, not RiLeY.\nIf you have any questions\, email me at ddjapri@ayclogic.com.
URL:https://www.ayclogic.com/event/10-am-intro-to-python-darin-riley-class/
CATEGORIES:Python Class,Python Level 1
END:VEVENT
BEGIN:VEVENT
DTSTART;TZID=America/Los_Angeles:20230810T160000
DTEND;TZID=America/Los_Angeles:20230810T170000
DTSTAMP:20260425T095430
CREATED:20230811T003716Z
LAST-MODIFIED:20230811T003716Z
UID:21047-1691683200-1691686800@www.ayclogic.com
SUMMARY:4 PM – Scratch 1 – Abigail
DESCRIPTION:What we did today\n\nWorked on Virtual Snow\n\nAllowed snow to build up on floor\nAdded snowman sprite\n\n\n\nHomework\n\nMake the snow jiggle sideways as it falls\n\nIn the “forever” block under the clones\, add a “Change x by (Random -1 to 1)\n\n\nAfter creating clones\, wait 0.1 seconds before creating another\nFeel free to modify the speed at which snow falls\n\nModify the “Change y by -10” block under the clones\n\n\n\nIf you have any questions\, email me at abigail@ayclogic.com or williamsmith@ayclogic.com \n 
URL:https://www.ayclogic.com/event/4-pm-scratch-1-abigail-24/
CATEGORIES:Scratch Class,Scratch Class Level 1
END:VEVENT
BEGIN:VEVENT
DTSTART;TZID=America/Los_Angeles:20230810T180000
DTEND;TZID=America/Los_Angeles:20230810T190000
DTSTAMP:20260425T095430
CREATED:20230811T020850Z
LAST-MODIFIED:20230811T020850Z
UID:21049-1691690400-1691694000@www.ayclogic.com
SUMMARY:6 PM - Intro to Python - Darin
DESCRIPTION:What We Did Today:\n\nReviewed while loops and for loops\nGet input from shell for a while loop to end\n\nHomework:\n\nhttps://www.ayclogic.com/intro-to-python-exercises/\nCreate a file called Review1HW.py and upload it to google drive when finished\nDo number 1-10 from https://www.ayclogic.com/intro-to-python-exercises/\n\nFor number 3\, make sure the formatting is right using .title() to make the b uppercase for burger. \nFor everything else\, refer to your notes about the topic\, like lists\, for loops\, and while loops. \n  \n 
URL:https://www.ayclogic.com/event/6-pm-intro-to-python-darin-6/
CATEGORIES:Python Class,Python Level 1
END:VEVENT
BEGIN:VEVENT
DTSTART;TZID=America/Los_Angeles:20230810T183000
DTEND;TZID=America/Los_Angeles:20230810T193000
DTSTAMP:20260425T095430
CREATED:20230811T021742Z
LAST-MODIFIED:20230811T021742Z
UID:21053-1691692200-1691695800@www.ayclogic.com
SUMMARY:6:30 PM - Scratch Level 1 - Yitong
DESCRIPTION:Homework:\n\nMake sure to set aside 1-2 hours for the practice test\, and make sure to submit it before next week.\nIf you guys have any questions\, feel free to send an email to joel@ayclogic.com or gamas@ayclogic.com.
URL:https://www.ayclogic.com/event/630-pm-scratch-level-1-yitong-3/
END:VEVENT
BEGIN:VEVENT
DTSTART;TZID=America/Los_Angeles:20230810T190000
DTEND;TZID=America/Los_Angeles:20230810T200000
DTSTAMP:20260425T095430
CREATED:20230812T220507Z
LAST-MODIFIED:20230812T220507Z
UID:21069-1691694000-1691697600@www.ayclogic.com
SUMMARY:7PM - Python Game Development - Latisha
DESCRIPTION:Today We Did\n\nContinued working on Flappy Duck Game\n\nHomework\n\nMake the changes to your project proposal that I added in red. Email me if you have any questions.\n\nIf you have any questions\, please send an email to latisha@ayclogic.com
URL:https://www.ayclogic.com/event/7pm-python-game-development-latisha-39/
END:VEVENT
END:VCALENDAR