BEGIN:VCALENDAR
VERSION:2.0
PRODID:-//American Young Coder - ECPv6.10.1.1//NONSGML v1.0//EN
CALSCALE:GREGORIAN
METHOD:PUBLISH
X-WR-CALNAME:American Young Coder
X-ORIGINAL-URL:https://www.ayclogic.com
X-WR-CALDESC:Events for American Young Coder
REFRESH-INTERVAL;VALUE=DURATION:PT1H
X-Robots-Tag:noindex
X-PUBLISHED-TTL:PT1H
BEGIN:VTIMEZONE
TZID:America/Los_Angeles
BEGIN:DAYLIGHT
TZOFFSETFROM:-0800
TZOFFSETTO:-0700
TZNAME:PDT
DTSTART:20230312T100000
END:DAYLIGHT
BEGIN:STANDARD
TZOFFSETFROM:-0700
TZOFFSETTO:-0800
TZNAME:PST
DTSTART:20231105T090000
END:STANDARD
END:VTIMEZONE
BEGIN:VEVENT
DTSTART;TZID=America/Los_Angeles:20230812T100000
DTEND;TZID=America/Los_Angeles:20230812T120000
DTSTAMP:20260425T100305
CREATED:20230812T190104Z
LAST-MODIFIED:20230812T190104Z
UID:21067-1691834400-1691841600@www.ayclogic.com
SUMMARY:10 AM - Intro To Python - Darin (Riley Class)
DESCRIPTION:What We Did Today:\n\nCovered the topic of lists\, how to modify lists by adding\, removing\, or replacing elements\nCovered the topic of for loops\, using lists as well the range function to iterate a certain number of times\nTried implementing for loops with conditionals (if statements inside of for loops)\n\nHomework:\n\nCreate a file called Aug12_ListForLoopsHW.py\nCreate an empty list\, and then add numbers from 1- 100 inclusive to the list using a for loop.\nModify the list\, doubling every value by 2.\nPrint out the first 10 elements using the range function in a for loop.\n\nNOTES:\n\nIf you have any questions\, email me at ddjapri@ayclogic.com.
URL:https://www.ayclogic.com/event/10-am-intro-to-python-darin-riley-class-2/
CATEGORIES:Python Class,Python Level 1
END:VEVENT
BEGIN:VEVENT
DTSTART;TZID=America/Los_Angeles:20230812T103000
DTEND;TZID=America/Los_Angeles:20230812T113000
DTSTAMP:20260425T100305
CREATED:20230817T205742Z
LAST-MODIFIED:20230817T205742Z
UID:21063-1691836200-1691839800@www.ayclogic.com
SUMMARY:10:30 AM - Scratch Level 2 - Alex Lee
DESCRIPTION:Today We Did:\n\nStarted the Cheese Chase project\nAdded in the mouse\, cheese and started the Ghost.\n\nFor Homework:\n\nDo page 56-57 where you will be creating the ghost.\nAlso if you have not finished drawing your cheese or maze\, do that for homework as well.
URL:https://www.ayclogic.com/event/1030-am-scratch-level-2-alex-lee/
CATEGORIES:Scratch Class,Scratch Class Level 2
END:VEVENT
BEGIN:VEVENT
DTSTART;TZID=America/Los_Angeles:20230812T140000
DTEND;TZID=America/Los_Angeles:20230812T150000
DTSTAMP:20260425T100305
CREATED:20230814T175831Z
LAST-MODIFIED:20230814T175831Z
UID:21099-1691848800-1691852400@www.ayclogic.com
SUMMARY:2 PM – Python Object Oriented Programming – Sebastian
DESCRIPTION:Today We Did\n\nContinued our Grocery System project but started implementing the class system structure\nOrganized each operation into its own method in the system class\nIn case you need anything\, feel free to email me at sebastian@ayclogic.com\n\nHomework\n\nPlease submit your homework to the corresponding project’s folder in your Google Drive\nHomework: Stop application loop when user enters any version of “check out” as the menu states. The user should be able to write any variation of “check out”\, like “CHECK OUT”\, “CHeck oUT”\, etc. and the program will still exit.
URL:https://www.ayclogic.com/event/2-pm-python-object-oriented-programming-sebastian-8/
CATEGORIES:OOP Python,Python Class
END:VEVENT
BEGIN:VEVENT
DTSTART;TZID=America/Los_Angeles:20230812T150000
DTEND;TZID=America/Los_Angeles:20230812T160000
DTSTAMP:20260425T100305
CREATED:20230814T055701Z
LAST-MODIFIED:20230814T055701Z
UID:21094-1691852400-1691856000@www.ayclogic.com
SUMMARY:3PM - Adv Python Game Development - Latisha
DESCRIPTION:Today We Did\n\nContinued working on Tower of Defense\n\nHomework\n\nAdd self.coin and self.health variables to main.py\, and show them on the screen like in the picture below. Also show the heart and gem images onto the screen.\n\n \nIf you have any questions\, please send an email to latisha@ayclogic.com
URL:https://www.ayclogic.com/event/3pm-adv-python-game-development-latisha-2/
END:VEVENT
BEGIN:VEVENT
DTSTART;TZID=America/Los_Angeles:20230812T150000
DTEND;TZID=America/Los_Angeles:20230812T160000
DTSTAMP:20260425T100305
CREATED:20230814T180210Z
LAST-MODIFIED:20230814T180210Z
UID:21101-1691852400-1691856000@www.ayclogic.com
SUMMARY:3 PM – Python Object Oriented Programming – Sebastian
DESCRIPTION:Today We Did\n\nContinued SchoolSystem project\nTook another deep dive into the differences between lists and dictionaries for the “find_student” methods.\nFull lesson on how lists and dictionaries “find” different things\, very proud of how everyone really understood why dictionaries are faster at searching!\nIn case you need anything\, feel free to email me at sebastian@ayclogic.com\n\nHomework\n\nPlease submit your homework to the corresponding project’s folder in your Google Drive (you will be uploading the entire school_system folder we made in class).\nHomework: Finish the edge cases for “find_student_dictionary method”. This means we should first check to see if the name that was provided by the user exists in our dictionary attribute. If it DOES exist\, then we can keep the code that we wrote in class. If it DOESN’T exist\, then we should provide an error message. 
URL:https://www.ayclogic.com/event/3-pm-python-object-oriented-programming-sebastian-6/
CATEGORIES:OOP Python,Python Class
END:VEVENT
BEGIN:VEVENT
DTSTART;TZID=America/Los_Angeles:20230812T160000
DTEND;TZID=America/Los_Angeles:20230812T170000
DTSTAMP:20260425T100305
CREATED:20230814T032320Z
LAST-MODIFIED:20230814T032320Z
UID:21086-1691856000-1691859600@www.ayclogic.com
SUMMARY:4 PM - Python Game Development - Bill
DESCRIPTION:Your HW:\n\nNone
URL:https://www.ayclogic.com/event/4-pm-python-game-development-bill-15/
END:VEVENT
BEGIN:VEVENT
DTSTART;TZID=America/Los_Angeles:20230812T170000
DTEND;TZID=America/Los_Angeles:20230812T180000
DTSTAMP:20260425T100305
CREATED:20230813T010259Z
LAST-MODIFIED:20230813T030832Z
UID:21073-1691859600-1691863200@www.ayclogic.com
SUMMARY:5 PM - Android Game Dev - Gamas
DESCRIPTION:Today We Did\n\nWe reviewed the GameActivity.addClickListenerToAllBoxes()\nWe started checkWinner() method.\nYou can view my latest codes in here: https://gitlab.com/gsugiart/android-tic-tac-toe/-/tree/SAT-5PM-Gamas/app/src/main/java/com/ayclogic/tictactoe?ref_type=heads\n\nHomework\n\nInside GameActivity.java\, inside checkWinner():\n\nAdd code to check the tag of the first column is the same with the tag of the 2nd column.\nAdd code to check the tag of the first column is the same with the tag of the 3nd column.\nAdd code to check the tag of the first column is NOT empty String.\nIf all three conditions above are met\, System.out.println(“We have a winner”).
URL:https://www.ayclogic.com/event/5-pm-android-game-dev-gamas-8/
CATEGORIES:Android Game Development,Java
END:VEVENT
BEGIN:VEVENT
DTSTART;TZID=America/Los_Angeles:20230812T170000
DTEND;TZID=America/Los_Angeles:20230812T180000
DTSTAMP:20260425T100305
CREATED:20230813T020747Z
LAST-MODIFIED:20230813T020747Z
UID:21071-1691859600-1691863200@www.ayclogic.com
SUMMARY:5 PM – Intro to Python – Shawn
DESCRIPTION:Today We Did\n\nReviewed variables and data types and f strings\nLearned string functions (lower\, upper\, title\, strip)\nLearned escape characters (\t\, \n\, \”)\n\nHomework\n\nName your file Aug12_StringHW.py\nOn page 25\, do TRY IT YOURSELF 2-3\, 2-4\, 2-5 and 2-6\nUpload your file to the google drive\n\nIf you have any questions\, email me at szhuang@ayclogic.com
URL:https://www.ayclogic.com/event/5-pm-intro-to-python-shawn-35/
END:VEVENT
BEGIN:VEVENT
DTSTART;TZID=America/Los_Angeles:20230812T170000
DTEND;TZID=America/Los_Angeles:20230812T180000
DTSTAMP:20260425T100305
CREATED:20230814T032721Z
LAST-MODIFIED:20230814T032721Z
UID:21088-1691859600-1691863200@www.ayclogic.com
SUMMARY:5 PM - Python Game Development - Bill
DESCRIPTION:Your HW:\n\nContinue working on your projects\nIt will be due next week (August 19th)\nAdd background music/sound effects\n\nI have shared with you the library of sound effects on google drive:\nhttps://drive.google.com/drive/folders/1C-pBPmgyG_ebObuOvyz6Vk0WrbNyvHop?usp=sharing
URL:https://www.ayclogic.com/event/5-pm-python-game-development-bill-20/
END:VEVENT
BEGIN:VEVENT
DTSTART;TZID=America/Los_Angeles:20230812T180000
DTEND;TZID=America/Los_Angeles:20230812T190000
DTSTAMP:20260425T100305
CREATED:20230813T015523Z
LAST-MODIFIED:20230813T015523Z
UID:21075-1691863200-1691866800@www.ayclogic.com
SUMMARY:6 PM - Android Game Dev - Gamas
DESCRIPTION:Today We Did\n\nWe added Setting page\, non-functional.\nWe created a new project first quiz to prepare for next week quiz.\n\nHomework\n\nNext week (08/19) is the 1st quiz.\n\nThe quiz is to create a simple Android app within 1 hour.\nPlease study: Tictactoe and TemperatureConverter.\n\n\nThe following week (08/26) homework\n\nMake the setting page functional\n\nWhen you click the blue gear icon in the main page\, make it switch the page from Main page to Setting page.\nInside Setting page\, save the Sound on and off inside the SharedPreferences. This is similar to what we did with saving first player and 2nd player names. And this is exactly what we did in Birdie Mobile game.\nPlay the music when user enters GameActivity page. Use the same music file from the Birdie Mobile game.
URL:https://www.ayclogic.com/event/6-pm-android-game-dev-gamas/
CATEGORIES:Android Game Development,Java
END:VEVENT
BEGIN:VEVENT
DTSTART;TZID=America/Los_Angeles:20230812T180000
DTEND;TZID=America/Los_Angeles:20230812T190000
DTSTAMP:20260425T100305
CREATED:20230813T020912Z
LAST-MODIFIED:20230813T020912Z
UID:21078-1691863200-1691866800@www.ayclogic.com
SUMMARY:6 PM – Scratch 1 – Yitong
DESCRIPTION:Today we:\n\nReviewed the homework\nEdited coding errors\nAdded sound to the Ask Gobo project\n\nHomework:\n\nDo everything on page 68 in the textbook\nSend it to szhuang@ayclogic.com by Friday night.
URL:https://www.ayclogic.com/event/6-pm-scratch-1-yitong-5/
END:VEVENT
BEGIN:VEVENT
DTSTART;TZID=America/Los_Angeles:20230812T190000
DTEND;TZID=America/Los_Angeles:20230812T200000
DTSTAMP:20260425T100305
CREATED:20230813T032632Z
LAST-MODIFIED:20230813T032632Z
UID:21083-1691866800-1691870400@www.ayclogic.com
SUMMARY:7 PM - Digital Illustration 2 - Abigail
DESCRIPTION:What we did today\n\nWe finished working on the Eyes drawing.\n\nHomework\n\nNo Homework!!\n\nIf you have any questions\, email me at abigail@ayclogic.com
URL:https://www.ayclogic.com/event/7-pm-digital-illustration-2-abigail-9/
CATEGORIES:Digital Illustration,Intermediate Digital Illustration
END:VEVENT
END:VCALENDAR