BEGIN:VCALENDAR
VERSION:2.0
PRODID:-//American Young Coder - ECPv6.10.1.1//NONSGML v1.0//EN
CALSCALE:GREGORIAN
METHOD:PUBLISH
X-ORIGINAL-URL:https://www.ayclogic.com
X-WR-CALDESC:Events for American Young Coder
REFRESH-INTERVAL;VALUE=DURATION:PT1H
X-Robots-Tag:noindex
X-PUBLISHED-TTL:PT1H
BEGIN:VTIMEZONE
TZID:America/Los_Angeles
BEGIN:DAYLIGHT
TZOFFSETFROM:-0800
TZOFFSETTO:-0700
TZNAME:PDT
DTSTART:20230312T100000
END:DAYLIGHT
BEGIN:STANDARD
TZOFFSETFROM:-0700
TZOFFSETTO:-0800
TZNAME:PST
DTSTART:20231105T090000
END:STANDARD
END:VTIMEZONE
BEGIN:VEVENT
DTSTART;TZID=America/Los_Angeles:20230816T180000
DTEND;TZID=America/Los_Angeles:20230816T190000
DTSTAMP:20260425T100403
CREATED:20230817T021414Z
LAST-MODIFIED:20230817T021414Z
UID:21133-1692208800-1692212400@www.ayclogic.com
SUMMARY:6 PM - Darin - Scratch 2
DESCRIPTION:What We Did Today:\n\nReviewed the final exam practice\, going over concepts like and/or\, and shooting projectiles.\n\nHomework:\n\nFinish the final practice exam (the practice exam is sent to your emails too)\nEmail the homework (share your project link) to ddjapri@ayclogic.com and allison@ayclogic.com when you finish\, and feel free to ask us for any help if you get stuck.\nReview:\n1. Spaceship\,\n2. Fireball Fight\n– HOW TO LAUNCH FIREBALL\,\n– HOW TO DELETE FIREBALL ONCE IT REACHES SIDE OF THE SCREEN\, – – HOW TO DELETE FIREBALL ONCE IT HITS THE ENEMY\,\n– MAKE SURE PLAYER CAN STILL SHOOT EVEN WHEN ON THE SIDE\n– DIFFERENCE BETWEEN AND & OR\, HOW TO CONTROL CLONE\n3. Cheese Chase (how to move sprites up and down like in the practice exam)
URL:https://www.ayclogic.com/event/6-pm-darin-scratch-2/
CATEGORIES:Scratch Class,Scratch Class Level 2
END:VEVENT
BEGIN:VEVENT
DTSTART;TZID=America/Los_Angeles:20230816T190000
DTEND;TZID=America/Los_Angeles:20230816T200000
DTSTAMP:20260425T100403
CREATED:20230817T031758Z
LAST-MODIFIED:20230817T032000Z
UID:21137-1692212400-1692216000@www.ayclogic.com
SUMMARY:7 PM - Scratch 1 - Allison
DESCRIPTION:Today we did:\n\nWe learned about the X and Y graph and how to find coordinates using it.\n\nHomework:\n\nFor Morris and Titus\, find the coordinates (or spots) of the rectangle and the triangle. Remember\, for the triangle\, the 1st point is between 40 and 60. Think about which number that is.\nFor Chelsea and Jayden\, find the coordinates of the octagon (the shape with 8 sides)\nMake sure to email me the coordinates of the shapes. For example\, (100\, 100)\, (0\, 100)\, and so on.\n\nAfter you finish your homework in Scratch\, send an email to joel@ayclogic.com before Wednesday. In that email\, If you have any problems or questions\, feel free to ask me by sending an email. to joel@ayclogic.com or gamas@ayclogic.com.
URL:https://www.ayclogic.com/event/7-pm-scratch-1-allison-3/
END:VEVENT
BEGIN:VEVENT
DTSTART;TZID=America/Los_Angeles:20230816T190000
DTEND;TZID=America/Los_Angeles:20230816T200000
DTSTAMP:20260425T100403
CREATED:20230819T235120Z
LAST-MODIFIED:20230819T235804Z
UID:21174-1692212400-1692216000@www.ayclogic.com
SUMMARY:7PM - Python Game Development - Latisha
DESCRIPTION:Today We Did\n\nFinished Dragon Birdie\nStarted working on Flappy Bird\n\nHomework\n\nNone\n\nIf you have any questions\, please send an email to latisha@ayclogic.com
URL:https://www.ayclogic.com/event/7pm-python-game-development-latisha-41/
END:VEVENT
END:VCALENDAR