BEGIN:VCALENDAR
VERSION:2.0
PRODID:-//American Young Coder - ECPv6.10.1.1//NONSGML v1.0//EN
CALSCALE:GREGORIAN
METHOD:PUBLISH
X-WR-CALNAME:American Young Coder
X-ORIGINAL-URL:https://www.ayclogic.com
X-WR-CALDESC:Events for American Young Coder
REFRESH-INTERVAL;VALUE=DURATION:PT1H
X-Robots-Tag:noindex
X-PUBLISHED-TTL:PT1H
BEGIN:VTIMEZONE
TZID:America/Los_Angeles
BEGIN:DAYLIGHT
TZOFFSETFROM:-0800
TZOFFSETTO:-0700
TZNAME:PDT
DTSTART:20230312T100000
END:DAYLIGHT
BEGIN:STANDARD
TZOFFSETFROM:-0700
TZOFFSETTO:-0800
TZNAME:PST
DTSTART:20231105T090000
END:STANDARD
END:VTIMEZONE
BEGIN:VEVENT
DTSTART;TZID=America/Los_Angeles:20230818T160000
DTEND;TZID=America/Los_Angeles:20230818T180000
DTSTAMP:20260425T110737
CREATED:20230819T010317Z
LAST-MODIFIED:20230819T010522Z
UID:21156-1692374400-1692381600@www.ayclogic.com
SUMMARY:4 PM - Intro To Java - William
DESCRIPTION:Today we did:\n\nFinished Temperature Converter Application\n\nFinished implementing Listener\nAdded Celcius to Kelvin conversion\nLive Android Demo\n\n\n\nHomework:\n\nFinish DriverSystem practice quiz by next class\n\nBe sure to upload your files to the Google Form!\n\n\n\nIf you have any questions\, please email me at williamsmith@ayclogic.com
URL:https://www.ayclogic.com/event/5pm-intro-to-java-william/
CATEGORIES:Introduction To Java,Java
END:VEVENT
BEGIN:VEVENT
DTSTART;TZID=America/Los_Angeles:20230818T170000
DTEND;TZID=America/Los_Angeles:20230818T180000
DTSTAMP:20260425T110737
CREATED:20230819T010219Z
LAST-MODIFIED:20230819T010219Z
UID:21155-1692378000-1692381600@www.ayclogic.com
SUMMARY:6 PM – Python OOP – Shawn
DESCRIPTION:Today We Did\n\nFinished Hangman\nStarted the DriverSystem practice test\n\nDid the driver class\n\n\n\nHomework\n\nFinish the New York Taxi Driver class\n\nIf you have any questions\, feel free to email me at szhuang@ayclogic.com.
URL:https://www.ayclogic.com/event/6-pm-python-oop-shawn-13/
END:VEVENT
BEGIN:VEVENT
DTSTART;TZID=America/Los_Angeles:20230818T170000
DTEND;TZID=America/Los_Angeles:20230818T180000
DTSTAMP:20260425T110737
CREATED:20230820T000726Z
LAST-MODIFIED:20230820T000726Z
UID:21177-1692378000-1692381600@www.ayclogic.com
SUMMARY:5:00 PM - Intro to Java - Alexander Lee
DESCRIPTION:Today We Did:\n\nFinished the Temperature Converter today\nAdded in the switching for when clicking on different options.\n\nFor Homework\n\nDo the practice exam I emailed you guys before the next class
URL:https://www.ayclogic.com/event/500-pm-intro-to-java-alexander-lee/
CATEGORIES:Introduction To Java,Java
END:VEVENT
BEGIN:VEVENT
DTSTART;TZID=America/Los_Angeles:20230818T201500
DTEND;TZID=America/Los_Angeles:20230818T211500
DTSTAMP:20260425T110737
CREATED:20230820T004637Z
LAST-MODIFIED:20230820T011129Z
UID:21184-1692389700-1692393300@www.ayclogic.com
SUMMARY:8:15 PM - Honor Intro to Python - William
DESCRIPTION:Today We Did\n\nLearned about variables and datatypes\nLearned about if-else statements\nLearned how to get user input\n\nHomework\nCatch up on the previous 2 homeworks: \n\nLesson 1 – Variables and Datatypes\nLesson 2 – If-Else Statements\n\nComplete as much as you can this week\, and upload your Python files to your Google Drive folder (HonorHW) before the next lesson on Monday. \nIf you have any questions\, please email me at williamsmith@ayclogic.com.
URL:https://www.ayclogic.com/event/815-pm-honor-intro-to-python-william/
CATEGORIES:Python Class,Python Level 1
END:VEVENT
END:VCALENDAR