BEGIN:VCALENDAR
VERSION:2.0
PRODID:-//American Young Coder - ECPv6.10.1.1//NONSGML v1.0//EN
CALSCALE:GREGORIAN
METHOD:PUBLISH
X-WR-CALNAME:American Young Coder
X-ORIGINAL-URL:https://www.ayclogic.com
X-WR-CALDESC:Events for American Young Coder
REFRESH-INTERVAL;VALUE=DURATION:PT1H
X-Robots-Tag:noindex
X-PUBLISHED-TTL:PT1H
BEGIN:VTIMEZONE
TZID:America/Los_Angeles
BEGIN:DAYLIGHT
TZOFFSETFROM:-0800
TZOFFSETTO:-0700
TZNAME:PDT
DTSTART:20230312T100000
END:DAYLIGHT
BEGIN:STANDARD
TZOFFSETFROM:-0700
TZOFFSETTO:-0800
TZNAME:PST
DTSTART:20231105T090000
END:STANDARD
END:VTIMEZONE
BEGIN:VEVENT
DTSTART;TZID=America/Los_Angeles:20230819T090000
DTEND;TZID=America/Los_Angeles:20230819T100000
DTSTAMP:20260425T100308
CREATED:20230820T033344Z
LAST-MODIFIED:20230825T235032Z
UID:21208-1692435600-1692439200@www.ayclogic.com
SUMMARY:9 AM - Python OOP - Gamas
DESCRIPTION:Your HW:\n\nTry running the file “Aug_18_Dictionaries”\nIf you cannot\, message Mr. Gamas to help you set up your pycharm
URL:https://www.ayclogic.com/event/7-pm-python-oop-gamas-8/
CATEGORIES:OOP Python
END:VEVENT
BEGIN:VEVENT
DTSTART;TZID=America/Los_Angeles:20230819T103000
DTEND;TZID=America/Los_Angeles:20230819T113000
DTSTAMP:20260425T100308
CREATED:20230819T184339Z
LAST-MODIFIED:20230826T183758Z
UID:21162-1692441000-1692444600@www.ayclogic.com
SUMMARY:10:30 AM – Scratch Level 2 – Yitong
DESCRIPTION:Today We:\n\nFinished the Ghost sprite.\nLearned about myBlocks\, functions\, and parameters.\n\nFor Homework:\n\nDo pages 64-65\, #33-39.\n\n \nSubmit your homework here: yitong@ayclogic.com \n\nHomework is due FRIDAY NIGHT\nMake sure to share your project\, or else I can’t see it
URL:https://www.ayclogic.com/event/1030-am-scratch-level-2-yitong-2/
CATEGORIES:Scratch Class,Scratch Class Level 2
END:VEVENT
BEGIN:VEVENT
DTSTART;TZID=America/Los_Angeles:20230819T120000
DTEND;TZID=America/Los_Angeles:20230819T130000
DTSTAMP:20260425T100308
CREATED:20230820T014400Z
LAST-MODIFIED:20230820T014400Z
UID:21192-1692446400-1692450000@www.ayclogic.com
SUMMARY:12 PM - Android Game Dev - Gamas
DESCRIPTION:Today We Did\n\nWe did 1 hour quiz today.\n\nHomework\n\nPlease do homework assignment assigned last week https://www.ayclogic.com/event/6-pm-android-game-dev-gamas/\n\n 
URL:https://www.ayclogic.com/event/12-pm-android-game-dev-gamas-9/
CATEGORIES:Android Game Development,Java
END:VEVENT
BEGIN:VEVENT
DTSTART;TZID=America/Los_Angeles:20230819T130000
DTEND;TZID=America/Los_Angeles:20230819T140000
DTSTAMP:20260425T100308
CREATED:20230819T205722Z
LAST-MODIFIED:20230819T205722Z
UID:21166-1692450000-1692453600@www.ayclogic.com
SUMMARY:1 PM - Android Game Dev - Gamas
DESCRIPTION:Today We Did\n\nWe reviewed the quiz solution.\nWe started Magic8Ball project.\n\nHomework\n\nAdd “ASK” button on the bottom of the screen. Make the color blue. And make it constraint 32 from the bottom\, left and right the screen. Make it wide button as wide as the constraints allowed.\nWhen you click the ASK button\, change the image from YES image to NO image.
URL:https://www.ayclogic.com/event/1-pm-android-game-dev-gamas-14/
CATEGORIES:Android Game Development,Java
END:VEVENT
BEGIN:VEVENT
DTSTART;TZID=America/Los_Angeles:20230819T140000
DTEND;TZID=America/Los_Angeles:20230819T150000
DTSTAMP:20260425T100308
CREATED:20230819T215707Z
LAST-MODIFIED:20230819T215707Z
UID:21168-1692453600-1692457200@www.ayclogic.com
SUMMARY:3 PM – Python Object Oriented Programming – Sebastian
DESCRIPTION:Today We Did\n\nFinished creating a full Grocery System with object oriented programming\nReviewed the important topics in object oriented programming that we’ve learned about (classes\, constructors\, attributes\, and objects)\nBegan learning about inheritance; where (child) classes can inherit the methods and attributes from another (parent) class\nIn case you need anything\, feel free to email me at sebastian@ayclogic.com\n\nHomework\n\nPlease submit your homework to the corresponding project’s folder in your Google Drive\nHomework: Please copy the code from pages 168 to 170 in the book
URL:https://www.ayclogic.com/event/3-pm-python-object-oriented-programming-sebastian-7/
CATEGORIES:OOP Python,Python Class
END:VEVENT
BEGIN:VEVENT
DTSTART;TZID=America/Los_Angeles:20230819T150000
DTEND;TZID=America/Los_Angeles:20230819T160000
DTSTAMP:20260425T100308
CREATED:20230819T225625Z
LAST-MODIFIED:20230826T215942Z
UID:21170-1692457200-1692460800@www.ayclogic.com
SUMMARY:3 PM – Python Object Oriented Programming – Sebastian
DESCRIPTION:Today We Did\n\nAdded teachers\, staff\, and classrooms to our schoolsystem project\nReviewed how to create new classes\, then add them to a dictionary\nIn case you need anything\, feel free to email me at sebastian@ayclogic.com\n\nHomework\n\nPlease submit your homework to the corresponding project’s folder in your Google Drive\nHomework: Complete the following methods that we started in class:\n– add_classroom\n– list_teacher_list\n– list_teacher_dictionary
URL:https://www.ayclogic.com/event/3-pm-python-object-oriented-programming-sebastian-8/
CATEGORIES:OOP Python,Python Class
END:VEVENT
BEGIN:VEVENT
DTSTART;TZID=America/Los_Angeles:20230819T150000
DTEND;TZID=America/Los_Angeles:20230819T160000
DTSTAMP:20260425T100308
CREATED:20230819T234934Z
LAST-MODIFIED:20230819T234934Z
UID:21172-1692457200-1692460800@www.ayclogic.com
SUMMARY:3PM - Adv Python Game Development - Latisha
DESCRIPTION:Today We Did\n\nContinued working on Tower of Defense\n\nHomework\n\nadd the other two tower types to TowerForPurchase. If the tower_type is “magic”\, use the magic-tower-game-assets/PNG/3.png and set the price to 200. If the tower_type is “spear”\, use the support-tower-game-assets/PNG/8.png and set the price to 300. Add these all near the other tower that we have made.\n\n  \nIf you have any questions\, please send an email to latisha@ayclogic.com
URL:https://www.ayclogic.com/event/3pm-adv-python-game-development-latisha-3/
END:VEVENT
BEGIN:VEVENT
DTSTART;TZID=America/Los_Angeles:20230819T160000
DTEND;TZID=America/Los_Angeles:20230819T170000
DTSTAMP:20260425T100308
CREATED:20230820T033135Z
LAST-MODIFIED:20230820T033135Z
UID:21204-1692460800-1692464400@www.ayclogic.com
SUMMARY:4 PM - Python Game Development - Bill
DESCRIPTION:Your HW:\n\nNone
URL:https://www.ayclogic.com/event/4-pm-python-game-development-bill-16/
END:VEVENT
BEGIN:VEVENT
DTSTART;TZID=America/Los_Angeles:20230819T170000
DTEND;TZID=America/Los_Angeles:20230819T180000
DTSTAMP:20260425T100308
CREATED:20230820T010217Z
LAST-MODIFIED:20230820T010253Z
UID:21187-1692464400-1692468000@www.ayclogic.com
SUMMARY:5 PM - Android Game Dev - Gamas
DESCRIPTION:Homework\n\nInside GameActivity.java\, create a new method that replace code duplication in checkWinner() method. The new method needs to have method signature like this\n\n\nprivate ImageView getBox(int row\, int col)\n\n\n\nModify checkWinner() method to check the winner vertically. This is very similar to when we check the winner horizontally.
URL:https://www.ayclogic.com/event/5-pm-android-game-dev-gamas-9/
CATEGORIES:Android Game Development,Java
END:VEVENT
BEGIN:VEVENT
DTSTART;TZID=America/Los_Angeles:20230819T170000
DTEND;TZID=America/Los_Angeles:20230819T180000
DTSTAMP:20260425T100308
CREATED:20230820T033217Z
LAST-MODIFIED:20230820T033217Z
UID:21206-1692464400-1692468000@www.ayclogic.com
SUMMARY:5 PM - Python Game Development - Bill
DESCRIPTION:Your HW:\n\nFinish your project
URL:https://www.ayclogic.com/event/5-pm-python-game-development-bill-21/
END:VEVENT
BEGIN:VEVENT
DTSTART;TZID=America/Los_Angeles:20230819T180000
DTEND;TZID=America/Los_Angeles:20230819T190000
DTSTAMP:20260425T100308
CREATED:20230820T005645Z
LAST-MODIFIED:20230820T005645Z
UID:21186-1692468000-1692471600@www.ayclogic.com
SUMMARY:5 PM – Intro to Python – Shawn
DESCRIPTION:Today We Did\n\nLearned if statements\n\nif\, elif\, else\n== vs = (comparison vs assignment)\n!= (not equals)\n< > <= >= (less than\, greater than\, less than or equal to\, greater than or equal to)\n\n\n\nHomework\n\nName your file Aug19_IfElseHW2.py\nOn page 84\, do TRY IT YOURSELF 5-3\, 5-4\nUpload your file to the google drive\n\nIf you have any questions\, email me at szhuang@ayclogic.com
URL:https://www.ayclogic.com/event/5-pm-intro-to-python-shawn-36/
END:VEVENT
BEGIN:VEVENT
DTSTART;TZID=America/Los_Angeles:20230819T180000
DTEND;TZID=America/Los_Angeles:20230819T190000
DTSTAMP:20260425T100308
CREATED:20230820T022900Z
LAST-MODIFIED:20230820T022900Z
UID:21194-1692468000-1692471600@www.ayclogic.com
SUMMARY:6 PM – Scratch 1 – Yitong
DESCRIPTION:Today we:\n\nFinished the Ask Gobo project.\nStarted the Funny Faces project.\nAdded the Head and Eyes sprite.\n\nHomework:\n\nAdd a BLANK sprite by hovering over the add sprite button. Go up and click the paintbrush.\n\n\n\n\nDraw hair using the paintbrush tool. Use the eraser tool to erase.\n\n\n\n\nFeel free to add more accessories to your character!\n\nSubmit your homework here: yitong@ayclogic.com \n\nHomework is due by FRIDAY NIGHT\nDon’t forget to share your project\, otherwise I cannot see it.\n\nFor Pahan and Sadev:\n\nHow to SAVE your project:\n\n\n\n\nHow to LOAD your project:\n\n\n\n\nHow to SUBMIT your project:
URL:https://www.ayclogic.com/event/6-pm-scratch-1-yitong-6/
CATEGORIES:Scratch Class,Scratch Class Level 1
END:VEVENT
BEGIN:VEVENT
DTSTART;TZID=America/Los_Angeles:20230819T190000
DTEND;TZID=America/Los_Angeles:20230819T200000
DTSTAMP:20260425T100308
CREATED:20230820T031035Z
LAST-MODIFIED:20230820T031035Z
UID:21201-1692471600-1692475200@www.ayclogic.com
SUMMARY:7 PM - Digital Illustration 2 - Abigail
DESCRIPTION:What we did today\n\nWe finished working on the Eyes drawing.\nWe started working on the Akito (Project Sekai) drawing.\n\nHomework\n\nFinish drawing the legs and feet using the screenshot you took.\n\nIf you have any questions\, email me at abigail@ayclogic.com
URL:https://www.ayclogic.com/event/7-pm-digital-illustration-2-abigail-10/
CATEGORIES:Digital Illustration,Intermediate Digital Illustration
END:VEVENT
END:VCALENDAR