BEGIN:VCALENDAR
VERSION:2.0
PRODID:-//American Young Coder - ECPv6.10.1.1//NONSGML v1.0//EN
CALSCALE:GREGORIAN
METHOD:PUBLISH
X-WR-CALNAME:American Young Coder
X-ORIGINAL-URL:https://www.ayclogic.com
X-WR-CALDESC:Events for American Young Coder
REFRESH-INTERVAL;VALUE=DURATION:PT1H
X-Robots-Tag:noindex
X-PUBLISHED-TTL:PT1H
BEGIN:VTIMEZONE
TZID:America/Los_Angeles
BEGIN:DAYLIGHT
TZOFFSETFROM:-0800
TZOFFSETTO:-0700
TZNAME:PDT
DTSTART:20230312T100000
END:DAYLIGHT
BEGIN:STANDARD
TZOFFSETFROM:-0700
TZOFFSETTO:-0800
TZNAME:PST
DTSTART:20231105T090000
END:STANDARD
END:VTIMEZONE
BEGIN:VEVENT
DTSTART;TZID=America/Los_Angeles:20230822T170000
DTEND;TZID=America/Los_Angeles:20230822T180000
DTSTAMP:20260425T110734
CREATED:20230823T011740Z
LAST-MODIFIED:20230823T011740Z
UID:21234-1692723600-1692727200@www.ayclogic.com
SUMMARY:5 PM - Intro to Java - William
DESCRIPTION:What we did\n\nReviewed DriverSystem\nReviewed EmailApplication for the final\n\nHomework:\nThe final on Friday will be 2 hours long. I’d recommend reviewing the following before then: \n\nMonster Inheritance (especially)\nDriver System\nBank System (from the quiz)\nList operations\n\n\nIf you have any questions\, please email me at williamsmith@ayclogic.com. \nGood luck!! \n\n 
URL:https://www.ayclogic.com/event/5-pm-intro-to-java-william-13/
CATEGORIES:Introduction To Java,Java
END:VEVENT
BEGIN:VEVENT
DTSTART;TZID=America/Los_Angeles:20230822T180000
DTEND;TZID=America/Los_Angeles:20230822T190000
DTSTAMP:20260425T110734
CREATED:20230823T020906Z
LAST-MODIFIED:20230824T193243Z
UID:21236-1692727200-1692730800@www.ayclogic.com
SUMMARY:6 PM – Intro To Python – Shawn
DESCRIPTION:Today We Did\n\nReviewed Turtle Project\nFinished Robux System\n\nHomework \n\nSubmit corrections for the Turtle project by Sunday\, 11:59pm PST! I will email you grades by Tuesday night\, let me know if you haven’t received it after then.\nNext week (08/29) is a 2-hour final exam from 6 PM to 8 PM. It will be an open book final test meaning\, you can look at all the material we have taught so far. But no looking in the Internet. If we find you are using something that we never taught before\, we could give 0 for your final test. Please study the following\n\nTurtle projects\nGrocery Shopping Cart\nRobux Shopping Cart\n\n\n\nIf you have questions\, feel free to email szhuang@ayclogic.com
URL:https://www.ayclogic.com/event/6-pm-intro-to-python-shawn-30/
END:VEVENT
BEGIN:VEVENT
DTSTART;TZID=America/Los_Angeles:20230822T180000
DTEND;TZID=America/Los_Angeles:20230822T190000
DTSTAMP:20260425T110734
CREATED:20230823T020939Z
LAST-MODIFIED:20230823T020939Z
UID:21237-1692727200-1692730800@www.ayclogic.com
SUMMARY:6 PM – Scratch 1 – Abigail
DESCRIPTION:What we did today\n\nWe started working on the Virtual Snow project.\n\nHomework\n\nDo pages 147-148 on your pink Scratch book.\n\nIf you have any questions\, email me at abigail@ayclogic.com
URL:https://www.ayclogic.com/event/6-pm-scratch-1-abigail-22/
CATEGORIES:Scratch Class,Scratch Class Level 1
END:VEVENT
BEGIN:VEVENT
DTSTART;TZID=America/Los_Angeles:20230822T183000
DTEND;TZID=America/Los_Angeles:20230822T193000
DTSTAMP:20260425T110734
CREATED:20230823T024406Z
LAST-MODIFIED:20230823T024759Z
UID:21240-1692729000-1692732600@www.ayclogic.com
SUMMARY:6:30 PM – Scratch Level 2 – Allison
DESCRIPTION:Today we:\n\nFinished coding the Checkout sprite\nFinished the Shopping Cart project\nStarted the How Old Are You? project\nCoded the Cat sprite to ask what the player’s name is\, and stored the answer in a variable\n\nImportant Reminders:\n\nAfter you finish your homework in Scratch\, send an email to allison@ayclogic.com by Monday at 8 PM. In that email\, write down your name and a link to your shared Scratch project homework. Make sure to share your Scratch project.\n\nHomework:\n\nCassie: Click on this link (Shopping Cart Project Answers) to check your Shopping Cart codes. Add or correct any codes in your project as needed.\nChristian: Add the codes in the picture below to check last week’s homework review in your Shopping Cart project\nEveryone:\n\nIn your “How Old Are You?” project:\nCode the Cat to say “Hello <name>\, welcome to AYCLogic!”\n\nHint: you will have to use two join codes\nExamples:\n\nIf the player answered their name is “Jane”\, the Cat will say:\n\n“Hello Jane\, welcome to AYCLogic!”\n\n\nIf the player answered their name is “Bob”\, the Cat will say:\n\n“Hello Bob\, welcome to AYCLogic!”\n\n\n\n\n\n\nCode the Cat sprite to ask what the player’s age is\, and store the answer in a variable called “age”\n\n\nContact us if you have any questions or need any help\n\n 
URL:https://www.ayclogic.com/event/630-pm-scratch-level-2-allison-12/
CATEGORIES:Scratch Class,Scratch Class Level 2
END:VEVENT
END:VCALENDAR