BEGIN:VCALENDAR
VERSION:2.0
PRODID:-//American Young Coder - ECPv6.10.1.1//NONSGML v1.0//EN
CALSCALE:GREGORIAN
METHOD:PUBLISH
X-WR-CALNAME:American Young Coder
X-ORIGINAL-URL:https://www.ayclogic.com
X-WR-CALDESC:Events for American Young Coder
REFRESH-INTERVAL;VALUE=DURATION:PT1H
X-Robots-Tag:noindex
X-PUBLISHED-TTL:PT1H
BEGIN:VTIMEZONE
TZID:America/Los_Angeles
BEGIN:DAYLIGHT
TZOFFSETFROM:-0800
TZOFFSETTO:-0700
TZNAME:PDT
DTSTART:20230312T100000
END:DAYLIGHT
BEGIN:STANDARD
TZOFFSETFROM:-0700
TZOFFSETTO:-0800
TZNAME:PST
DTSTART:20231105T090000
END:STANDARD
END:VTIMEZONE
BEGIN:VEVENT
DTSTART;TZID=America/Los_Angeles:20230823T180000
DTEND;TZID=America/Los_Angeles:20230823T190000
DTSTAMP:20260425T100306
CREATED:20230824T055324Z
LAST-MODIFIED:20230907T060354Z
UID:21250-1692813600-1692817200@www.ayclogic.com
SUMMARY:6 PM – Scratch Level 2 – Allison
DESCRIPTION:Today we:\n\nFinished reviewing the Practice Test\n\nHomework:\n\nCome to class 15 minutes earlier for the Final Test (Arrive at 5:45 PM)\nStudy for the Final Test (which is next week on Wednesday\, August 30)\nStudy the Practice Test answers\nIf you’d like\, you can study the resources attached below to prepare for the test\nContact us at gamas@ayclogic.com or allison@ayclogic.com if you have any questions or need any help\n\nResources:\n\nYour Practice Final Test: Google Form Link\n\nCrab Shooting Stars: https://scratch.mit.edu/projects/863877021\nBirds Flying: https://scratch.mit.edu/projects/866652013\n\n\nSpaceship 1.0: https://scratch.mit.edu/projects/266884838\nSpaceship 2.0: https://scratch.mit.edu/projects/848207249\nAnimal Crossing: https://scratch.mit.edu/projects/559936031\nDoom on the Broom: https://scratch.mit.edu/projects/679733932\nConcepts to review:\n\nHow to code a sprite to shoot fireballs\, even when the sprite is touching the side\nHow to delete the fireball when it hits the enemies or touches the edges of the screen\nBe able to tell the difference between the codes “and” vs “or”\n\n\nClick on the link below to see a picture of a coordinate plane with labeled coordinates. Make sure to memorize the coordinates (the ones in red).\n\nNumbered Shapes In Grid – Labeled
URL:https://www.ayclogic.com/event/6-pm-scratch-level-2-allison-23/
CATEGORIES:Scratch Class,Scratch Class Level 2
END:VEVENT
BEGIN:VEVENT
DTSTART;TZID=America/Los_Angeles:20230823T183000
DTEND;TZID=America/Los_Angeles:20230823T193000
DTSTAMP:20260425T100306
CREATED:20230824T023447Z
LAST-MODIFIED:20230824T023447Z
UID:21251-1692815400-1692819000@www.ayclogic.com
SUMMARY:6:30 PM - Intro to Python - Juan
DESCRIPTION:Today We Did\n\nReviewed Robot Builder HW\nLearned about drawing circles\nCreated face function\n\nHomework\n\nName your file Aug30_ManyShapes_HW.py\n\nFinish the smile for the face1 function using turtle.setheading(direction)\nCreate a letter_A() function to draw the letter A\, using 3 rectangles and turtle.setheading()
URL:https://www.ayclogic.com/event/630-pm-intro-to-python-juan-13/
CATEGORIES:Python Class,Python Level 1
END:VEVENT
BEGIN:VEVENT
DTSTART;TZID=America/Los_Angeles:20230823T190000
DTEND;TZID=America/Los_Angeles:20230823T190000
DTSTAMP:20260425T100306
CREATED:20230824T061246Z
LAST-MODIFIED:20230824T061246Z
UID:21270-1692817200-1692817200@www.ayclogic.com
SUMMARY:7 PM – Scratch Level 1 – Allison
DESCRIPTION:Today we:\n\nReviewed and continued learning about coordinates\n\nImportant Reminders:\n\nAfter you finish your homework in Scratch\, send an email to allison@ayclogic.com by Tuesday at 8 PM. In that email\, write down your name and a link to your shared Scratch project homework. Make sure to share your Scratch project.\n\nHomework:\n\nLook at the picture below. Check to see if the coordinates you wrote down on your paper for the rectangle\, triangle\, and octagon are correct. If you wrote down the wrong coordinates\, make sure to correct them.\nFind all coordinates for the square. Write down the coordinates on your paper.\nWhen you finish\, take a picture of your paper and email the picture to allison@ayclogic.com. Ask your parents\, guardians\, or family members for help emailing if needed.\nContact us at gamas@ayclogic.com or allison@ayclogic.com if you have any questions or need any help.
URL:https://www.ayclogic.com/event/7-pm-scratch-level-1-allison-9/
CATEGORIES:Scratch Class,Scratch Class Level 1
END:VEVENT
BEGIN:VEVENT
DTSTART;TZID=America/Los_Angeles:20230823T190000
DTEND;TZID=America/Los_Angeles:20230823T200000
DTSTAMP:20260425T100306
CREATED:20230829T073515Z
LAST-MODIFIED:20230829T073515Z
UID:21361-1692817200-1692820800@www.ayclogic.com
SUMMARY:7PM - Python Game Development - Latisha
DESCRIPTION:Today We Did\n\nContinued working on Flappy Bird\n\nHomework\n\nMake the Player class in player.py and use the Green duck #1-01.png and Green duck #2-01.png images to make the player flap its wings. Then make 1 player in main.py\, make the player group\, and show it on the screen.\n\nIf you have any questions\, please send an email to latisha@ayclogic.com
URL:https://www.ayclogic.com/event/7pm-python-game-development-latisha-43/
END:VEVENT
END:VCALENDAR