BEGIN:VCALENDAR
VERSION:2.0
PRODID:-//American Young Coder - ECPv6.10.1.1//NONSGML v1.0//EN
CALSCALE:GREGORIAN
METHOD:PUBLISH
X-WR-CALNAME:American Young Coder
X-ORIGINAL-URL:https://www.ayclogic.com
X-WR-CALDESC:Events for American Young Coder
REFRESH-INTERVAL;VALUE=DURATION:PT1H
X-Robots-Tag:noindex
X-PUBLISHED-TTL:PT1H
BEGIN:VTIMEZONE
TZID:America/Los_Angeles
BEGIN:DAYLIGHT
TZOFFSETFROM:-0800
TZOFFSETTO:-0700
TZNAME:PDT
DTSTART:20230312T100000
END:DAYLIGHT
BEGIN:STANDARD
TZOFFSETFROM:-0700
TZOFFSETTO:-0800
TZNAME:PST
DTSTART:20231105T090000
END:STANDARD
END:VTIMEZONE
BEGIN:VEVENT
DTSTART;TZID=America/Los_Angeles:20230831T160000
DTEND;TZID=America/Los_Angeles:20230831T170000
DTSTAMP:20260425T100309
CREATED:20230901T001151Z
LAST-MODIFIED:20230901T001151Z
UID:21406-1693497600-1693501200@www.ayclogic.com
SUMMARY:4 PM - Scratch 1 - Abigail
DESCRIPTION:What we did today\n\nWe reviewed the practice test and a bunch of other projects.\n\nHomework\n\nReview all of your projects and study for your Scratch 1 Final Test which is NEXT WEEK!!\n\nIf you have any questions\, email me at abigail@ayclogic.com
URL:https://www.ayclogic.com/event/4-pm-scratch-1-abigail-27/
CATEGORIES:Scratch Class,Scratch Class Level 1
END:VEVENT
BEGIN:VEVENT
DTSTART;TZID=America/Los_Angeles:20230831T180000
DTEND;TZID=America/Los_Angeles:20230831T190000
DTSTAMP:20260425T100309
CREATED:20230901T030408Z
LAST-MODIFIED:20230901T030408Z
UID:21408-1693504800-1693508400@www.ayclogic.com
SUMMARY:6 PM - Intro to Python - Darin
DESCRIPTION:What We Did Today:\n\nReviewed the quiz 1 content and things to remember\nIntroduced functions with no return value\, and how to use them to reduce code duplication and make things simpler\n\nHomework:\n\nPage 131 Try it yourself num 8-1 and 8-2.\nhttps://www.ayclogic.com/list-inputs-if-and-else-loops-and-function/ – number 4 to 6\n\nNOTES:\nCombination of strings is like “Hi” + ” Bye” for HW 2.
URL:https://www.ayclogic.com/event/6-pm-intro-to-python-darin-9/
CATEGORIES:Python Class,Python Level 1
END:VEVENT
BEGIN:VEVENT
DTSTART;TZID=America/Los_Angeles:20230831T190000
DTEND;TZID=America/Los_Angeles:20230831T200000
DTSTAMP:20260425T100309
CREATED:20230910T040008Z
LAST-MODIFIED:20230910T040008Z
UID:21501-1693508400-1693512000@www.ayclogic.com
SUMMARY:7PM - Python Game Development - Latisha
DESCRIPTION:Today We Did\n\nContinued working on Flappy Bird\n\nHomework\n\nMake changes to your Project Proposal Outline that I asked you to make.\nFill out Project Planning Timeline\n\nIf you have any questions\, please send an email to latisha@ayclogic.com
URL:https://www.ayclogic.com/event/7pm-python-game-development-latisha-47/
END:VEVENT
END:VCALENDAR