BEGIN:VCALENDAR
VERSION:2.0
PRODID:-//American Young Coder - ECPv6.10.1.1//NONSGML v1.0//EN
CALSCALE:GREGORIAN
METHOD:PUBLISH
X-WR-CALNAME:American Young Coder
X-ORIGINAL-URL:https://www.ayclogic.com
X-WR-CALDESC:Events for American Young Coder
REFRESH-INTERVAL;VALUE=DURATION:PT1H
X-Robots-Tag:noindex
X-PUBLISHED-TTL:PT1H
BEGIN:VTIMEZONE
TZID:America/Los_Angeles
BEGIN:DAYLIGHT
TZOFFSETFROM:-0800
TZOFFSETTO:-0700
TZNAME:PDT
DTSTART:20230312T100000
END:DAYLIGHT
BEGIN:STANDARD
TZOFFSETFROM:-0700
TZOFFSETTO:-0800
TZNAME:PST
DTSTART:20231105T090000
END:STANDARD
END:VTIMEZONE
BEGIN:VEVENT
DTSTART;TZID=America/Los_Angeles:20231106T160000
DTEND;TZID=America/Los_Angeles:20231106T170000
DTSTAMP:20260425T203659
CREATED:20231107T033605Z
LAST-MODIFIED:20231107T033605Z
UID:22494-1699286400-1699290000@www.ayclogic.com
SUMMARY:4 PM - Scratch 2 - Darin
DESCRIPTION:Did our final today! \nCheck your emails soon for your results!
URL:https://www.ayclogic.com/event/4-pm-scratch-2-darin-9/
CATEGORIES:Scratch Class,Scratch Class Level 2
END:VEVENT
BEGIN:VEVENT
DTSTART;TZID=America/Los_Angeles:20231106T170000
DTEND;TZID=America/Los_Angeles:20231106T180000
DTSTAMP:20260425T203659
CREATED:20231108T065528Z
LAST-MODIFIED:20231114T015849Z
UID:22546-1699290000-1699293600@www.ayclogic.com
SUMMARY:5 PM - Python OOP - Juan
DESCRIPTION:Today We Did\n\nReviewed last week’s homework\nBegan working on the Supermarket System\n\nHomework\n\nFinish the application loop function for the ShoppingCart class\n\nCheck the input and generate responses\nEx. if user selects 1\, display what they’re purchasing\n\n\nCreate an instance of the ShoppingCart class\n\nUse this instance to call the application loop function
URL:https://www.ayclogic.com/event/5-pm-python-oop-juan-2/
END:VEVENT
BEGIN:VEVENT
DTSTART;TZID=America/Los_Angeles:20231106T190000
DTEND;TZID=America/Los_Angeles:20231106T200000
DTSTAMP:20260425T203659
CREATED:20231107T035825Z
LAST-MODIFIED:20231107T040032Z
UID:22496-1699297200-1699300800@www.ayclogic.com
SUMMARY:7 PM – Python Game Development – Sebastian
DESCRIPTION:Today We Did\n\nCreated logic for player\, tube\, and coin collisions\nAdded modes to player for flying & dizzy\nYou can always find the code we wrote in class in my Gitlab repository here:\nhttps://gitlab.com/gsugiart/MON-7PM-FlappyBird/-/tree/Sebastian?ref_type=heads\nIn case you need anything\, feel free to email me at sebastian@ayclogic.com\n\nHomework\n\nHomework: Complete the player_coin_collision method we made in class\n\nCheck if player collided with coin\, if it did then:\n\nPlay coin sound effect\nMake score go up by 1\n\n\nThere are 2 other (very short) lines of code that this method needs\, try to figure them out based on the other collision method!\n\n\nRecall that the code we cloned doesn’t have the actual sound effects that we need to use\, you can download them\, then save them to a folder called “audio” inside of the “assets” folder. Link with audio files: https://drive.google.com/drive/folders/1qwPkQd6gop7wSgyoztWkETUf8E-1YPqv?usp=sharing
URL:https://www.ayclogic.com/event/7-pm-python-game-development-sebastian-17/
CATEGORIES:Python Class,Python Game Development
END:VEVENT
BEGIN:VEVENT
DTSTART;TZID=America/Los_Angeles:20231106T190000
DTEND;TZID=America/Los_Angeles:20231106T200000
DTSTAMP:20260425T203659
CREATED:20231107T050710Z
LAST-MODIFIED:20231107T050721Z
UID:22500-1699297200-1699300800@www.ayclogic.com
SUMMARY:7 PM - Intro to Python - William
DESCRIPTION:Today We Did\n\nReviewed Exercises 3 and 4 of Oct23_StarWars.py\nReviewed While Loops\n\nHomework\nCreate the following files: \n\nNov6_Magic8Ball.py\n\nFollow the instructions to create a Magic 8 Ball: https://www.ayclogic.com/intro-to-python/magic-8-ball\n\n\n\nIf you have any questions\, email me at williamsmith@ayclogic.com
URL:https://www.ayclogic.com/event/7-pm-intro-to-python-william-15/
CATEGORIES:Python Class,Python Level 1
END:VEVENT
BEGIN:VEVENT
DTSTART;TZID=America/Los_Angeles:20231106T190000
DTEND;TZID=America/Los_Angeles:20231106T200000
DTSTAMP:20260425T203659
CREATED:20231108T070116Z
LAST-MODIFIED:20231111T070146Z
UID:22548-1699297200-1699300800@www.ayclogic.com
SUMMARY:7:00 PM - Python OOP - Juan
DESCRIPTION:Today We Did\n\nReviewed last week’s homework and finished the School System project\nBegan working on the Library System project\nCreated the application loop\n\nHomework\n\nName your file Nov13_LibrarySystem.py and do:\n\nCreate a class book in a separate file called book.py with at least 5 attributes\nImport the book class into your file\nFinish the add_book() function:\n\nGet input for the 5 attributes\nCreate an instance of book and add it to the dictionary\ncall it in your application_loop()
URL:https://www.ayclogic.com/event/700-pm-python-oop-juan-12/
END:VEVENT
END:VCALENDAR