BEGIN:VCALENDAR
VERSION:2.0
PRODID:-//American Young Coder - ECPv6.10.1.1//NONSGML v1.0//EN
CALSCALE:GREGORIAN
METHOD:PUBLISH
X-ORIGINAL-URL:https://www.ayclogic.com
X-WR-CALDESC:Events for American Young Coder
REFRESH-INTERVAL;VALUE=DURATION:PT1H
X-Robots-Tag:noindex
X-PUBLISHED-TTL:PT1H
BEGIN:VTIMEZONE
TZID:America/Los_Angeles
BEGIN:DAYLIGHT
TZOFFSETFROM:-0800
TZOFFSETTO:-0700
TZNAME:PDT
DTSTART:20230312T100000
END:DAYLIGHT
BEGIN:STANDARD
TZOFFSETFROM:-0700
TZOFFSETTO:-0800
TZNAME:PST
DTSTART:20231105T090000
END:STANDARD
END:VTIMEZONE
BEGIN:VEVENT
DTSTART;TZID=America/Los_Angeles:20231108T183000
DTEND;TZID=America/Los_Angeles:20231108T193000
DTSTAMP:20260425T190657
CREATED:20231110T223129Z
LAST-MODIFIED:20231110T223129Z
UID:22540-1699468200-1699471800@www.ayclogic.com
SUMMARY:6:30 PM - Python OOP - Bill
DESCRIPTION:Your HW:\n\nPage 158 to 161 in your textbook
URL:https://www.ayclogic.com/event/630-pm-python-oop-bill-3/
END:VEVENT
BEGIN:VEVENT
DTSTART;TZID=America/Los_Angeles:20231108T190000
DTEND;TZID=America/Los_Angeles:20231108T200000
DTSTAMP:20260425T190657
CREATED:20231109T040624Z
LAST-MODIFIED:20231109T040624Z
UID:22522-1699470000-1699473600@www.ayclogic.com
SUMMARY:7 PM – Scratch Level 1 – Allison
DESCRIPTION:Today we:\n\nContinued the Window Cleaner project\nContinued coding the Splat sprite and clones\n\nImportant Reminders:\n\nAfter you finish your homework in Scratch\, send an email to allison@ayclogic.com by Tuesday at 8 PM. In that email\, write down your name and a link to your shared Scratch project homework. Make sure to share your Scratch project.\n\nHomework:\n\nRead and do the codes in the Scratch Book Pg. 138-139\nContact us at gamas@ayclogic.com or allison@ayclogic.com if you have any questions or need any help.
URL:https://www.ayclogic.com/event/7-pm-scratch-level-1-allison-21/
CATEGORIES:Scratch Class,Scratch Class Level 1
END:VEVENT
BEGIN:VEVENT
DTSTART;TZID=America/Los_Angeles:20231108T190000
DTEND;TZID=America/Los_Angeles:20231108T200000
DTSTAMP:20260425T190657
CREATED:20231114T034003Z
LAST-MODIFIED:20231114T034003Z
UID:22597-1699470000-1699473600@www.ayclogic.com
SUMMARY:7PM - Python Game Development - Latisha
DESCRIPTION:Today We Did\n\nReviewed project outlines\nContinued working on Shoot Balloon\n\nHomework\n\nFinish Project Planning in your project document. Link to template here: https://docs.google.com/document/d/1ZjSYrJb7VvreJexS-2BWtKKRojrwHXUIDSHk51qyJOk/edit?usp=sharing\nDownload your assets (only need to download once per group) so that I can show you how to add them to the assets directory in class.\n\nIf you have any questions\, please send an email to latisha@ayclogic.com
URL:https://www.ayclogic.com/event/7pm-python-game-development-latisha-63/
END:VEVENT
END:VCALENDAR