BEGIN:VCALENDAR
VERSION:2.0
PRODID:-//American Young Coder - ECPv6.10.1.1//NONSGML v1.0//EN
CALSCALE:GREGORIAN
METHOD:PUBLISH
X-ORIGINAL-URL:https://www.ayclogic.com
X-WR-CALDESC:Events for American Young Coder
REFRESH-INTERVAL;VALUE=DURATION:PT1H
X-Robots-Tag:noindex
X-PUBLISHED-TTL:PT1H
BEGIN:VTIMEZONE
TZID:America/Los_Angeles
BEGIN:DAYLIGHT
TZOFFSETFROM:-0800
TZOFFSETTO:-0700
TZNAME:PDT
DTSTART:20240310T100000
END:DAYLIGHT
BEGIN:STANDARD
TZOFFSETFROM:-0700
TZOFFSETTO:-0800
TZNAME:PST
DTSTART:20241103T090000
END:STANDARD
END:VTIMEZONE
BEGIN:VEVENT
DTSTART;TZID=America/Los_Angeles:20240701T110000
DTEND;TZID=America/Los_Angeles:20240701T120000
DTSTAMP:20260421T153529
CREATED:20240701T190825Z
LAST-MODIFIED:20240701T190825Z
UID:25845-1719831600-1719835200@www.ayclogic.com
SUMMARY:11 AM – Scratch 2 – Abigail
DESCRIPTION:What we did today\n\nWe started working on the Spaceship project.\n\nHomework\n\nMake 2 sprites: FirePowerUp & BombPowerUp\nHave both of the start from the top of the screen\, move downwards\, and delete itself when it reaches the bottom of the screen. (You can copy the code from the star or asteroid sprite)\nWhen either of them touch the Rocketship sprite\, have them delete themselves.\nMake 2 variables: Fireball & Bomb (they will keep track of how many fireballs and bombs you have)\nHave the variables increase by 1 everytime the PowerUp sprites touch the rocketship.\n\nIf you have any questions\, email me at abigail@ayclogic.com
URL:https://www.ayclogic.com/event/11-am-scratch-2-abigail-4/
CATEGORIES:Scratch Class,Scratch Class Level 2
END:VEVENT
END:VCALENDAR