BEGIN:VCALENDAR
VERSION:2.0
PRODID:-//American Young Coder - ECPv6.10.1.1//NONSGML v1.0//EN
CALSCALE:GREGORIAN
METHOD:PUBLISH
X-WR-CALNAME:American Young Coder
X-ORIGINAL-URL:https://www.ayclogic.com
X-WR-CALDESC:Events for American Young Coder
REFRESH-INTERVAL;VALUE=DURATION:PT1H
X-Robots-Tag:noindex
X-PUBLISHED-TTL:PT1H
BEGIN:VTIMEZONE
TZID:America/Los_Angeles
BEGIN:DAYLIGHT
TZOFFSETFROM:-0800
TZOFFSETTO:-0700
TZNAME:PDT
DTSTART:20240310T100000
END:DAYLIGHT
BEGIN:STANDARD
TZOFFSETFROM:-0700
TZOFFSETTO:-0800
TZNAME:PST
DTSTART:20241103T090000
END:STANDARD
END:VTIMEZONE
BEGIN:VEVENT
DTSTART;TZID=America/Los_Angeles:20240702T170000
DTEND;TZID=America/Los_Angeles:20240702T180000
DTSTAMP:20260421T172159
CREATED:20240703T005833Z
LAST-MODIFIED:20240703T005833Z
UID:25847-1719939600-1719943200@www.ayclogic.com
SUMMARY:5 PM - Intro To Java - Gamas
DESCRIPTION:Today We Did\n\nWe learned about inheritance in Java\nWe made Dragon class\nWe made Dragon immune to sword attack.\n\nHomework\n\nImplement fire\, water\, earth and wind magic attack\nMake Dragon immune to fire magic\, but double damage when it is attacked by water magic.\nMake Troll class and make troll resistance (1/2 damage) against earth magic attack.
URL:https://www.ayclogic.com/event/5-pm-intro-to-java-gamas-23/
END:VEVENT
BEGIN:VEVENT
DTSTART;TZID=America/Los_Angeles:20240702T190000
DTEND;TZID=America/Los_Angeles:20240702T200000
DTSTAMP:20260421T172159
CREATED:20240703T030255Z
LAST-MODIFIED:20240703T030255Z
UID:25849-1719946800-1719950400@www.ayclogic.com
SUMMARY:7 PM – Advanced Python Game Development – Sebastian
DESCRIPTION:Today We Did \n\nFinished Tower Defense Game\nStarted Tank Game\ncreated Tank and Turret\nFind the code for the Tank Game here: https://gitlab.com/latishasumardy/tankgame_tues6pm \nAYC Logic’s observed holidays: https://www.ayclogic.com/observed-holidays/\nIn case you need anything\, please email me at latisha@ayclogic.com\n\nHomework\n\nCreate a file called enemy_tank.py which uses the assets\Enemy_Tanks\Type_1\EnemyTank_1_0.png image\, and is controlled using the up-down-left-right keys to move.\nCreate the enemy_tank group in main.py\, an instance of the enemy_tank in self.enemy_tank and update the group to show the enemy tank on the screen.
URL:https://www.ayclogic.com/event/7-pm-advanced-python-game-development-sebastian-3/
END:VEVENT
END:VCALENDAR