BEGIN:VCALENDAR
VERSION:2.0
PRODID:-//American Young Coder - ECPv6.10.1.1//NONSGML v1.0//EN
CALSCALE:GREGORIAN
METHOD:PUBLISH
X-WR-CALNAME:American Young Coder
X-ORIGINAL-URL:https://www.ayclogic.com
X-WR-CALDESC:Events for American Young Coder
REFRESH-INTERVAL;VALUE=DURATION:PT1H
X-Robots-Tag:noindex
X-PUBLISHED-TTL:PT1H
BEGIN:VTIMEZONE
TZID:America/Los_Angeles
BEGIN:DAYLIGHT
TZOFFSETFROM:-0800
TZOFFSETTO:-0700
TZNAME:PDT
DTSTART:20240310T100000
END:DAYLIGHT
BEGIN:STANDARD
TZOFFSETFROM:-0700
TZOFFSETTO:-0800
TZNAME:PST
DTSTART:20241103T090000
END:STANDARD
END:VTIMEZONE
BEGIN:VEVENT
DTSTART;TZID=America/Los_Angeles:20240712T100000
DTEND;TZID=America/Los_Angeles:20240712T110000
DTSTAMP:20260421T191651
CREATED:20240712T110258Z
LAST-MODIFIED:20240712T110258Z
UID:25943-1720778400-1720782000@www.ayclogic.com
SUMMARY:10 AM - Indo - Intro to Python - Joel
DESCRIPTION:Today we did:\n\nWe learned about for-each loops.\n\nHomework:\n\nMake a new file called July12_ListHomework and do the TRY IT YOURSELF from page 42: 3-4\, 3-5\, 3-6\nMake a new file called July12_ForEachHomework and do the exercises from: https://www.ayclogic.com/animal-list-and-for-loop-exercises/\n\nIf you have any questions\, feel free to email me at joel@ayclogic.com.
URL:https://www.ayclogic.com/event/10-am-indo-intro-to-python-joel-4/
END:VEVENT
BEGIN:VEVENT
DTSTART;TZID=America/Los_Angeles:20240712T190000
DTEND;TZID=America/Los_Angeles:20240712T200000
DTSTAMP:20260421T191651
CREATED:20240713T030442Z
LAST-MODIFIED:20240713T030442Z
UID:25949-1720810800-1720814400@www.ayclogic.com
SUMMARY:7 PM - Python Game Dev - Gamas
DESCRIPTION:Today We Did\n\nWe learned how to play sound effect when player kill birds.\nWe learned about LANDING_PAGE and GAME_IN_SESSION and display Play button on the landing page.\n\nHomework\n\nIn the Landing Page.\n\nDisplay play button on the middle of the page.\nAlso display assets/birdie_title.png on top of the play button.\n\n\nIn the Game In Session\n\ncreate a new method launch_giant_fireball()\, when you click key “B” launch another fireball.\n\n\nCommit and Push your code to gitlab.\nIf you have question\, please email me at gamas@ayclogic.com
URL:https://www.ayclogic.com/event/7-pm-python-game-dev-gamas-11/
END:VEVENT
BEGIN:VEVENT
DTSTART;TZID=America/Los_Angeles:20240712T190000
DTEND;TZID=America/Los_Angeles:20240712T200000
DTSTAMP:20260421T191651
CREATED:20240714T093810Z
LAST-MODIFIED:20240714T093810Z
UID:25982-1720810800-1720814400@www.ayclogic.com
SUMMARY:7 PM - Indo - Intro to Python - Joel
DESCRIPTION:Today we did:\n\nWe continued drawing the robot.\n\n  \nHomework:\n\nContinue drawing the robot by creating a function for drawing the robot’s right arm\, similar how we did it in the class for the left arm. Draw it once on the right side of the robot.\nReview on how to make a circle function\, and how to set the angle of the arrow using t.setheading().\n\nIf you have any questions\, feel free to email me at joel@ayclogic.com.
URL:https://www.ayclogic.com/event/7-pm-indo-intro-to-python-joel-10/
END:VEVENT
END:VCALENDAR