BEGIN:VCALENDAR
VERSION:2.0
PRODID:-//American Young Coder - ECPv6.10.1.1//NONSGML v1.0//EN
CALSCALE:GREGORIAN
METHOD:PUBLISH
X-WR-CALNAME:American Young Coder
X-ORIGINAL-URL:https://www.ayclogic.com
X-WR-CALDESC:Events for American Young Coder
REFRESH-INTERVAL;VALUE=DURATION:PT1H
X-Robots-Tag:noindex
X-PUBLISHED-TTL:PT1H
BEGIN:VTIMEZONE
TZID:America/Los_Angeles
BEGIN:DAYLIGHT
TZOFFSETFROM:-0800
TZOFFSETTO:-0700
TZNAME:PDT
DTSTART:20240310T100000
END:DAYLIGHT
BEGIN:STANDARD
TZOFFSETFROM:-0700
TZOFFSETTO:-0800
TZNAME:PST
DTSTART:20241103T090000
END:STANDARD
END:VTIMEZONE
BEGIN:VEVENT
DTSTART;TZID=America/Los_Angeles:20240715T080000
DTEND;TZID=America/Los_Angeles:20240715T170000
DTSTAMP:20260421T225452
CREATED:20240716T034907Z
LAST-MODIFIED:20240716T034907Z
UID:25988-1721030400-1721062800@www.ayclogic.com
SUMMARY:5 PM - Python Game Dev - Gamas
DESCRIPTION:Today We Did\n\nWe reviewed each individual project.\nWe continued on Shoot Balloon project by making balloon move from bottom to top.\nWe reduced the Balloon hitbox so only the balloon that can be popped. The Balloon string is not part of the hitbox.\n\nHomework\nContinue working on your individual project according to the assignment listed in your project proposal. \n\n\n\nChris\n\nCrop all the 16 player images using fire alpaca for Player animation. Make the player larger like 50 X 75.\nMake the background image larger 1000 X 750.\nAdd animation for the player walking left\, right\, up and down. Look at how we did animation for dragon_birdie player.\nCrop the enemy images and put it in the project.\nCreate enemy.py create Enemy sprite.\nMake enemy appear on the screen.\n\n\nBrandon\n\nPut more description on your project proposal so people understand your game more.\nHow to win the game.\nAdd background image.\nplayer.py \n\nMake the player move by AWSD\nAdd player animation.\n\n\nprojectile.py\n\nMake the projectile appear from left or right.\nMake them move either going LEFT or RIGHT.\n\n\nAdd collision detection between player and projectile. If a player get hit\, make player’s health goes down.\n\n\nDakota\n\nAdd player projectiles.\nAdd player and enemy collision detection. Increase score.\nAdd score and display it on screen.\nPlayer and enemy projectile collision detection\, Make player disappear.\nPlayer and enemy collision detection\, Make player disappear.\nChange the player control to AWSD or arrow keys.
URL:https://www.ayclogic.com/event/5-pm-python-game-dev-gamas/
END:VEVENT
BEGIN:VEVENT
DTSTART;TZID=America/Los_Angeles:20240715T180000
DTEND;TZID=America/Los_Angeles:20240715T190000
DTSTAMP:20260421T225452
CREATED:20240716T020656Z
LAST-MODIFIED:20240716T020656Z
UID:25984-1721066400-1721070000@www.ayclogic.com
SUMMARY:6 PM - Intro To Python - Gamas
DESCRIPTION:Today We Did\n\nWe learned about For loop in range.\nWe learned about while loop.\n\nHomework\n\nCreate july_15_while_loop_hw.py\n\nCopy codes from Page 118 and 121\n\n\nCreate july_15_tell_me_your_age_2.py.\n\nCopy your codes from the previous homework\nAnd then put it inside forever loop (while True)
URL:https://www.ayclogic.com/event/6-pm-intro-to-python-gamas-30/
END:VEVENT
BEGIN:VEVENT
DTSTART;TZID=America/Los_Angeles:20240715T190000
DTEND;TZID=America/Los_Angeles:20240715T200000
DTSTAMP:20260421T225452
CREATED:20240716T033148Z
LAST-MODIFIED:20240716T033148Z
UID:25986-1721070000-1721073600@www.ayclogic.com
SUMMARY:7 PM - Intro To Java - Darin
DESCRIPTION:Gamas Sub \nToday We Did\n\nWe reviewed how to use Map / HashMap.\nWe created a new Java project in IntelliJ and copied SchoolSystem files into this new project.\nWe added new Map<String\, Student> to school system and added\n\nAdded student into the Map and List inside “1. Add a student” and added these 2 new features\n\n\n9. Find student using Map\n10. List All students using Map \n\n \n\n\n\nHomework\nAdd new features on SchoolSystem \n\nAdd new Map<String\, Teacher> to school system.\nAdd these 3 new features\n\n\n11. Edit student using Map\n12. Find teacher using Map\n13. List all teachers using Map
URL:https://www.ayclogic.com/event/7-pm-intro-to-java-darin-7/
END:VEVENT
BEGIN:VEVENT
DTSTART;TZID=America/Los_Angeles:20240715T193000
DTEND;TZID=America/Los_Angeles:20240715T203000
DTSTAMP:20260421T225452
CREATED:20240720T170749Z
LAST-MODIFIED:20240720T170749Z
UID:26046-1721071800-1721075400@www.ayclogic.com
SUMMARY:7:30 PM - Python Game Development - Bill
DESCRIPTION:Your HW:\n\nAdd more detail to your proposal and work on laying out the work that needs to be done to finish your project for the next 9 weeks\nLook for what assets you want in the following websites:\n\nhttps://opengameart.org/ (free)\nhttps://graphicriver.net/game-assets (paid)\nhttps://audiojungle.net/ (paid)
URL:https://www.ayclogic.com/event/730-pm-python-game-development-bill-20/
END:VEVENT
END:VCALENDAR